Workbook
Name OLE_LINK1: '汇总表 (2)'!#REF!

Sheet 汇总表 (2)
A1: 学院推荐项目汇总表
A2: 序号 | B2: 学院 | C2: 项目名称 | D2: 指导教师 | E2: 职称 | F2: 学生负责人 | G2: 学号 | H2: 参与人数 | I2: 申报类别 | J2: 备注
A3: 1 | B3: 电气工程学院 | C3: 计及光储接入的双流制牵引供电系统能量路由器潮流优化与控制研究 | D3: 陈民武 | E3: 教授 | F3: 崔钰璇 | G3: 2022111671 | H3: =VLOOKUP(G3,Sheet1!H:I,2,FALSE) -> 5 | I3: 国创 | J3: 学校奖励指标：2023中国国际大学生创新大赛国家级银奖（主赛道），陈民武团队
A4: 2 | B4: 电气工程学院 | C4: 面向工业自动化的机器人的自主运行系统的设计与实现 | D4: 王青元 | E4: 高级工程师 | F4: 何信宽 | G4: 2022111628 | H4: =VLOOKUP(G4,Sheet1!H:I,2,FALSE) -> 5 | I4: 省创 | J4: 学校奖励指标：2023中国国际大学生创新大赛国家级银奖（主赛道），陈民武团队
A5: 3 | B5: 电气工程学院 | C5: 基于ADMM算法的微电网群能量交互策略研究 | D5: 陈民武 | E5: 教授 | F5: 秦卓绚 | G5: 2022111390 | H5: =VLOOKUP(G5,Sheet1!H:I,2,FALSE) -> 5 | I5: 省创 | J5: 学校奖励指标：2023中国国际大学生创新大赛国家级银奖（主赛道），陈民武团队
A6: 4 | B6: 电气工程学院 | C6: 牵引网双边供电技术研究 | D6: 张丽艳 | E6: 副教授 | F6: 温天智 | G6: 2022111675 | H6: =VLOOKUP(G6,Sheet1!H:I,2,FALSE) -> 4 | I6: 省创 | J6: 学校奖励指标：2023中国国际大学生创新大赛国家级铜奖（主赛道），陈民武团队
A7: 5 | B7: 电气工程学院 | C7: 基于改进PSO算法的双流制牵引供电系统优化控制研究 | D7: 解绍锋 | E7: 教授 | F7: 郭昌昊 | G7: 2023111549 | H7: =VLOOKUP(G7,Sheet1!H:I,2,FALSE) -> 4 | I7: 省创 | J7: 学校奖励指标：2023中国国际大学生创新大赛国家级铜奖（主赛道），陈民武团队
A8: 6 | B8: 电气工程学院 | C8: 多堆混合电解制氢系统协调控制方法研究 | D8: 韩莹 | E8: 副教授 | F8: 郭伟韬 | G8: 2022114934 | H8: =VLOOKUP(G8,Sheet1!H:I,2,FALSE) -> 4 | I8: 省创 | J8: 学校奖励指标：2023中国国际大学生创新大赛国家级铜奖（主赛道），何正友团队
A9: 7 | B9: 电气工程学院 | C9: 面向医疗移植领域的一种新型CPT供电设计 | D9: 周玮 | E9: 副研究员 | F9: 邓诗旭 | G9: 2022110797 | H9: =VLOOKUP(G9,Sheet1!H:I,2,FALSE) -> 4 | I9: 省创 | J9: 学校奖励指标：2023中国国际大学生创新大赛国家级铜奖（主赛道），何正友团队
A10: 8 | B10: 电气工程学院 | C10: 基于多模态MRI的致心率失常性右心室心肌病诊断研究 | D10: 秦娜 | E10: 副教授 | F10: 刘佳奇 | G10: 2022111784 | H10: =VLOOKUP(G10,Sheet1!H:I,2,FALSE) -> 5 | I10: 省创 | J10: 学校奖励指标：2023中国国际大学生创新大赛国家级铜奖（主赛道），黄德青团队
A11: 9 | B11: 电气工程学院 | C11: 迷你接触网腕臂绝缘子擦拭机器人研制 | D11: 黄德青 | E11: 教授 | F11: 李夏泠 | G11: 2022115963 | H11: =VLOOKUP(G11,Sheet1!H:I,2,FALSE) -> 3 | I11: 省创 | J11: 学校奖励指标：2023中国国际大学生创新大赛国家级铜奖（主赛道），黄德青团队
A12: 10 | B12: 电气工程学院 | C12: 磁滞效应下的气隙辨识与无传感器电磁悬浮控制 | D12: 董金文 | E12: 讲师 | F12: 谌岑睿 | G12: 2022111599 | H12: =VLOOKUP(G12,Sheet1!H:I,2,FALSE) -> 5 | I12: 国创 | J12: 国创
A13: 11 | B13: 电气工程学院 | C13: 接触网检修机器人数字孪生系统设计与实现 | D13: 赵舵 | E13: 副教授 | F13: 朱子清 | G13: 2022115911 | H13: =VLOOKUP(G13,Sheet1!H:I,2,FALSE) -> 5 | I13: 国创 | J13: 国创
A14: 12 | B14: 电气工程学院 | C14: 接触网绝缘子擦拭末端执行器设计 | D14: 秦娜 | E14: 副教授 | F14: 刘曦扬 | G14: 2022111802 | H14: =VLOOKUP(G14,Sheet1!H:I,2,FALSE) -> 5 | I14: 国创 | J14: 国创
... A82: 80 | B82: 电气工程学院 | C82: 基于加速度安全系统和履带轮式复合型爬楼机器人的设计与实现 | D82: 邱忠才 | E82: 高级实验师 | F82: 冯强 | G82: 2022111645 | H82: =VLOOKUP(G82,Sheet1!H:I,2,FALSE) -> 5 | I82: 校级 | J82: 校级

Sheet Sheet1
A1: 学院推荐项目汇总表
A2: 序号 | B2: 分组 | C2: 组序号 | D2: 项目名称 | E2: 指导教师 | F2: 职称 | G2: 学生负责人 | H2: 学号 | I2: 参与人数 | J2: 项目排序 | K2: 申报类别 | L2: 备注
A3: 1 | B3: 第1组 时间：5月16日 15:00 地点X2222 | C3: 1 | D3: 微波无线输能系统中的宽动态范围微带整流器研究 | E3: 艾竞 | F3: 讲师 | G3: 孟泽皓 | H3: 2023115795 | I3: 3 | K3: 省创
A4: 2 | C4: 2 | D4: 接触网零部件失效预防知识图谱设计与实现 | E4: 陈德明 | F4: 副教授 | G4: 杨诗雨 | H4: 2022111620 | I4: 5 | K4: 省创
A5: 3 | C5: 3 | D5: 储能电池全寿命周期大数据人工智能研究 | E5: 陈奎 | F5: 教授 | G5: 宋权增 | H5: 2023111722 | I5: 4 | K5: 省创
A6: 4 | C6: 4 | D6: 磁滞效应下的气隙辨识与无传感器电磁悬浮控制 | E6: 董金文 | F6: 讲师 | G6: 谌岑睿 | H6: 2022111599 | I6: 5 | K6: 省创
A7: 5 | C7: 5 | D7: 基于图神经网络的分布式光伏出力预测方法研究 | E7: 范文礼 | F7: 讲师 | G7: 梁逸航 | H7: 2022111400 | I7: 4 | K7: 省创
A8: 6 | C8: 6 | D8: 阴极开放式氢燃料电池发电系统效率优化控制方法研究 | E8: 尹良震 | F8: 讲师 | G8: 林延志 | H8: 2022111631 | I8: 5 | K8: 省创
A9: 7 | C9: 7 | D9: AC-DC-AC变流器健康状态监测研究 | E9: 葛兴来 | F9: 教授 | G9: 吴尘骁 | H9: 2022114950 | I9: 4 | K9: 省创
A10: 8 | C10: 8 | D10: 锂离子电池健康状态迁移评估方法研究 | E10: 苟斌 | F10: 副教授 | G10: 李徽 | H10: 2022111372 | I10: 4 | K10: 省创
A11: 9 | C11: 9 | D11: 高速列车车顶绝缘子电场-流场协同优化方法 | E11: 郭裕钧 | F11: 副教授 | G11: 万语忱 | H11: 2022111447 | I11: 5 | K11: 省创
A12: 10 | C12: 10 | D12: 基于LIBS技术对铁路接触网疲劳程度的检测 | E12: 魏文赋 | F12: 教授 | G12: 张凯瑞 | H12: 2022114432 | I12: 5 | K12: 省创
A13: 11 | C13: 11 | D13: 柔性交流牵引供电系统节能控制技术研究 | E13: 何晓琼 | F13: 教授 | G13: 王欣怡 | H13: 2022111638 | I13: 5 | K13: 省创
A14: 12 | C14: 12 | D14: 柔性直流牵引供电系统节能控制技术研究 | E14: 何晓琼 | F14: 教授 | G14: 曾智兴 | H14: 2022111461 | I14: 5 | K14: 省创
A15: 13 | C15: 13 | D15: 家用新能源接入变流器设计 | E15: 何晓琼 | F15: 教授 | G15: 李清勇 | H15: 2022110231 | I15: 5 | K15: 省创
... A29: 27 | C29: 27 | D29: 水底智能清扫机器人 | E29: 罗成 | F29: 高级实验师 | G29: 杨翔 | H29: 2022111535 | I29: 5 | K29: 省创
A30: 28 | B30: 第2组 时间：5月16日 15:00 地点：X2223 | C30: 1 | D30: 基于EKF算法的电动汽车锂电池SOC和SOH联合估算 | E30: 雷鸣 | F30: 副研究员 | G30: 康铭晨 | H30: 2022116858 | I30: 5 | K30: 省创
A31: 29 | C31: 2 | D31: 基于加速度安全系统和履带轮式复合型爬楼机器人的设计与实现 | E31: 邱忠才 | F31: 高级实验师 | G31: 冯强 | H31: 2022111645 | I31: 5 | K31: 省创
A32: 30 | C32: 3 | D32: 基于Hololens2的实时目标检测 | E32: 苏虎 | F32: 副教授 | G32: 杜恒峰 | H32: 2022111776 | I32: 4 | K32: 省创
A33: 31 | C33: 4 | D33: 数字化身的动作与表情识别与实时驱动 | E33: 苏虎 | F33: 副教授 | G33: 肖颖 | H33: 2022111814 | I33: 5 | K33: 省创
A34: 32 | C34: 5 | D34: 车站巡检及犯罪分子排查机器人 | E34: 孙永奎 | F34: 讲师 | G34: 夏明烨 | H34: 2022111816 | I34: 4 | K34: 省创
A35: 33 | C35: 6 | D35: 基于温敏参数的SiC器件结温监测研究 | E35: 王惠民 | F35: 讲师 | G35: 阙锐 | H35: 2022111505 | I35: 4 | K35: 省创
A36: 34 | C36: 7 | D36: 基于视觉导航的四足机器人设计与算法控制 | E36: 黄德青 | F36: 教授 | G36: 王子恒 | H36: 2021110573 | I36: 5 | K36: 省创
A37: 35 | C37: 8 | D37: 关于重载列车黏着控制器的设计与实现 | E37: 王嵩 | F37: 副教授 | G37: 朱悦宁 | H37: 2022115932 | I37: 5 | K37: 省创
A38: 36 | C38: 9 | D38: 面向高速铁路牵引变电所巡检作业的机器人运动规划方法研究 | E38: 王涛 | F38: 教授 | G38: 胡泽邦 | H38: 2022111693 | I38: 4 | K38: 省创
A39: 37 | C39: 10 | D39: 氢燃料电池混合动力系统能量管理研究 | E39: 王天宏 | F39: 讲师 | G39: 刘妍君 | H39: 2022116849 | I39: 5 | K39: 省创
A40: 38 | C40: 11 | D40: 多堆燃料电池性能一致性控制方法研究 | E40: 王天宏 | F40: 讲师 | G40: 张烨 | H40: 2022111641 | I40: 5 | K40: 省创
A41: 39 | C41: 12 | D41: 基于高温超导技术的机械天线可行性研究 | E41: 王豫 | F41: 教授 | G41: 潘林坤 | H41: 2022115897 | I41: 4 | K41: 省创
A42: 40 | C42: 13 | D42: 多堆混合电解制氢系统协调控制方法研究 | E42: 韩莹 | F42: 副教授 | G42: 郭伟韬 | H42: 2022114934 | I42: 4 | K42: 省创
... A57: 55 | C57: 28 | D57: 基于在线式EIS检测的锂电池安全与寿命评估系统 | E57: 胡海涛 | F57: 教授 | G57: 杨宏煜 | H57: 2022110281 | I57: 5 | K57: 省创
A58: 56 | B58: 第3组 时间：5月16日 15:00 地点：X2224 | C58: 1 | D58: 计及光储接入的双流制牵引供电系统能量路由器潮流优化与控制研究 | E58: 陈民武 | F58: 教授 | G58: 崔钰璇 | H58: 2022111671 | I58: 5 | K58: 国创（带帽）
A59: 57 | C59: 2 | D59: 基于ADMM算法的微电网群能量交互策略研究 | E59: 陈民武 | F59: 教授 | G59: 秦卓绚 | H59: 2022111390 | I59: 5 | K59: 省创（带帽）
A60: 58 | C60: 3 | D60: 基于改进PSO算法的双流制牵引供电系统优化控制研究 | E60: 解绍锋 | F60: 教授 | G60: 郭昌昊 | H60: 2023111549 | I60: 4 | K60: 省创（带帽）
A61: 59 | C61: 4 | D61: 面向工业自动化的机器人的自主运行系统的设计与实现 | E61: 王青元 | F61: 高级工程师 | G61: 何信宽 | H61: 2022111628 | I61: 5 | K61: 省创（带帽）
A62: 60 | C62: 5 | D62: 牵引网双边供电技术研究 | E62: 张丽艳 | F62: 副教授 | G62: 温天智 | H62: 2022111675 | I62: 4 | K62: 省创（带帽）
A63: 61 | C63: 6 | D63: 面向医疗移植领域的一种新型CPT供电设计 | E63: 周玮 | F63: 副研究员 | G63: 邓诗旭 | H63: 2022110797 | I63: 4 | K63: 省创（带帽）
A64: 62 | C64: 7 | D64: 分布式新能源接入的中压直流牵引供电系统模拟实验平台 | E64: 李勇 | F64: 副教授 | G64: 贺子雄 | H64: 2022111706 | I64: 5 | K64: 省创（带帽）
A65: 63 | C65: 8 | D65: 基于多模态MRI的致心率失常性右心室心肌病诊断研究 | E65: 秦娜 | F65: 副教授 | G65: 刘佳奇 | H65: 2022111784 | I65: 5 | K65: 省创（带帽）
A66: 64 | C66: 9 | D66: 迷你接触网腕臂绝缘子擦拭机器人研制 | E66: 黄德青 | F66: 教授 | G66: 李夏泠 | H66: 2022115963 | I66: 3 | K66: 省创（带帽）
A67: 65 | C67: 10 | D67: 定位器线夹疲劳特性研究 | E67: 罗成 | F67: 高级实验师 | G67: 刘彦泽 | H67: 2022111670 | I67: 3 | K67: 校级
A68: 66 | C68: 11 | D68: 电流对受电弓碳滑板摩耗影响规律研究 | E68: 罗成 | F68: 高级实验师 | G68: 杨皓翔 | H68: 2022111785 | I68: 5 | K68: 校级
A69: 67 | C69: 12 | D69: 基于深度学习模型的电动汽车灵活资源精准评估方法 | E69: 王波 | F69: 讲师 | G69: 刘翰林 | H69: 2022111659 | I69: 4 | K69: 校级
A70: 68 | C70: 13 | D70: 锁相同步设备暂态稳定动力学特性分析 | E70: 王波 | F70: 讲师 | G70: 杨仕成 | H70: 2022111637 | I70: 5 | K70: 校级
... A77: 75 | C77: 20 | D77: 基于stm32的永磁同步直线电机无线通信数据采集技术研究 | E77: 郭冀岭 | F77: 讲师 | G77: 魏洋 | H77: 2022111717 | I77: 5 | K77: 校级
A78: 76 | B78: 第4组 时间：5月16日 15:00 地点：X2225 | C78: 1 | D78: 油浸式变压器温升特性分析及散热结构优化 | E78: 郭裕钧 | F78: 副教授 | G78: 王子豪 | H78: 2022111484 | I78: 5 | K78: 校级
A79: 77 | C79: 2 | D79: 基于高光谱阴影恢复技术的复合绝缘子紫外老化状态评估方法 | E79: 郭裕钧 | F79: 副教授 | G79: 杨佳弋 | H79: 2022114549 | I79: 4 | K79: 校级
A80: 78 | C80: 3 | D80: 基于图像识别对比的接触网支持装置运行状态检测研究 | E80: 韩峰 | F80: 讲师 | G80: 程巧儿 | H80: 2022111665 | I80: 4 | K80: 校级
A81: 79 | C81: 4 | D81: 电磁感应式接触网除冰关键参数研究 | E81: 韩峰 | F81: 讲师 | G81: 刘子健 | H81: 2022111673 | I81: 4 | K81: 校级
A82: 80 | C82: 5 | D82: 基于激光测量技术的刚性接触网磨耗测量装置设计 | E82: 韩峰 | F82: 讲师 | G82: 李其江 | H82: 2022110262 | I82: 5 | K82: 校级
A83: 81 | C83: 6 | D83: 心脏能量收集发电装置研究 | E83: 曾怡达 | F83: 副教授 | G83: 谢季坤 | H83: 2022111459 | I83: 4 | K83: 校级
A84: 82 | C84: 7 | D84: 考虑多能互补的新型配电网优化配置研究 | E84: 曾怡达 | F84: 副教授 | G84: 徐武祎 | H84: 2022111824 | I84: 5 | K84: 校级
A85: 83 | C85: 8 | D85: 计及分布式电源和多元负荷的新型配电网控制策略研究 | E85: 曾怡达 | F85: 副教授 | G85: 付顺意 | H85: 2022111414 | I85: 5 | K85: 校级
A86: 84 | C86: 9 | D86: 基于STM32U5的智能游泳溺水监测救援系统 | E86: 潘育山 | F86: 副教授 | G86: 柴俊祺 | H86: 2022111630 | I86: 5 | K86: 校级
A87: 85 | C87: 10 | D87: 基于STM32的智能传感无人机的设计与制作 | E87: 潘育山 | F87: 副教授 | G87: 郭峻廷 | H87: 2022111509 | I87: 5 | K87: 校级
A88: 86 | C88: 11 | D88: 现代智能家居——宠物智能养护一体化设备 | E88: 潘育山 | F88: 副教授 | G88: 胡康乐 | H88: 2022111419 | I88: 5 | K88: 校级
A89: 87 | C89: 12 | D89: HUD车载抬头显示器的应用研究与拓展设计 | E89: 邱忠才 | F89: 高级实验师 | G89: 柏瑶雪 | H89: 2022111837 | I89: 4 | K89: 校级
A90: 88 | C90: 13 | D90: 自循迹垃圾收集小车——清洁哨兵 | E90: 孙鹏飞 | F90: 副教授 | G90: 姚智杰 | H90: 2023111567 | I90: 5 | K90: 校级
... A97: 95 | C97: 20 | D97: 面向区域综合能源系统的电-氢共享储能容量优化配置 | E97: 李奇 | F97: 教授 | G97: 吴欣宇 | H97: 2022111394 | I97: 5 | K97: 校级
