Workbook
Name EI: Sheet1!$E$6:$E$7
Name JCR分区: Sheet1!$E$2:$E$7
Name SCI分区: 填报页!$W$6:$W$25
Name 核心判定: Sheet1!$C$9
Name 论文级别: 填报页!$V$6:$V$25
Name 无: Sheet1!$E$7
Name 无JCR三四区: Sheet1!$E$18:$E$21
Name 无JCR四区: Sheet1!$E$11:$E$15
Name 无核心: Sheet1!$C$6:$C$8
Name 有核心: Sheet1!$C$2:$C$5
Name 中文核心: Sheet1!$E$7

Sheet 填报页
A1: 序号 | B1: 学号 | C1: 姓名 | D1: 专业名称 | E1: 电话 | F1: 导师 | G1: 学术成果 | M1: 总分 | N1: 课程加权平均分M1 | O1: 科研论文论文M2(JCR三区、四区的最多合计认定2篇，其中JCR四区的最多认定1篇) | Y1: 科技发明M3 | AE1: 各类学科竞赛M4 | AJ1: 各类科研荣誉M5 | AO1: 出国外语加分M6
G2: 论文、专著及各种检索、科研成果、专利、学术活动、科技活动及竞赛获奖 | N2: 课程加权平均分 | O2: 论文题目 | P2: 全部作者 | Q2: 本人排名 | R2: 期刊全名（不得使用缩写） | S2: 年, 卷(期): 页码范围 | T2: 论文状态 | U2: 论文发表/录用(仅硕士)时间 | V2: 论文级别 | W2: 高水平论文加分 | X2: 支撑材料编号 | Y2: 专利类别（发明专利、实用新型专利） | Z2: 专利名称 | AA2: 专利授权日期 | AB2: 全部作者 | AC2: 本人排名 | AD2: 支撑材料编号 | AE2: 科技竞赛活动名称 | AF2: 获奖证书日期 | AG2: 科技竞赛获奖类型 | AH2: 获奖级别（国家级、省部级、校级） | AI2: 支撑材料编号 | AJ2: 成果名称 | AK2: 荣誉称号日期 | AL2: 科研荣誉类型 | AM2: 获奖级别（国家级、省部级、校级） | AN2: 支撑材料编号 | AO2: 外语考试类型 | AP2: 成绩取得日期 | AQ2: 成绩有效截止期 | AR2: 支撑材料编号
G3: M1 | H3: M2 | I3: M3 | J3: M4 | K3: M5 | L3: M6
B4: 注意：有下拉选项的必须从选项中选取， | C4: 学号、姓名、专业、电话、导师在序号1所在行填写 | G4: =IFERROR(70+G6,"") -> 70 | H4: =SUM(H6:$H25) -> 0 | I4: =IF(SUM(I6:I25)>3,3,SUM(I6:I25)) -> 0 | J4: =SUM(J6:J25) -> 0 | K4: =SUM(K6:K25) -> 0 | L4: =SUM(L6:L25) -> 0 | M4: =SUM(G4:L4) -> 70 | N4: 填入本人课程加权平均分 | P4: 若有导师第1作者本人第2作者论文或者专利请在序号1所在行填写 | Q4: 从下拉选项中选择，未涉及选无 | R4: 论文级别中的高水平EI论文指发表在最新版《西南交通大学术期刊分级目录（工科类）》、《西南交通大学学术训练标准及创新成果标准（机械工程分委会）》所含期刊上的EI论文 | T4: 从下拉选项中选择，未涉及选无 | V4: 从下拉选项中选择，未涉及选无 | W4: 从下拉选项中选择，未涉及选无,若选错可按Del键重置选项 | Y4: 从下拉选项中选择，未涉及选无 | AB4: 若有导师第1作者本人第2作者论文或者专利请在序号1所在行填写 | AC4: 从下拉选项中选择，未涉及选无 | AG4: 从下拉选项中选择，未涉及选无 | AH4: 从下拉选项中选择，未涉及选无 | AL4: 从下拉选项中选择，未涉及选无 | AM4: 从下拉选项中选择，未涉及选无 | AO4: 从下拉选项中选择，未涉及选无
A5: 填写范例(注意：不要在范例这行填写) | B5: 2019201699 | C5: 张三 | D5: 车辆工程 | E5: 1739318XXXX | F5: XXX | G5: 无需填写会根据后面选项自动计算 | H5: 无需填写会根据后面选项自动计算 | I5: 无需填写会根据后面选项自动计算 | J5: 无需填写会根据后面选项自动计算 | K5: 无需填写会根据后面选项自动计算 | L5: 无需填写会根据后面选项自动计算 | M5: 无需填写会根据后面选项自动计算 | N5: 85 | O5: 缺陷尺寸对铝合金疲劳性能的影响研究 | P5: 张三, 李四, 王五, 赵六 | Q5: 第1作者 | R5: 机械工程学报 | S5: 2020,47(05):32-55 | T5: 正式发表(含online) | U5: 44044 | V5: EI | W5: 高水平EI论文 | X5: M2-1 | Y5: 获授权的发明专利 | Z5: 一种铁路交通道轨液压弯轨器 | AA5: 43831 | AB5: 张三, 李四, 王五, 赵六 | AC5: 导师第1作者、本人第2作者 | AD5: M3-1 | AE5: 第十三届全国研究生数学建模竞赛 | AF5: 44501 | AG5: 个人 | AH5: 省部级竞赛二等奖 | AI5: M4-1 | AJ5: 有限数据下的结构疲劳断裂性能研究 | AK5: 44317 | AL5: 团队 | AM5: 成都市或相当城市市级类荣誉称号 | AN5: M5-1 | AO5: 雅思≥6.5 | AP5: 44348 | AQ5: 45078 | AR5: M6-1
A6: 1 | G6: =IF(N6="","",IFERROR(($N6-70)*0.2,"")) -> 0 | H6: =IF(IF(V6="",0,1)*IF(W6="",0,1)*IF(O6="",0,1)*IF(P6="",0,1)*IF(R6="",0,1)*IF(S6="",0,1)*IF(T6="",0,1)*IF(U6="",0,1)*IF(X6="",0,1)*IFERROR(VLOOKUP($Q6,Sheet1!$A$2:$B$4,2,0),0)*IFERROR(VLOOKUP($T6,Sheet1!$U$2:$V$4,2,0),0)*(IFERROR(VLOOKUP($V6,Sheet1!$C$2:$D$5,2,0),0)+IFERROR(VLOOKUP(W6,Sheet1!$E$2:$F$7,2,0),0))>0,IFERROR(VLOOKUP($Q6,Sheet1!$A$2:$B$4,2,0),0)*(IFERROR(VLOOKUP($V6,Sheet1!$C$2:$D$5,2,0),0)+IFERROR(VLOOKUP(W6,Sheet1!$E$2:$F$7,2,0),0)),"") | I6: =IF(IF(Z6="",0,1)*IF(AA6="",0,1)*IF(AB6="",0,1)*IF(AD6="",0,1)*IFERROR(VLOOKUP($Y6,Sheet1!$G$2:$H$4,2,0),0)*IFERROR(VLOOKUP($AC6,Sheet1!$I$2:$J$4,2,0),0)>0,IFERROR(VLOOKUP($Y6,Sheet1!$G$2:$H$4,2,0),0)*IFERROR(VLOOKUP($AC6,Sheet1!$I$2:$J$4,2,0),0),"") | J6: =IF(IF(AE6="",0,1)*IF(AF6="",0,1)*IF(AI6="",0,1)*IFERROR(VLOOKUP($AG6,Sheet1!$K$2:$L$4,2,0),0)*IFERROR(VLOOKUP($AH6,Sheet1!$M$2:$N$10,2,0),0)>0,IFERROR(VLOOKUP($AG6,Sheet1!$K$2:$L$4,2,0),0)*IFERROR(VLOOKUP($AH6,Sheet1!$M$2:$N$10,2,0),0),"") | K6: =IF(IF(AJ6="",0,1)*IF(AK6="",0,1)*IF(AN6="",0,1)*IFERROR(VLOOKUP($AL6,Sheet1!$O$2:$P$4,2,0),0)*IFERROR(VLOOKUP($AM6,Sheet1!$Q$2:$R$7,2,0),0)>0,IFERROR(VLOOKUP($AL6,Sheet1!$O$2:$P$4,2,0),0)*IFERROR(VLOOKUP($AM6,Sheet1!$Q$2:$R$7,2,0),0),"") | L6: =IF(IF(AP6="",0,1)*IF(AQ6="",0,1)*IF(AR6="",0,1)*IFERROR(VLOOKUP($AO6,Sheet1!$S$2:$T$4,2,0),0)>0,IFERROR(VLOOKUP($AO6,Sheet1!$S$2:$T$4,2,0),0),"") | N6: 70 | X6: M2-1 | AD6: M3-1 | AI6: M4-1 | AN6: M5-1 | AR6: M6-1
A7: 2 | H7: =IF(IF(V7="",0,1)*IF(W7="",0,1)*IF(O7="",0,1)*IF(P7="",0,1)*IF(R7="",0,1)*IF(S7="",0,1)*IF(T7="",0,1)*IF(U7="",0,1)*IF(X7="",0,1)*IFERROR(VLOOKUP($Q7,Sheet1!$A$2:$B$4,2,0),0)*IFERROR(VLOOKUP($T7,Sheet1!$U$2:$V$4,2,0),0)*(IFERROR(VLOOKUP($V7,Sheet1!$C$2:$D$5,2,0),0)+IFERROR(VLOOKUP(W7,Sheet1!$E$2:$F$7,2,0),0))>0,IFERROR(VLOOKUP($Q7,Sheet1!$A$2:$B$4,2,0),0)*(IFERROR(VLOOKUP($V7,Sheet1!$C$2:$D$5,2,0),0)+IFERROR(VLOOKUP(W7,Sheet1!$E$2:$F$7,2,0),0)),"") | I7: =IF(IF(Z7="",0,1)*IF(AA7="",0,1)*IF(AB7="",0,1)*IF(AD7="",0,1)*IFERROR(VLOOKUP($Y7,Sheet1!$G$2:$H$4,2,0),0)*IFERROR(VLOOKUP($AC7,Sheet1!$I$2:$J$4,2,0),0)>0,IFERROR(VLOOKUP($Y7,Sheet1!$G$2:$H$4,2,0),0)*IFERROR(VLOOKUP($AC7,Sheet1!$I$2:$J$4,2,0),0),"") | J7: =IF(IF(AE7="",0,1)*IF(AF7="",0,1)*IF(AI7="",0,1)*IFERROR(VLOOKUP($AG7,Sheet1!$K$2:$L$4,2,0),0)*IFERROR(VLOOKUP($AH7,Sheet1!$M$2:$N$10,2,0),0)>0,IFERROR(VLOOKUP($AG7,Sheet1!$K$2:$L$4,2,0),0)*IFERROR(VLOOKUP($AH7,Sheet1!$M$2:$N$10,2,0),0),"") | K7: =IF(IF(AJ7="",0,1)*IF(AK7="",0,1)*IF(AN7="",0,1)*IFERROR(VLOOKUP($AL7,Sheet1!$O$2:$P$4,2,0),0)*IFERROR(VLOOKUP($AM7,Sheet1!$Q$2:$R$7,2,0),0)>0,IFERROR(VLOOKUP($AL7,Sheet1!$O$2:$P$4,2,0),0)*IFERROR(VLOOKUP($AM7,Sheet1!$Q$2:$R$7,2,0),0),"") | L7: =IF(IF(AP7="",0,1)*IF(AQ7="",0,1)*IF(AR7="",0,1)*IFERROR(VLOOKUP($AO7,Sheet1!$S$2:$T$4,2,0),0)>0,IFERROR(VLOOKUP($AO7,Sheet1!$S$2:$T$4,2,0),0),"") | X7: M2-2 | AD7: M3-2 | AI7: M4-2 | AN7: M5-2 | AR7: M6-2
A8: 3 | H8: =IF(IF(V8="",0,1)*IF(W8="",0,1)*IF(O8="",0,1)*IF(P8="",0,1)*IF(R8="",0,1)*IF(S8="",0,1)*IF(T8="",0,1)*IF(U8="",0,1)*IF(X8="",0,1)*IFERROR(VLOOKUP($Q8,Sheet1!$A$2:$B$4,2,0),0)*IFERROR(VLOOKUP($T8,Sheet1!$U$2:$V$4,2,0),0)*(IFERROR(VLOOKUP($V8,Sheet1!$C$2:$D$5,2,0),0)+IFERROR(VLOOKUP(W8,Sheet1!$E$2:$F$7,2,0),0))>0,IFERROR(VLOOKUP($Q8,Sheet1!$A$2:$B$4,2,0),0)*(IFERROR(VLOOKUP($V8,Sheet1!$C$2:$D$5,2,0),0)+IFERROR(VLOOKUP(W8,Sheet1!$E$2:$F$7,2,0),0)),"") | I8: =IF(IF(Z8="",0,1)*IF(AA8="",0,1)*IF(AB8="",0,1)*IF(AD8="",0,1)*IFERROR(VLOOKUP($Y8,Sheet1!$G$2:$H$4,2,0),0)*IFERROR(VLOOKUP($AC8,Sheet1!$I$2:$J$4,2,0),0)>0,IFERROR(VLOOKUP($Y8,Sheet1!$G$2:$H$4,2,0),0)*IFERROR(VLOOKUP($AC8,Sheet1!$I$2:$J$4,2,0),0),"") | J8: =IF(IF(AE8="",0,1)*IF(AF8="",0,1)*IF(AI8="",0,1)*IFERROR(VLOOKUP($AG8,Sheet1!$K$2:$L$4,2,0),0)*IFERROR(VLOOKUP($AH8,Sheet1!$M$2:$N$10,2,0),0)>0,IFERROR(VLOOKUP($AG8,Sheet1!$K$2:$L$4,2,0),0)*IFERROR(VLOOKUP($AH8,Sheet1!$M$2:$N$10,2,0),0),"") | K8: =IF(IF(AJ8="",0,1)*IF(AK8="",0,1)*IF(AN8="",0,1)*IFERROR(VLOOKUP($AL8,Sheet1!$O$2:$P$4,2,0),0)*IFERROR(VLOOKUP($AM8,Sheet1!$Q$2:$R$7,2,0),0)>0,IFERROR(VLOOKUP($AL8,Sheet1!$O$2:$P$4,2,0),0)*IFERROR(VLOOKUP($AM8,Sheet1!$Q$2:$R$7,2,0),0),"") | L8: =IF(IF(AP8="",0,1)*IF(AQ8="",0,1)*IF(AR8="",0,1)*IFERROR(VLOOKUP($AO8,Sheet1!$S$2:$T$4,2,0),0)>0,IFERROR(VLOOKUP($AO8,Sheet1!$S$2:$T$4,2,0),0),"") | X8: …… | AD8: …… | AI8: …… | AN8: ……
A9: 4 | H9: =IF(IF(V9="",0,1)*IF(W9="",0,1)*IF(O9="",0,1)*IF(P9="",0,1)*IF(R9="",0,1)*IF(S9="",0,1)*IF(T9="",0,1)*IF(U9="",0,1)*IF(X9="",0,1)*IFERROR(VLOOKUP($Q9,Sheet1!$A$2:$B$4,2,0),0)*IFERROR(VLOOKUP($T9,Sheet1!$U$2:$V$4,2,0),0)*(IFERROR(VLOOKUP($V9,Sheet1!$C$2:$D$5,2,0),0)+IFERROR(VLOOKUP(W9,Sheet1!$E$2:$F$7,2,0),0))>0,IFERROR(VLOOKUP($Q9,Sheet1!$A$2:$B$4,2,0),0)*(IFERROR(VLOOKUP($V9,Sheet1!$C$2:$D$5,2,0),0)+IFERROR(VLOOKUP(W9,Sheet1!$E$2:$F$7,2,0),0)),"") | I9: =IF(IF(Z9="",0,1)*IF(AA9="",0,1)*IF(AB9="",0,1)*IF(AD9="",0,1)*IFERROR(VLOOKUP($Y9,Sheet1!$G$2:$H$4,2,0),0)*IFERROR(VLOOKUP($AC9,Sheet1!$I$2:$J$4,2,0),0)>0,IFERROR(VLOOKUP($Y9,Sheet1!$G$2:$H$4,2,0),0)*IFERROR(VLOOKUP($AC9,Sheet1!$I$2:$J$4,2,0),0),"") | J9: =IF(IF(AE9="",0,1)*IF(AF9="",0,1)*IF(AI9="",0,1)*IFERROR(VLOOKUP($AG9,Sheet1!$K$2:$L$4,2,0),0)*IFERROR(VLOOKUP($AH9,Sheet1!$M$2:$N$10,2,0),0)>0,IFERROR(VLOOKUP($AG9,Sheet1!$K$2:$L$4,2,0),0)*IFERROR(VLOOKUP($AH9,Sheet1!$M$2:$N$10,2,0),0),"") | K9: =IF(IF(AJ9="",0,1)*IF(AK9="",0,1)*IF(AN9="",0,1)*IFERROR(VLOOKUP($AL9,Sheet1!$O$2:$P$4,2,0),0)*IFERROR(VLOOKUP($AM9,Sheet1!$Q$2:$R$7,2,0),0)>0,IFERROR(VLOOKUP($AL9,Sheet1!$O$2:$P$4,2,0),0)*IFERROR(VLOOKUP($AM9,Sheet1!$Q$2:$R$7,2,0),0),"") | L9: =IF(IF(AP9="",0,1)*IF(AQ9="",0,1)*IF(AR9="",0,1)*IFERROR(VLOOKUP($AO9,Sheet1!$S$2:$T$4,2,0),0)>0,IFERROR(VLOOKUP($AO9,Sheet1!$S$2:$T$4,2,0),0),"")
A10: 5 | H10: =IF(IF(V10="",0,1)*IF(W10="",0,1)*IF(O10="",0,1)*IF(P10="",0,1)*IF(R10="",0,1)*IF(S10="",0,1)*IF(T10="",0,1)*IF(U10="",0,1)*IF(X10="",0,1)*IFERROR(VLOOKUP($Q10,Sheet1!$A$2:$B$4,2,0),0)*IFERROR(VLOOKUP($T10,Sheet1!$U$2:$V$4,2,0),0)*(IFERROR(VLOOKUP($V10,Sheet1!$C$2:$D$5,2,0),0)+IFERROR(VLOOKUP(W10,Sheet1!$E$2:$F$7,2,0),0))>0,IFERROR(VLOOKUP($Q10,Sheet1!$A$2:$B$4,2,0),0)*(IFERROR(VLOOKUP($V10,Sheet1!$C$2:$D$5,2,0),0)+IFERROR(VLOOKUP(W10,Sheet1!$E$2:$F$7,2,0),0)),"") | I10: =IF(IF(Z10="",0,1)*IF(AA10="",0,1)*IF(AB10="",0,1)*IF(AD10="",0,1)*IFERROR(VLOOKUP($Y10,Sheet1!$G$2:$H$4,2,0),0)*IFERROR(VLOOKUP($AC10,Sheet1!$I$2:$J$4,2,0),0)>0,IFERROR(VLOOKUP($Y10,Sheet1!$G$2:$H$4,2,0),0)*IFERROR(VLOOKUP($AC10,Sheet1!$I$2:$J$4,2,0),0),"") | J10: =IF(IF(AE10="",0,1)*IF(AF10="",0,1)*IF(AI10="",0,1)*IFERROR(VLOOKUP($AG10,Sheet1!$K$2:$L$4,2,0),0)*IFERROR(VLOOKUP($AH10,Sheet1!$M$2:$N$10,2,0),0)>0,IFERROR(VLOOKUP($AG10,Sheet1!$K$2:$L$4,2,0),0)*IFERROR(VLOOKUP($AH10,Sheet1!$M$2:$N$10,2,0),0),"") | K10: =IF(IF(AJ10="",0,1)*IF(AK10="",0,1)*IF(AN10="",0,1)*IFERROR(VLOOKUP($AL10,Sheet1!$O$2:$P$4,2,0),0)*IFERROR(VLOOKUP($AM10,Sheet1!$Q$2:$R$7,2,0),0)>0,IFERROR(VLOOKUP($AL10,Sheet1!$O$2:$P$4,2,0),0)*IFERROR(VLOOKUP($AM10,Sheet1!$Q$2:$R$7,2,0),0),"") | L10: =IF(IF(AP10="",0,1)*IF(AQ10="",0,1)*IF(AR10="",0,1)*IFERROR(VLOOKUP($AO10,Sheet1!$S$2:$T$4,2,0),0)>0,IFERROR(VLOOKUP($AO10,Sheet1!$S$2:$T$4,2,0),0),"")
A11: 6 | H11: =IF(IF(V11="",0,1)*IF(W11="",0,1)*IF(O11="",0,1)*IF(P11="",0,1)*IF(R11="",0,1)*IF(S11="",0,1)*IF(T11="",0,1)*IF(U11="",0,1)*IF(X11="",0,1)*IFERROR(VLOOKUP($Q11,Sheet1!$A$2:$B$4,2,0),0)*IFERROR(VLOOKUP($T11,Sheet1!$U$2:$V$4,2,0),0)*(IFERROR(VLOOKUP($V11,Sheet1!$C$2:$D$5,2,0),0)+IFERROR(VLOOKUP(W11,Sheet1!$E$2:$F$7,2,0),0))>0,IFERROR(VLOOKUP($Q11,Sheet1!$A$2:$B$4,2,0),0)*(IFERROR(VLOOKUP($V11,Sheet1!$C$2:$D$5,2,0),0)+IFERROR(VLOOKUP(W11,Sheet1!$E$2:$F$7,2,0),0)),"") | I11: =IF(IF(Z11="",0,1)*IF(AA11="",0,1)*IF(AB11="",0,1)*IF(AD11="",0,1)*IFERROR(VLOOKUP($Y11,Sheet1!$G$2:$H$4,2,0),0)*IFERROR(VLOOKUP($AC11,Sheet1!$I$2:$J$4,2,0),0)>0,IFERROR(VLOOKUP($Y11,Sheet1!$G$2:$H$4,2,0),0)*IFERROR(VLOOKUP($AC11,Sheet1!$I$2:$J$4,2,0),0),"") | J11: =IF(IF(AE11="",0,1)*IF(AF11="",0,1)*IF(AI11="",0,1)*IFERROR(VLOOKUP($AG11,Sheet1!$K$2:$L$4,2,0),0)*IFERROR(VLOOKUP($AH11,Sheet1!$M$2:$N$10,2,0),0)>0,IFERROR(VLOOKUP($AG11,Sheet1!$K$2:$L$4,2,0),0)*IFERROR(VLOOKUP($AH11,Sheet1!$M$2:$N$10,2,0),0),"") | K11: =IF(IF(AJ11="",0,1)*IF(AK11="",0,1)*IF(AN11="",0,1)*IFERROR(VLOOKUP($AL11,Sheet1!$O$2:$P$4,2,0),0)*IFERROR(VLOOKUP($AM11,Sheet1!$Q$2:$R$7,2,0),0)>0,IFERROR(VLOOKUP($AL11,Sheet1!$O$2:$P$4,2,0),0)*IFERROR(VLOOKUP($AM11,Sheet1!$Q$2:$R$7,2,0),0),"") | L11: =IF(IF(AP11="",0,1)*IF(AQ11="",0,1)*IF(AR11="",0,1)*IFERROR(VLOOKUP($AO11,Sheet1!$S$2:$T$4,2,0),0)>0,IFERROR(VLOOKUP($AO11,Sheet1!$S$2:$T$4,2,0),0),"")
A12: 7 | H12: =IF(IF(V12="",0,1)*IF(W12="",0,1)*IF(O12="",0,1)*IF(P12="",0,1)*IF(R12="",0,1)*IF(S12="",0,1)*IF(T12="",0,1)*IF(U12="",0,1)*IF(X12="",0,1)*IFERROR(VLOOKUP($Q12,Sheet1!$A$2:$B$4,2,0),0)*IFERROR(VLOOKUP($T12,Sheet1!$U$2:$V$4,2,0),0)*(IFERROR(VLOOKUP($V12,Sheet1!$C$2:$D$5,2,0),0)+IFERROR(VLOOKUP(W12,Sheet1!$E$2:$F$7,2,0),0))>0,IFERROR(VLOOKUP($Q12,Sheet1!$A$2:$B$4,2,0),0)*(IFERROR(VLOOKUP($V12,Sheet1!$C$2:$D$5,2,0),0)+IFERROR(VLOOKUP(W12,Sheet1!$E$2:$F$7,2,0),0)),"") | I12: =IF(IF(Z12="",0,1)*IF(AA12="",0,1)*IF(AB12="",0,1)*IF(AD12="",0,1)*IFERROR(VLOOKUP($Y12,Sheet1!$G$2:$H$4,2,0),0)*IFERROR(VLOOKUP($AC12,Sheet1!$I$2:$J$4,2,0),0)>0,IFERROR(VLOOKUP($Y12,Sheet1!$G$2:$H$4,2,0),0)*IFERROR(VLOOKUP($AC12,Sheet1!$I$2:$J$4,2,0),0),"") | J12: =IF(IF(AE12="",0,1)*IF(AF12="",0,1)*IF(AI12="",0,1)*IFERROR(VLOOKUP($AG12,Sheet1!$K$2:$L$4,2,0),0)*IFERROR(VLOOKUP($AH12,Sheet1!$M$2:$N$10,2,0),0)>0,IFERROR(VLOOKUP($AG12,Sheet1!$K$2:$L$4,2,0),0)*IFERROR(VLOOKUP($AH12,Sheet1!$M$2:$N$10,2,0),0),"") | K12: =IF(IF(AJ12="",0,1)*IF(AK12="",0,1)*IF(AN12="",0,1)*IFERROR(VLOOKUP($AL12,Sheet1!$O$2:$P$4,2,0),0)*IFERROR(VLOOKUP($AM12,Sheet1!$Q$2:$R$7,2,0),0)>0,IFERROR(VLOOKUP($AL12,Sheet1!$O$2:$P$4,2,0),0)*IFERROR(VLOOKUP($AM12,Sheet1!$Q$2:$R$7,2,0),0),"") | L12: =IF(IF(AP12="",0,1)*IF(AQ12="",0,1)*IF(AR12="",0,1)*IFERROR(VLOOKUP($AO12,Sheet1!$S$2:$T$4,2,0),0)>0,IFERROR(VLOOKUP($AO12,Sheet1!$S$2:$T$4,2,0),0),"")
A13: 8 | H13: =IF(IF(V13="",0,1)*IF(W13="",0,1)*IF(O13="",0,1)*IF(P13="",0,1)*IF(R13="",0,1)*IF(S13="",0,1)*IF(T13="",0,1)*IF(U13="",0,1)*IF(X13="",0,1)*IFERROR(VLOOKUP($Q13,Sheet1!$A$2:$B$4,2,0),0)*IFERROR(VLOOKUP($T13,Sheet1!$U$2:$V$4,2,0),0)*(IFERROR(VLOOKUP($V13,Sheet1!$C$2:$D$5,2,0),0)+IFERROR(VLOOKUP(W13,Sheet1!$E$2:$F$7,2,0),0))>0,IFERROR(VLOOKUP($Q13,Sheet1!$A$2:$B$4,2,0),0)*(IFERROR(VLOOKUP($V13,Sheet1!$C$2:$D$5,2,0),0)+IFERROR(VLOOKUP(W13,Sheet1!$E$2:$F$7,2,0),0)),"") | I13: =IF(IF(Z13="",0,1)*IF(AA13="",0,1)*IF(AB13="",0,1)*IF(AD13="",0,1)*IFERROR(VLOOKUP($Y13,Sheet1!$G$2:$H$4,2,0),0)*IFERROR(VLOOKUP($AC13,Sheet1!$I$2:$J$4,2,0),0)>0,IFERROR(VLOOKUP($Y13,Sheet1!$G$2:$H$4,2,0),0)*IFERROR(VLOOKUP($AC13,Sheet1!$I$2:$J$4,2,0),0),"") | J13: =IF(IF(AE13="",0,1)*IF(AF13="",0,1)*IF(AI13="",0,1)*IFERROR(VLOOKUP($AG13,Sheet1!$K$2:$L$4,2,0),0)*IFERROR(VLOOKUP($AH13,Sheet1!$M$2:$N$10,2,0),0)>0,IFERROR(VLOOKUP($AG13,Sheet1!$K$2:$L$4,2,0),0)*IFERROR(VLOOKUP($AH13,Sheet1!$M$2:$N$10,2,0),0),"") | K13: =IF(IF(AJ13="",0,1)*IF(AK13="",0,1)*IF(AN13="",0,1)*IFERROR(VLOOKUP($AL13,Sheet1!$O$2:$P$4,2,0),0)*IFERROR(VLOOKUP($AM13,Sheet1!$Q$2:$R$7,2,0),0)>0,IFERROR(VLOOKUP($AL13,Sheet1!$O$2:$P$4,2,0),0)*IFERROR(VLOOKUP($AM13,Sheet1!$Q$2:$R$7,2,0),0),"") | L13: =IF(IF(AP13="",0,1)*IF(AQ13="",0,1)*IF(AR13="",0,1)*IFERROR(VLOOKUP($AO13,Sheet1!$S$2:$T$4,2,0),0)>0,IFERROR(VLOOKUP($AO13,Sheet1!$S$2:$T$4,2,0),0),"")
A14: 9 | H14: =IF(IF(V14="",0,1)*IF(W14="",0,1)*IF(O14="",0,1)*IF(P14="",0,1)*IF(R14="",0,1)*IF(S14="",0,1)*IF(T14="",0,1)*IF(U14="",0,1)*IF(X14="",0,1)*IFERROR(VLOOKUP($Q14,Sheet1!$A$2:$B$4,2,0),0)*IFERROR(VLOOKUP($T14,Sheet1!$U$2:$V$4,2,0),0)*(IFERROR(VLOOKUP($V14,Sheet1!$C$2:$D$5,2,0),0)+IFERROR(VLOOKUP(W14,Sheet1!$E$2:$F$7,2,0),0))>0,IFERROR(VLOOKUP($Q14,Sheet1!$A$2:$B$4,2,0),0)*(IFERROR(VLOOKUP($V14,Sheet1!$C$2:$D$5,2,0),0)+IFERROR(VLOOKUP(W14,Sheet1!$E$2:$F$7,2,0),0)),"") | I14: =IF(IF(Z14="",0,1)*IF(AA14="",0,1)*IF(AB14="",0,1)*IF(AD14="",0,1)*IFERROR(VLOOKUP($Y14,Sheet1!$G$2:$H$4,2,0),0)*IFERROR(VLOOKUP($AC14,Sheet1!$I$2:$J$4,2,0),0)>0,IFERROR(VLOOKUP($Y14,Sheet1!$G$2:$H$4,2,0),0)*IFERROR(VLOOKUP($AC14,Sheet1!$I$2:$J$4,2,0),0),"") | J14: =IF(IF(AE14="",0,1)*IF(AF14="",0,1)*IF(AI14="",0,1)*IFERROR(VLOOKUP($AG14,Sheet1!$K$2:$L$4,2,0),0)*IFERROR(VLOOKUP($AH14,Sheet1!$M$2:$N$10,2,0),0)>0,IFERROR(VLOOKUP($AG14,Sheet1!$K$2:$L$4,2,0),0)*IFERROR(VLOOKUP($AH14,Sheet1!$M$2:$N$10,2,0),0),"") | K14: =IF(IF(AJ14="",0,1)*IF(AK14="",0,1)*IF(AN14="",0,1)*IFERROR(VLOOKUP($AL14,Sheet1!$O$2:$P$4,2,0),0)*IFERROR(VLOOKUP($AM14,Sheet1!$Q$2:$R$7,2,0),0)>0,IFERROR(VLOOKUP($AL14,Sheet1!$O$2:$P$4,2,0),0)*IFERROR(VLOOKUP($AM14,Sheet1!$Q$2:$R$7,2,0),0),"") | L14: =IF(IF(AP14="",0,1)*IF(AQ14="",0,1)*IF(AR14="",0,1)*IFERROR(VLOOKUP($AO14,Sheet1!$S$2:$T$4,2,0),0)>0,IFERROR(VLOOKUP($AO14,Sheet1!$S$2:$T$4,2,0),0),"")
A15: 10 | H15: =IF(IF(V15="",0,1)*IF(W15="",0,1)*IF(O15="",0,1)*IF(P15="",0,1)*IF(R15="",0,1)*IF(S15="",0,1)*IF(T15="",0,1)*IF(U15="",0,1)*IF(X15="",0,1)*IFERROR(VLOOKUP($Q15,Sheet1!$A$2:$B$4,2,0),0)*IFERROR(VLOOKUP($T15,Sheet1!$U$2:$V$4,2,0),0)*(IFERROR(VLOOKUP($V15,Sheet1!$C$2:$D$5,2,0),0)+IFERROR(VLOOKUP(W15,Sheet1!$E$2:$F$7,2,0),0))>0,IFERROR(VLOOKUP($Q15,Sheet1!$A$2:$B$4,2,0),0)*(IFERROR(VLOOKUP($V15,Sheet1!$C$2:$D$5,2,0),0)+IFERROR(VLOOKUP(W15,Sheet1!$E$2:$F$7,2,0),0)),"") | I15: =IF(IF(Z15="",0,1)*IF(AA15="",0,1)*IF(AB15="",0,1)*IF(AD15="",0,1)*IFERROR(VLOOKUP($Y15,Sheet1!$G$2:$H$4,2,0),0)*IFERROR(VLOOKUP($AC15,Sheet1!$I$2:$J$4,2,0),0)>0,IFERROR(VLOOKUP($Y15,Sheet1!$G$2:$H$4,2,0),0)*IFERROR(VLOOKUP($AC15,Sheet1!$I$2:$J$4,2,0),0),"") | J15: =IF(IF(AE15="",0,1)*IF(AF15="",0,1)*IF(AI15="",0,1)*IFERROR(VLOOKUP($AG15,Sheet1!$K$2:$L$4,2,0),0)*IFERROR(VLOOKUP($AH15,Sheet1!$M$2:$N$10,2,0),0)>0,IFERROR(VLOOKUP($AG15,Sheet1!$K$2:$L$4,2,0),0)*IFERROR(VLOOKUP($AH15,Sheet1!$M$2:$N$10,2,0),0),"") | K15: =IF(IF(AJ15="",0,1)*IF(AK15="",0,1)*IF(AN15="",0,1)*IFERROR(VLOOKUP($AL15,Sheet1!$O$2:$P$4,2,0),0)*IFERROR(VLOOKUP($AM15,Sheet1!$Q$2:$R$7,2,0),0)>0,IFERROR(VLOOKUP($AL15,Sheet1!$O$2:$P$4,2,0),0)*IFERROR(VLOOKUP($AM15,Sheet1!$Q$2:$R$7,2,0),0),"") | L15: =IF(IF(AP15="",0,1)*IF(AQ15="",0,1)*IF(AR15="",0,1)*IFERROR(VLOOKUP($AO15,Sheet1!$S$2:$T$4,2,0),0)>0,IFERROR(VLOOKUP($AO15,Sheet1!$S$2:$T$4,2,0),0),"")
A16: 11 | H16: =IF(IF(V16="",0,1)*IF(W16="",0,1)*IF(O16="",0,1)*IF(P16="",0,1)*IF(R16="",0,1)*IF(S16="",0,1)*IF(T16="",0,1)*IF(U16="",0,1)*IF(X16="",0,1)*IFERROR(VLOOKUP($Q16,Sheet1!$A$2:$B$4,2,0),0)*IFERROR(VLOOKUP($T16,Sheet1!$U$2:$V$4,2,0),0)*(IFERROR(VLOOKUP($V16,Sheet1!$C$2:$D$5,2,0),0)+IFERROR(VLOOKUP(W16,Sheet1!$E$2:$F$7,2,0),0))>0,IFERROR(VLOOKUP($Q16,Sheet1!$A$2:$B$4,2,0),0)*(IFERROR(VLOOKUP($V16,Sheet1!$C$2:$D$5,2,0),0)+IFERROR(VLOOKUP(W16,Sheet1!$E$2:$F$7,2,0),0)),"") | I16: =IF(IF(Z16="",0,1)*IF(AA16="",0,1)*IF(AB16="",0,1)*IF(AD16="",0,1)*IFERROR(VLOOKUP($Y16,Sheet1!$G$2:$H$4,2,0),0)*IFERROR(VLOOKUP($AC16,Sheet1!$I$2:$J$4,2,0),0)>0,IFERROR(VLOOKUP($Y16,Sheet1!$G$2:$H$4,2,0),0)*IFERROR(VLOOKUP($AC16,Sheet1!$I$2:$J$4,2,0),0),"") | J16: =IF(IF(AE16="",0,1)*IF(AF16="",0,1)*IF(AI16="",0,1)*IFERROR(VLOOKUP($AG16,Sheet1!$K$2:$L$4,2,0),0)*IFERROR(VLOOKUP($AH16,Sheet1!$M$2:$N$10,2,0),0)>0,IFERROR(VLOOKUP($AG16,Sheet1!$K$2:$L$4,2,0),0)*IFERROR(VLOOKUP($AH16,Sheet1!$M$2:$N$10,2,0),0),"") | K16: =IF(IF(AJ16="",0,1)*IF(AK16="",0,1)*IF(AN16="",0,1)*IFERROR(VLOOKUP($AL16,Sheet1!$O$2:$P$4,2,0),0)*IFERROR(VLOOKUP($AM16,Sheet1!$Q$2:$R$7,2,0),0)>0,IFERROR(VLOOKUP($AL16,Sheet1!$O$2:$P$4,2,0),0)*IFERROR(VLOOKUP($AM16,Sheet1!$Q$2:$R$7,2,0),0),"") | L16: =IF(IF(AP16="",0,1)*IF(AQ16="",0,1)*IF(AR16="",0,1)*IFERROR(VLOOKUP($AO16,Sheet1!$S$2:$T$4,2,0),0)>0,IFERROR(VLOOKUP($AO16,Sheet1!$S$2:$T$4,2,0),0),"")
A17: 12 | H17: =IF(IF(V17="",0,1)*IF(W17="",0,1)*IF(O17="",0,1)*IF(P17="",0,1)*IF(R17="",0,1)*IF(S17="",0,1)*IF(T17="",0,1)*IF(U17="",0,1)*IF(X17="",0,1)*IFERROR(VLOOKUP($Q17,Sheet1!$A$2:$B$4,2,0),0)*IFERROR(VLOOKUP($T17,Sheet1!$U$2:$V$4,2,0),0)*(IFERROR(VLOOKUP($V17,Sheet1!$C$2:$D$5,2,0),0)+IFERROR(VLOOKUP(W17,Sheet1!$E$2:$F$7,2,0),0))>0,IFERROR(VLOOKUP($Q17,Sheet1!$A$2:$B$4,2,0),0)*(IFERROR(VLOOKUP($V17,Sheet1!$C$2:$D$5,2,0),0)+IFERROR(VLOOKUP(W17,Sheet1!$E$2:$F$7,2,0),0)),"") | I17: =IF(IF(Z17="",0,1)*IF(AA17="",0,1)*IF(AB17="",0,1)*IF(AD17="",0,1)*IFERROR(VLOOKUP($Y17,Sheet1!$G$2:$H$4,2,0),0)*IFERROR(VLOOKUP($AC17,Sheet1!$I$2:$J$4,2,0),0)>0,IFERROR(VLOOKUP($Y17,Sheet1!$G$2:$H$4,2,0),0)*IFERROR(VLOOKUP($AC17,Sheet1!$I$2:$J$4,2,0),0),"") | J17: =IF(IF(AE17="",0,1)*IF(AF17="",0,1)*IF(AI17="",0,1)*IFERROR(VLOOKUP($AG17,Sheet1!$K$2:$L$4,2,0),0)*IFERROR(VLOOKUP($AH17,Sheet1!$M$2:$N$10,2,0),0)>0,IFERROR(VLOOKUP($AG17,Sheet1!$K$2:$L$4,2,0),0)*IFERROR(VLOOKUP($AH17,Sheet1!$M$2:$N$10,2,0),0),"") | K17: =IF(IF(AJ17="",0,1)*IF(AK17="",0,1)*IF(AN17="",0,1)*IFERROR(VLOOKUP($AL17,Sheet1!$O$2:$P$4,2,0),0)*IFERROR(VLOOKUP($AM17,Sheet1!$Q$2:$R$7,2,0),0)>0,IFERROR(VLOOKUP($AL17,Sheet1!$O$2:$P$4,2,0),0)*IFERROR(VLOOKUP($AM17,Sheet1!$Q$2:$R$7,2,0),0),"") | L17: =IF(IF(AP17="",0,1)*IF(AQ17="",0,1)*IF(AR17="",0,1)*IFERROR(VLOOKUP($AO17,Sheet1!$S$2:$T$4,2,0),0)>0,IFERROR(VLOOKUP($AO17,Sheet1!$S$2:$T$4,2,0),0),"")
A18: 13 | H18: =IF(IF(V18="",0,1)*IF(W18="",0,1)*IF(O18="",0,1)*IF(P18="",0,1)*IF(R18="",0,1)*IF(S18="",0,1)*IF(T18="",0,1)*IF(U18="",0,1)*IF(X18="",0,1)*IFERROR(VLOOKUP($Q18,Sheet1!$A$2:$B$4,2,0),0)*IFERROR(VLOOKUP($T18,Sheet1!$U$2:$V$4,2,0),0)*(IFERROR(VLOOKUP($V18,Sheet1!$C$2:$D$5,2,0),0)+IFERROR(VLOOKUP(W18,Sheet1!$E$2:$F$7,2,0),0))>0,IFERROR(VLOOKUP($Q18,Sheet1!$A$2:$B$4,2,0),0)*(IFERROR(VLOOKUP($V18,Sheet1!$C$2:$D$5,2,0),0)+IFERROR(VLOOKUP(W18,Sheet1!$E$2:$F$7,2,0),0)),"") | I18: =IF(IF(Z18="",0,1)*IF(AA18="",0,1)*IF(AB18="",0,1)*IF(AD18="",0,1)*IFERROR(VLOOKUP($Y18,Sheet1!$G$2:$H$4,2,0),0)*IFERROR(VLOOKUP($AC18,Sheet1!$I$2:$J$4,2,0),0)>0,IFERROR(VLOOKUP($Y18,Sheet1!$G$2:$H$4,2,0),0)*IFERROR(VLOOKUP($AC18,Sheet1!$I$2:$J$4,2,0),0),"") | J18: =IF(IF(AE18="",0,1)*IF(AF18="",0,1)*IF(AI18="",0,1)*IFERROR(VLOOKUP($AG18,Sheet1!$K$2:$L$4,2,0),0)*IFERROR(VLOOKUP($AH18,Sheet1!$M$2:$N$10,2,0),0)>0,IFERROR(VLOOKUP($AG18,Sheet1!$K$2:$L$4,2,0),0)*IFERROR(VLOOKUP($AH18,Sheet1!$M$2:$N$10,2,0),0),"") | K18: =IF(IF(AJ18="",0,1)*IF(AK18="",0,1)*IF(AN18="",0,1)*IFERROR(VLOOKUP($AL18,Sheet1!$O$2:$P$4,2,0),0)*IFERROR(VLOOKUP($AM18,Sheet1!$Q$2:$R$7,2,0),0)>0,IFERROR(VLOOKUP($AL18,Sheet1!$O$2:$P$4,2,0),0)*IFERROR(VLOOKUP($AM18,Sheet1!$Q$2:$R$7,2,0),0),"") | L18: =IF(IF(AP18="",0,1)*IF(AQ18="",0,1)*IF(AR18="",0,1)*IFERROR(VLOOKUP($AO18,Sheet1!$S$2:$T$4,2,0),0)>0,IFERROR(VLOOKUP($AO18,Sheet1!$S$2:$T$4,2,0),0),"")
A19: 14 | H19: =IF(IF(V19="",0,1)*IF(W19="",0,1)*IF(O19="",0,1)*IF(P19="",0,1)*IF(R19="",0,1)*IF(S19="",0,1)*IF(T19="",0,1)*IF(U19="",0,1)*IF(X19="",0,1)*IFERROR(VLOOKUP($Q19,Sheet1!$A$2:$B$4,2,0),0)*IFERROR(VLOOKUP($T19,Sheet1!$U$2:$V$4,2,0),0)*(IFERROR(VLOOKUP($V19,Sheet1!$C$2:$D$5,2,0),0)+IFERROR(VLOOKUP(W19,Sheet1!$E$2:$F$7,2,0),0))>0,IFERROR(VLOOKUP($Q19,Sheet1!$A$2:$B$4,2,0),0)*(IFERROR(VLOOKUP($V19,Sheet1!$C$2:$D$5,2,0),0)+IFERROR(VLOOKUP(W19,Sheet1!$E$2:$F$7,2,0),0)),"") | I19: =IF(IF(Z19="",0,1)*IF(AA19="",0,1)*IF(AB19="",0,1)*IF(AD19="",0,1)*IFERROR(VLOOKUP($Y19,Sheet1!$G$2:$H$4,2,0),0)*IFERROR(VLOOKUP($AC19,Sheet1!$I$2:$J$4,2,0),0)>0,IFERROR(VLOOKUP($Y19,Sheet1!$G$2:$H$4,2,0),0)*IFERROR(VLOOKUP($AC19,Sheet1!$I$2:$J$4,2,0),0),"") | J19: =IF(IF(AE19="",0,1)*IF(AF19="",0,1)*IF(AI19="",0,1)*IFERROR(VLOOKUP($AG19,Sheet1!$K$2:$L$4,2,0),0)*IFERROR(VLOOKUP($AH19,Sheet1!$M$2:$N$10,2,0),0)>0,IFERROR(VLOOKUP($AG19,Sheet1!$K$2:$L$4,2,0),0)*IFERROR(VLOOKUP($AH19,Sheet1!$M$2:$N$10,2,0),0),"") | K19: =IF(IF(AJ19="",0,1)*IF(AK19="",0,1)*IF(AN19="",0,1)*IFERROR(VLOOKUP($AL19,Sheet1!$O$2:$P$4,2,0),0)*IFERROR(VLOOKUP($AM19,Sheet1!$Q$2:$R$7,2,0),0)>0,IFERROR(VLOOKUP($AL19,Sheet1!$O$2:$P$4,2,0),0)*IFERROR(VLOOKUP($AM19,Sheet1!$Q$2:$R$7,2,0),0),"") | L19: =IF(IF(AP19="",0,1)*IF(AQ19="",0,1)*IF(AR19="",0,1)*IFERROR(VLOOKUP($AO19,Sheet1!$S$2:$T$4,2,0),0)>0,IFERROR(VLOOKUP($AO19,Sheet1!$S$2:$T$4,2,0),0),"")
A20: 15 | H20: =IF(IF(V20="",0,1)*IF(W20="",0,1)*IF(O20="",0,1)*IF(P20="",0,1)*IF(R20="",0,1)*IF(S20="",0,1)*IF(T20="",0,1)*IF(U20="",0,1)*IF(X20="",0,1)*IFERROR(VLOOKUP($Q20,Sheet1!$A$2:$B$4,2,0),0)*IFERROR(VLOOKUP($T20,Sheet1!$U$2:$V$4,2,0),0)*(IFERROR(VLOOKUP($V20,Sheet1!$C$2:$D$5,2,0),0)+IFERROR(VLOOKUP(W20,Sheet1!$E$2:$F$7,2,0),0))>0,IFERROR(VLOOKUP($Q20,Sheet1!$A$2:$B$4,2,0),0)*(IFERROR(VLOOKUP($V20,Sheet1!$C$2:$D$5,2,0),0)+IFERROR(VLOOKUP(W20,Sheet1!$E$2:$F$7,2,0),0)),"") | I20: =IF(IF(Z20="",0,1)*IF(AA20="",0,1)*IF(AB20="",0,1)*IF(AD20="",0,1)*IFERROR(VLOOKUP($Y20,Sheet1!$G$2:$H$4,2,0),0)*IFERROR(VLOOKUP($AC20,Sheet1!$I$2:$J$4,2,0),0)>0,IFERROR(VLOOKUP($Y20,Sheet1!$G$2:$H$4,2,0),0)*IFERROR(VLOOKUP($AC20,Sheet1!$I$2:$J$4,2,0),0),"") | J20: =IF(IF(AE20="",0,1)*IF(AF20="",0,1)*IF(AI20="",0,1)*IFERROR(VLOOKUP($AG20,Sheet1!$K$2:$L$4,2,0),0)*IFERROR(VLOOKUP($AH20,Sheet1!$M$2:$N$10,2,0),0)>0,IFERROR(VLOOKUP($AG20,Sheet1!$K$2:$L$4,2,0),0)*IFERROR(VLOOKUP($AH20,Sheet1!$M$2:$N$10,2,0),0),"") | K20: =IF(IF(AJ20="",0,1)*IF(AK20="",0,1)*IF(AN20="",0,1)*IFERROR(VLOOKUP($AL20,Sheet1!$O$2:$P$4,2,0),0)*IFERROR(VLOOKUP($AM20,Sheet1!$Q$2:$R$7,2,0),0)>0,IFERROR(VLOOKUP($AL20,Sheet1!$O$2:$P$4,2,0),0)*IFERROR(VLOOKUP($AM20,Sheet1!$Q$2:$R$7,2,0),0),"") | L20: =IF(IF(AP20="",0,1)*IF(AQ20="",0,1)*IF(AR20="",0,1)*IFERROR(VLOOKUP($AO20,Sheet1!$S$2:$T$4,2,0),0)>0,IFERROR(VLOOKUP($AO20,Sheet1!$S$2:$T$4,2,0),0),"")
... A25: 20 | H25: =IF(IF(V25="",0,1)*IF(W25="",0,1)*IF(O25="",0,1)*IF(P25="",0,1)*IF(R25="",0,1)*IF(S25="",0,1)*IF(T25="",0,1)*IF(U25="",0,1)*IF(X25="",0,1)*IFERROR(VLOOKUP($Q25,Sheet1!$A$2:$B$4,2,0),0)*IFERROR(VLOOKUP($T25,Sheet1!$U$2:$V$4,2,0),0)*(IFERROR(VLOOKUP($V25,Sheet1!$C$2:$D$5,2,0),0)+IFERROR(VLOOKUP(W25,Sheet1!$E$2:$F$7,2,0),0))>0,IFERROR(VLOOKUP($Q25,Sheet1!$A$2:$B$4,2,0),0)*(IFERROR(VLOOKUP($V25,Sheet1!$C$2:$D$5,2,0),0)+IFERROR(VLOOKUP(W25,Sheet1!$E$2:$F$7,2,0),0)),"") | I25: =IF(IF(Z25="",0,1)*IF(AA25="",0,1)*IF(AB25="",0,1)*IF(AD25="",0,1)*IFERROR(VLOOKUP($Y25,Sheet1!$G$2:$H$4,2,0),0)*IFERROR(VLOOKUP($AC25,Sheet1!$I$2:$J$4,2,0),0)>0,IFERROR(VLOOKUP($Y25,Sheet1!$G$2:$H$4,2,0),0)*IFERROR(VLOOKUP($AC25,Sheet1!$I$2:$J$4,2,0),0),"") | J25: =IF(IF(AE25="",0,1)*IF(AF25="",0,1)*IF(AI25="",0,1)*IFERROR(VLOOKUP($AG25,Sheet1!$K$2:$L$4,2,0),0)*IFERROR(VLOOKUP($AH25,Sheet1!$M$2:$N$10,2,0),0)>0,IFERROR(VLOOKUP($AG25,Sheet1!$K$2:$L$4,2,0),0)*IFERROR(VLOOKUP($AH25,Sheet1!$M$2:$N$10,2,0),0),"") | K25: =IF(IF(AJ25="",0,1)*IF(AK25="",0,1)*IF(AN25="",0,1)*IFERROR(VLOOKUP($AL25,Sheet1!$O$2:$P$4,2,0),0)*IFERROR(VLOOKUP($AM25,Sheet1!$Q$2:$R$7,2,0),0)>0,IFERROR(VLOOKUP($AL25,Sheet1!$O$2:$P$4,2,0),0)*IFERROR(VLOOKUP($AM25,Sheet1!$Q$2:$R$7,2,0),0),"") | L25: =IF(IF(AP25="",0,1)*IF(AQ25="",0,1)*IF(AR25="",0,1)*IFERROR(VLOOKUP($AO25,Sheet1!$S$2:$T$4,2,0),0)>0,IFERROR(VLOOKUP($AO25,Sheet1!$S$2:$T$4,2,0),0),"")

Sheet Sheet1
A1: 作者排名 | B1: 对应分值 | C1: 论文级别 | D1: 对应分值 | E1: 高水平论文加分 | F1: 对应分值 | G1: 专利类别 | H1: 对应分值 | I1: 作者排名 | J1: 对应分值 | K1: 科技竞赛获奖类型 | L1: 对应分值 | M1: 获奖级别 | N1: 对应分值 | O1: 科研荣誉类型 | P1: 对应分值 | Q1: 获奖级别 | R1: 对应分值 | S1: 外语考试类型 | T1: 对应分值 | U1: 论文状态 | V1: 对应分值 | W1: 年级 | X1: 对应课程分值
A2: 导师第1作者、本人第2作者 | B2: 0.5 | C2: SCI | D2: 2 | E2: JCR一区 | F2: 2.5 | G2: 获授权的发明专利 | H2: 1 | I2: 导师第1作者、本人第2作者 | J2: 0.5 | K2: 团队 | L2: 0.5 | M2: 国际竞赛一等奖 | N2: 4 | O2: 团队 | P2: 0.5 | Q2: 全国类荣誉称号 | R2: 5 | S2: 雅思≥6.5 | T2: 0.5 | U2: 正式发表(含online) | V2: 1 | W2: 2021硕士
A3: 第1作者 | B3: 1 | C3: EI | D3: 1.5 | E3: JCR二区 | F3: 1.5 | G3: 获授权的实用新型专利 | H3: 0.5 | I3: 第1作者 | J3: 1 | K3: 个人 | L3: 1 | M3: 国际竞赛二等奖 | N3: 3 | O3: 个人 | P3: 1 | Q3: 省部类荣誉称号 | R3: 2 | S3: 托福≥90 | T3: 0.5 | U3: 已录用 | V3: 1 | W3: 2020硕士
A4: 无 | B4: 0 | C4: 中文核心 | D4: 1 | E4: JCR三区 | F4: 0 | G4: 无 | H4: 0 | I4: 无 | J4: 0 | K4: 无 | L4: 0 | M4: 国际竞赛三等奖 | N4: 2 | O4: 无 | P4: 0 | Q4: 成都市或相当城市市级类荣誉称号 | R4: 1 | S4: 无 | T4: 0 | U4: 无 | V4: 0 | W4: 2021博士
C5: 无 | D5: 0 | E5: JCR四区 | F5: 0 | M5: 全国竞赛一等奖 | N5: 3 | Q5: 参加境外国际会议并获得优秀论文称号 | R5: 2 | W5: 2020博士 | X5: 70
C6: SCI | D6: 2 | E6: 高水平EI论文 | F6: 0.5 | M6: 全国竞赛二等奖 | N6: 2 | Q6: 参加一级学会及以上会议或境内国际会议并获得优秀论文称号 | R6: 1 | W6: 2019博士 | X6: 70
C7: EI | D7: 1.5 | E7: 无 | F7: 0 | M7: 全国竞赛三等奖 | N7: 1 | Q7: 无 | R7: 0 | W7: 2018博士 | X7: 70
C8: 无 | D8: 0 | M8: 省部级竞赛一等奖 | N8: 2 | W8: 2017博士 | X8: 70
C9: =IF(COUNTIF(论文级别,"中文核心")<3,"有核心","无核心") -> 有核心 | M9: 省部级竞赛二等奖 | N9: 1
M10: 无 | N10: 0
C11: SCI | E11: JCR一区 | F11: 2.5
E12: JCR二区 | F12: 1.5
E13: JCR三区 | F13: 0
E14: 高水平EI论文 | F14: 0.5
E15: 无 | F15: 0
E18: JCR一区 | F18: 2.5
E19: JCR二区 | F19: 1.5
E20: 高水平EI论文 | F20: 0.5
E21: 无 | F21: 0
E23: {=IF(填报页!V6="SCI",IF(AND(COUNTIF(SCI分区,"JCR四区")<1,COUNTIF(SCI分区,"JCR三区")<2),"JCR分区",IF(OR((COUNTIF(SCI分区,"JCR三区")+COUNTIF(SCI分区,"JCR四区"))>=2,COUNTIF(SCI分区,"JCR三区")>=2),"无JCR三四区","无JCR四区")),填报页!V6)} -> 0
E24: =IF(填报页!V7="SCI",IF(AND(COUNTIF(SCI分区,"JCR四区")<1,COUNTIF(SCI分区,"JCR三区")<2),"JCR分区",IF(OR((COUNTIF(SCI分区,"JCR三区")+COUNTIF(SCI分区,"JCR四区"))>=2,COUNTIF(SCI分区,"JCR三区")>=2),"无JCR三四区","无JCR四区")),填报页!V7) -> 0
E25: =IF(填报页!V8="SCI",IF(AND(COUNTIF(SCI分区,"JCR四区")<1,COUNTIF(SCI分区,"JCR三区")<2),"JCR分区",IF(OR((COUNTIF(SCI分区,"JCR三区")+COUNTIF(SCI分区,"JCR四区"))>=2,COUNTIF(SCI分区,"JCR三区")>=2),"无JCR三四区","无JCR四区")),填报页!V8) -> 0
E26: =IF(填报页!V9="SCI",IF(AND(COUNTIF(SCI分区,"JCR四区")<1,COUNTIF(SCI分区,"JCR三区")<2),"JCR分区",IF(OR((COUNTIF(SCI分区,"JCR三区")+COUNTIF(SCI分区,"JCR四区"))>=2,COUNTIF(SCI分区,"JCR三区")>=2),"无JCR三四区","无JCR四区")),填报页!V9) -> 0
E27: =IF(填报页!V10="SCI",IF(AND(COUNTIF(SCI分区,"JCR四区")<1,COUNTIF(SCI分区,"JCR三区")<2),"JCR分区",IF(OR((COUNTIF(SCI分区,"JCR三区")+COUNTIF(SCI分区,"JCR四区"))>=2,COUNTIF(SCI分区,"JCR三区")>=2),"无JCR三四区","无JCR四区")),填报页!V10) -> 0
E28: =IF(填报页!V11="SCI",IF(AND(COUNTIF(SCI分区,"JCR四区")<1,COUNTIF(SCI分区,"JCR三区")<2),"JCR分区",IF(OR((COUNTIF(SCI分区,"JCR三区")+COUNTIF(SCI分区,"JCR四区"))>=2,COUNTIF(SCI分区,"JCR三区")>=2),"无JCR三四区","无JCR四区")),填报页!V11) -> 0
E29: =IF(填报页!V12="SCI",IF(AND(COUNTIF(SCI分区,"JCR四区")<1,COUNTIF(SCI分区,"JCR三区")<2),"JCR分区",IF(OR((COUNTIF(SCI分区,"JCR三区")+COUNTIF(SCI分区,"JCR四区"))>=2,COUNTIF(SCI分区,"JCR三区")>=2),"无JCR三四区","无JCR四区")),填报页!V12) -> 0
E30: =IF(填报页!V13="SCI",IF(AND(COUNTIF(SCI分区,"JCR四区")<1,COUNTIF(SCI分区,"JCR三区")<2),"JCR分区",IF(OR((COUNTIF(SCI分区,"JCR三区")+COUNTIF(SCI分区,"JCR四区"))>=2,COUNTIF(SCI分区,"JCR三区")>=2),"无JCR三四区","无JCR四区")),填报页!V13) -> 0
E31: =IF(填报页!V14="SCI",IF(AND(COUNTIF(SCI分区,"JCR四区")<1,COUNTIF(SCI分区,"JCR三区")<2),"JCR分区",IF(OR((COUNTIF(SCI分区,"JCR三区")+COUNTIF(SCI分区,"JCR四区"))>=2,COUNTIF(SCI分区,"JCR三区")>=2),"无JCR三四区","无JCR四区")),填报页!V14) -> 0
E32: =IF(填报页!V15="SCI",IF(AND(COUNTIF(SCI分区,"JCR四区")<1,COUNTIF(SCI分区,"JCR三区")<2),"JCR分区",IF(OR((COUNTIF(SCI分区,"JCR三区")+COUNTIF(SCI分区,"JCR四区"))>=2,COUNTIF(SCI分区,"JCR三区")>=2),"无JCR三四区","无JCR四区")),填报页!V15) -> 0
E33: =IF(填报页!V16="SCI",IF(AND(COUNTIF(SCI分区,"JCR四区")<1,COUNTIF(SCI分区,"JCR三区")<2),"JCR分区",IF(OR((COUNTIF(SCI分区,"JCR三区")+COUNTIF(SCI分区,"JCR四区"))>=2,COUNTIF(SCI分区,"JCR三区")>=2),"无JCR三四区","无JCR四区")),填报页!V16) -> 0
E34: =IF(填报页!V17="SCI",IF(AND(COUNTIF(SCI分区,"JCR四区")<1,COUNTIF(SCI分区,"JCR三区")<2),"JCR分区",IF(OR((COUNTIF(SCI分区,"JCR三区")+COUNTIF(SCI分区,"JCR四区"))>=2,COUNTIF(SCI分区,"JCR三区")>=2),"无JCR三四区","无JCR四区")),填报页!V17) -> 0
E35: =IF(填报页!V18="SCI",IF(AND(COUNTIF(SCI分区,"JCR四区")<1,COUNTIF(SCI分区,"JCR三区")<2),"JCR分区",IF(OR((COUNTIF(SCI分区,"JCR三区")+COUNTIF(SCI分区,"JCR四区"))>=2,COUNTIF(SCI分区,"JCR三区")>=2),"无JCR三四区","无JCR四区")),填报页!V18) -> 0
... E42: =IF(填报页!V25="SCI",IF(AND(COUNTIF(SCI分区,"JCR四区")<1,COUNTIF(SCI分区,"JCR三区")<2),"JCR分区",IF(OR((COUNTIF(SCI分区,"JCR三区")+COUNTIF(SCI分区,"JCR四区"))>=2,COUNTIF(SCI分区,"JCR三区")>=2),"无JCR三四区","无JCR四区")),填报页!V25) -> 0
