Workbook
Name EI: Sheet1!#REF!
Name JCR分区: Sheet1!#REF!
Name SCI分区: 填报页!$V$9:$V$28
Name 核心判定: Sheet1!#REF!
Name 论文级别: 填报页!$U$9:$U$28
Name 期刊论文: Sheet1!$D$2:$D$4
Name 无: Sheet1!#REF!
Name 无JCR三四区: Sheet1!#REF!
Name 无JCR四区: Sheet1!#REF!
Name 无核心: Sheet1!#REF!
Name 有核心: Sheet1!#REF!
Name 中文核心: Sheet1!#REF!
Name 著作: Sheet1!$F$2:$F$6

Sheet 填报页
A1: 本人承诺： 以上信息均属实 ，如有虚假之处，取消本学年各类奖学金、荣誉称号评选资格。 本人签字（电子签名）：
A2: 序号 | B2: 学号 | C2: 姓名 | D2: 专业名称 | E2: 电话 | F2: 导师 | G2: 学术成果计分 | L2: 总分 | M2: 科研论著M1 | Y2: 科技发明M2 | AF2: 各类学科竞赛M3 | AL2: 各类科研荣誉M4 | AR2: 出国外语加分M5
G3: 科研论著、科技发明、学科竞赛、科研荣誉及出国外语 | M3: 论著 | N3: 论著类别 | O3: 全部作者 | P3: 本人排名 | Q3: 期刊全名 （不得使用缩写） | R3: 年, 卷(期): 页码范围 | S3: 论文状态 | T3: 论文发表时间(硕士可填已录用时间） | U3: 论文级别 | V3: 高水平SCI、EI论文加分 | W3: 支撑材料编号 | X3: 单项得分 | Y3: 专利类别（发明专利、实用新型专利） | Z3: 专利名称 | AA3: 专利授权日期 | AB3: 全部作者 | AC3: 本人排名 | AD3: 支撑材料编号 | AE3: 单项得分 | AF3: 科技竞赛活动名称 | AG3: 获奖证书日期 | AH3: 科技竞赛获奖类型 | AI3: 获奖级别（国家级、省部级、校级） | AJ3: 支撑材料编号 | AK3: 单项得分 | AL3: 成果名称 | AM3: 荣誉称号日期 | AN3: 科研荣誉类型 | AO3: 获奖级别（国家级、省部级、校级） | AP3: 支撑材料编号 | AQ3: 单项得分 | AR3: 外语考试类型 | AS3: 成绩取得日期 | AT3: 成绩有效截止期 | AU3: 支撑材料编号 | AV3: 单项得分
G4: M1 | H4: M2 | I4: M3 | J4: M4 | K4: M5
A5: 示例-1 | B5: 2019201699 | C5: 张三 | D5: 车辆工程 | E5: 1739318XXXX | F5: 李四 | G5: =MAX(IF(AND(COUNTIF($V$5:$V$7,"JCR四区")<=1, COUNTIF($V$5:$V$7,"JCR三区")+COUNTIF($V$5:$V$7,"JCR四区")<=2, COUNTIF($P$5:$P$7,"导师第1作者、本人第2作者")<=1), N($X$5)+N($X$6)+N($X$7), 0), IF(AND(($V$5="JCR四区")*1+($V$6="JCR四区")*1<=1, ($P$5="导师第1作者、本人第2作者")*1+($P$6="导师第1作者、本人第2作者")*1<=1), N($X$5)+N($X$6), 0), IF(AND(($V$5="JCR四区")*1+($V$7="JCR四区")*1<=1, ($P$5="导师第1作者、本人第2作者")*1+($P$7="导师第1作者、本人第2作者")*1<=1), N($X$5)+N($X$7), 0), IF(AND(($V$6="JCR四区")*1+($V$7="JCR四区")*1<=1, ($P$6="导师第1作者、本人第2作者")*1+($P$7="导师第1作者、本人第2作者")*1<=1), N($X$6)+N($X$7), 0), N($X$5), N($X$6), N($X$7), 0) -> 7.5 | H5: =MIN(3, SUM($AE$5:$AE$7) - MAX(0, SUMIF($AC$5:$AC$7, "导师第1作者、本人第2作者", $AE$5:$AE$7) - MAX(IF($AC$5="导师第1作者、本人第2作者", N($AE$5), 0), IF($AC$6="导师第1作者、本人第2作者", N($AE$6), 0), IF($AC$7="导师第1作者、本人第2作者", N($AE$7), 0)))) -> 1 | I5: =SUM(AK5:AK7) -> 1 | J5: =SUM(AQ5:AQ7) -> 0.5 | K5: =SUM($AV5:$AV7) -> 0.5 | L5: =SUM(G5:K5) -> 10.5 | M5: 缺陷尺寸对铝合金疲劳性能的影响研究 | N5: 期刊论文 | O5: 李四,张三,王五,赵六 | P5: 导师第1作者、本人第2作者 | Q5: 机械工程学报 | R5: 2025,47(05):32-55 | S5: 正式发表(含online) | T5: 45931 | U5: EI | V5: 高水平EI论文 | W5: M1-1 | X5: =IF(COUNTBLANK($M5:$W5)>0, "", IF($N5="期刊论文", IF((IFERROR(VLOOKUP($U5,Sheet1!$H:$I,2,0),0)+IFERROR(VLOOKUP($V5,Sheet1!$J:$K,2,0),0))*IFERROR(VLOOKUP($P5,Sheet1!$D:$E,2,0),0)*IFERROR(VLOOKUP($S5,Sheet1!$B:$C,2,0),0)*IF(COUNTIF(Sheet2!$B:$B, $Q5)>0, 0, 1)=0, "", (IFERROR(VLOOKUP($U5,Sheet1!$H:$I,2,0),0)+IFERROR(VLOOKUP($V5,Sheet1!$J:$K,2,0),0))*IFERROR(VLOOKUP($P5,Sheet1!$D:$E,2,0),0)*IFERROR(VLOOKUP($S5,Sheet1!$B:$C,2,0),0)*IF(COUNTIF(Sheet2!$B:$B, $Q5)>0, 0, 1)), IF($N5="著作", IF(IFERROR(VLOOKUP($P5,Sheet1!$F:$G,2,0),0)=0, "", IFERROR(VLOOKUP($P5,Sheet1!$F:$G,2,0),0)), ""))) -> 1 | Y5: 获授权的发明专利 | Z5: 一种铁路交通道轨液压弯轨器 | AA5: 46023 | AB5: 张三, 李四, 王五, 赵六 | AC5: 第1作者 | AD5: M2-1 | AE5: =IF(COUNTBLANK($Y5:$AD5)>0, "", IF(IFERROR(VLOOKUP($Y5,Sheet1!$L:$M,2,0),0)*IFERROR(VLOOKUP($AC5,Sheet1!$N:$O,2,0),0)=0, "", IFERROR(VLOOKUP($Y5,Sheet1!$L:$M,2,0),0)*IFERROR(VLOOKUP($AC5,Sheet1!$N:$O,2,0),0))) -> 1 | AF5: 第十三届全国研究生数学建模竞赛 | AG5: 45962 | AH5: 个人 | AI5: 省部级竞赛二等奖 | AJ5: M3-1 | AK5: =IF($AF5="", "", IF(OR($AH5="", $AI5=""), "", IF(IFERROR(VLOOKUP($AH5,Sheet1!$P:$Q,2,0),0)*IFERROR(VLOOKUP($AI5,Sheet1!$R:$S,2,0),0)=0, "", IFERROR(VLOOKUP($AH5,Sheet1!$P:$Q,2,0),0)*IFERROR(VLOOKUP($AI5,Sheet1!$R:$S,2,0),0)))) -> 1 | AL5: 有限数据下的结构疲劳断裂性能研究 | AM5: 46143 | AN5: 团队 | AO5: 成都市或相当城市市级类荣誉称号 | AP5: M4-1 | AQ5: =IF($AL5="", "", IF(OR($AN5="", $AO5=""), "", IF(IFERROR(VLOOKUP($AN5,Sheet1!$T:$U,2,0),0)*IFERROR(VLOOKUP($AO5,Sheet1!$V:$W,2,0),0)=0, "", IFERROR(VLOOKUP($AN5,Sheet1!$T:$U,2,0),0)*IFERROR(VLOOKUP($AO5,Sheet1!$V:$W,2,0),0)))) -> 0.5 | AR5: 雅思≥6.5 | AS5: 45901 | AT5: 46631 | AU5: M5-1 | AV5: =IF($AR5="", "", IF(OR($AS5="", $AT5="", $AU5=""), "", IF(IFERROR(VLOOKUP($AR5,Sheet1!$X:$Y,2,0),0)=0, "", IFERROR(VLOOKUP($AR5,Sheet1!$X:$Y,2,0),0)))) -> 0.5
M6: Heterogeneous multivariate time series imputation by transformer model with missing position encoding | N6: 期刊论文 | O6: 张三,李四,赵六,孙八,周九 | P6: 第1作者 | Q6: Expert Systems with Applications | R6: 2025, 271: 126435. | S6: 正式发表(含online) | T6: 46054 | U6: SCI | V6: JCR二区 | W6: M1-2 | X6: =IF(COUNTBLANK($M6:$W6)>0, "", IF($N6="期刊论文", IF((IFERROR(VLOOKUP($U6,Sheet1!$H:$I,2,0),0)+IFERROR(VLOOKUP($V6,Sheet1!$J:$K,2,0),0))*IFERROR(VLOOKUP($P6,Sheet1!$D:$E,2,0),0)*IFERROR(VLOOKUP($S6,Sheet1!$B:$C,2,0),0)*IF(COUNTIF(Sheet2!$B:$B, $Q6)>0, 0, 1)=0, "", (IFERROR(VLOOKUP($U6,Sheet1!$H:$I,2,0),0)+IFERROR(VLOOKUP($V6,Sheet1!$J:$K,2,0),0))*IFERROR(VLOOKUP($P6,Sheet1!$D:$E,2,0),0)*IFERROR(VLOOKUP($S6,Sheet1!$B:$C,2,0),0)*IF(COUNTIF(Sheet2!$B:$B, $Q6)>0, 0, 1)), IF($N6="著作", IF(IFERROR(VLOOKUP($P6,Sheet1!$F:$G,2,0),0)=0, "", IFERROR(VLOOKUP($P6,Sheet1!$F:$G,2,0),0)), ""))) -> 3.5 | AE6: =IF(COUNTBLANK($Y6:$AD6)>0, "", IF(IFERROR(VLOOKUP($Y6,Sheet1!$L:$M,2,0),0)*IFERROR(VLOOKUP($AC6,Sheet1!$N:$O,2,0),0)=0, "", IFERROR(VLOOKUP($Y6,Sheet1!$L:$M,2,0),0)*IFERROR(VLOOKUP($AC6,Sheet1!$N:$O,2,0),0))) | AK6: =IF($AF6="", "", IF(OR($AH6="", $AI6=""), "", IF(IFERROR(VLOOKUP($AH6,Sheet1!$P:$Q,2,0),0)*IFERROR(VLOOKUP($AI6,Sheet1!$R:$S,2,0),0)=0, "", IFERROR(VLOOKUP($AH6,Sheet1!$P:$Q,2,0),0)*IFERROR(VLOOKUP($AI6,Sheet1!$R:$S,2,0),0)))) | AQ6: =IF($AL6="", "", IF(OR($AN6="", $AO6=""), "", IF(IFERROR(VLOOKUP($AN6,Sheet1!$T:$U,2,0),0)*IFERROR(VLOOKUP($AO6,Sheet1!$V:$W,2,0),0)=0, "", IFERROR(VLOOKUP($AN6,Sheet1!$T:$U,2,0),0)*IFERROR(VLOOKUP($AO6,Sheet1!$V:$W,2,0),0)))) | AV6: =IF($AR6="", "", IF(OR($AS6="", $AT6="", $AU6=""), "", IF(IFERROR(VLOOKUP($AR6,Sheet1!$X:$Y,2,0),0)=0, "", IFERROR(VLOOKUP($AR6,Sheet1!$X:$Y,2,0),0))))
M7: 智能制造装备轻量化结构优化与工程应用 | N7: 著作 | O7: 李四,张三,赵六,吴十,郑十一,钱十二 | P7: 第2作者(合著) | Q7: 无 | R7: 2025 | S7: 已出版 | T7: 46174 | U7: 无 | V7: 无 | W7: M1-3 | X7: =IF(COUNTBLANK($M7:$W7)>0, "", IF($N7="期刊论文", IF((IFERROR(VLOOKUP($U7,Sheet1!$H:$I,2,0),0)+IFERROR(VLOOKUP($V7,Sheet1!$J:$K,2,0),0))*IFERROR(VLOOKUP($P7,Sheet1!$D:$E,2,0),0)*IFERROR(VLOOKUP($S7,Sheet1!$B:$C,2,0),0)*IF(COUNTIF(Sheet2!$B:$B, $Q7)>0, 0, 1)=0, "", (IFERROR(VLOOKUP($U7,Sheet1!$H:$I,2,0),0)+IFERROR(VLOOKUP($V7,Sheet1!$J:$K,2,0),0))*IFERROR(VLOOKUP($P7,Sheet1!$D:$E,2,0),0)*IFERROR(VLOOKUP($S7,Sheet1!$B:$C,2,0),0)*IF(COUNTIF(Sheet2!$B:$B, $Q7)>0, 0, 1)), IF($N7="著作", IF(IFERROR(VLOOKUP($P7,Sheet1!$F:$G,2,0),0)=0, "", IFERROR(VLOOKUP($P7,Sheet1!$F:$G,2,0),0)), ""))) -> 3 | AE7: =IF(COUNTBLANK($Y7:$AD7)>0, "", IF(IFERROR(VLOOKUP($Y7,Sheet1!$L:$M,2,0),0)*IFERROR(VLOOKUP($AC7,Sheet1!$N:$O,2,0),0)=0, "", IFERROR(VLOOKUP($Y7,Sheet1!$L:$M,2,0),0)*IFERROR(VLOOKUP($AC7,Sheet1!$N:$O,2,0),0))) | AK7: =IF($AF7="", "", IF(OR($AH7="", $AI7=""), "", IF(IFERROR(VLOOKUP($AH7,Sheet1!$P:$Q,2,0),0)*IFERROR(VLOOKUP($AI7,Sheet1!$R:$S,2,0),0)=0, "", IFERROR(VLOOKUP($AH7,Sheet1!$P:$Q,2,0),0)*IFERROR(VLOOKUP($AI7,Sheet1!$R:$S,2,0),0)))) | AQ7: =IF($AL7="", "", IF(OR($AN7="", $AO7=""), "", IF(IFERROR(VLOOKUP($AN7,Sheet1!$T:$U,2,0),0)*IFERROR(VLOOKUP($AO7,Sheet1!$V:$W,2,0),0)=0, "", IFERROR(VLOOKUP($AN7,Sheet1!$T:$U,2,0),0)*IFERROR(VLOOKUP($AO7,Sheet1!$V:$W,2,0),0)))) | AV7: =IF($AR7="", "", IF(OR($AS7="", $AT7="", $AU7=""), "", IF(IFERROR(VLOOKUP($AR7,Sheet1!$X:$Y,2,0),0)=0, "", IFERROR(VLOOKUP($AR7,Sheet1!$X:$Y,2,0),0))))
B8: 学号、姓名、专业、电话、导师等在序号1所在行填写即可 <—以下浅绿色区域为基本信息填写部分（务必按示例填写完整）—> | G8: <—以下浅灰色区域为学术成果自动计分部分（请勿填写或修改）—> | M8: 若有导师第1作者、本人第2作者论文请在序号1所在行填写；若有下拉框务必从下拉选项中选择，未涉及选无；若有多项此类加分，由上往下依次填写 <———————以下浅绿色区域为科研论文填写部分（务必按示例规范由左向右依次填写完整）————> | Y8: 若有导师第1作者、本人第2作者专利请在序号1所在行填写；若有下拉框务必从下拉选项中选择，未涉及选无；若有多项此类加分，由上往下依次填写 <—以下浅灰色区域为科技发明填写部分（务必按示例由左向右填写完整）—> | AF8: 若有多项此类加分，由上往下依次填写；若有下拉框务必从下拉选项中选择，未涉及选无； <—以下浅绿色区域为学科竞赛填写部分（务必按示例填写完整）—> | AL8: 若有多项此类加分，由上往下依次填写；若有下拉框务必从下拉选项中选择，未涉及选无； <—以下浅灰色区域为学科荣誉填写部分（务必按示例填写完整）—> | AR8: 若有多项此类加分，由上往下依次填写；若有下拉框务必从下拉选项中选择，未涉及选无； <—以下浅绿色区域为出国外语填写部分（务必按示例填写完整）—>
A9: 序号1 | G9: =IF(SUM($X$9:$X$28)=0,"",SUM($X$9:$X$28)) | H9: =IF(SUM($AE$9:$AE$28)>3,3,SUM($AE$9:$AE$28)) -> 0 | I9: =IF(SUM($AK$9:$AK$28)=0,"",SUM($AK$9:$AK$28)) | J9: =IF(SUM($AQ$9:$AQ$28)=0,"",SUM($AQ$9:$AQ$28)) | K9: =IF(SUM($AV$9:$AV$28)=0,"",SUM($AV$9:$AV$28)) | L9: =SUM(G9:K9) -> 0 | X9: =IF(COUNTBLANK($M9:$W9)>0, "", IF($N9="期刊论文", IF((IFERROR(VLOOKUP($U9,Sheet1!$H:$I,2,0),0)+IFERROR(VLOOKUP($V9,Sheet1!$J:$K,2,0),0))*IFERROR(VLOOKUP($P9,Sheet1!$D:$E,2,0),0)*IFERROR(VLOOKUP($S9,Sheet1!$B:$C,2,0),0)*IF(COUNTIF(Sheet2!$B:$B, $Q9)>0, 0, 1)=0, "", (IFERROR(VLOOKUP($U9,Sheet1!$H:$I,2,0),0)+IFERROR(VLOOKUP($V9,Sheet1!$J:$K,2,0),0))*IFERROR(VLOOKUP($P9,Sheet1!$D:$E,2,0),0)*IFERROR(VLOOKUP($S9,Sheet1!$B:$C,2,0),0)*IF(COUNTIF(Sheet2!$B:$B, $Q9)>0, 0, 1)), IF($N9="著作", IF(IFERROR(VLOOKUP($P9,Sheet1!$F:$G,2,0),0)=0, "", IFERROR(VLOOKUP($P9,Sheet1!$F:$G,2,0),0)), ""))) | AE9: =IF(COUNTBLANK($Y9:$AD9)>0, "", IF(IFERROR(VLOOKUP($Y9,Sheet1!$L:$M,2,0),0)*IFERROR(VLOOKUP($AC9,Sheet1!$N:$O,2,0),0)=0, "", IFERROR(VLOOKUP($Y9,Sheet1!$L:$M,2,0),0)*IFERROR(VLOOKUP($AC9,Sheet1!$N:$O,2,0),0))) | AK9: =IF(COUNTBLANK($AF9:$AJ9)>0,"",IF(IFERROR(VLOOKUP($AH9,Sheet1!$P:$Q,2,0),0)*IFERROR(VLOOKUP($AI9,Sheet1!$R:$S,2,0),0)=0,"",IFERROR(VLOOKUP($AH9,Sheet1!$P:$Q,2,0),0)*IFERROR(VLOOKUP($AI9,Sheet1!$R:$S,2,0),0))) | AQ9: =IF(COUNTBLANK($AL9:$AP9)>0,"",IF(IFERROR(VLOOKUP($AN9,Sheet1!$T:$U,2,0),0)*IFERROR(VLOOKUP($AO9,Sheet1!$V:$W,2,0),0)=0,"",IFERROR(VLOOKUP($AN9,Sheet1!$T:$U,2,0),0)*IFERROR(VLOOKUP($AO9,Sheet1!$V:$W,2,0),0))) | AV9: =IF($AR9="", "", IF(OR($AS9="", $AT9="", $AU9=""), "", IF(IFERROR(VLOOKUP($AR9,Sheet1!$X:$Y,2,0),0)=0, "", IFERROR(VLOOKUP($AR9,Sheet1!$X:$Y,2,0),0))))
A10: 2 | X10: =IF(COUNTBLANK($M10:$W10)>0, "", IF($N10="期刊论文", IF((IFERROR(VLOOKUP($U10,Sheet1!$H:$I,2,0),0)+IFERROR(VLOOKUP($V10,Sheet1!$J:$K,2,0),0))*IFERROR(VLOOKUP($P10,Sheet1!$D:$E,2,0),0)*IFERROR(VLOOKUP($S10,Sheet1!$B:$C,2,0),0)*IF(COUNTIF(Sheet2!$B:$B, $Q10)>0, 0, 1)=0, "", (IFERROR(VLOOKUP($U10,Sheet1!$H:$I,2,0),0)+IFERROR(VLOOKUP($V10,Sheet1!$J:$K,2,0),0))*IFERROR(VLOOKUP($P10,Sheet1!$D:$E,2,0),0)*IFERROR(VLOOKUP($S10,Sheet1!$B:$C,2,0),0)*IF(COUNTIF(Sheet2!$B:$B, $Q10)>0, 0, 1)), IF($N10="著作", IF(IFERROR(VLOOKUP($P10,Sheet1!$F:$G,2,0),0)=0, "", IFERROR(VLOOKUP($P10,Sheet1!$F:$G,2,0),0)), ""))) | AE10: =IF(COUNTBLANK($Y10:$AD10)>0, "", IF(IFERROR(VLOOKUP($Y10,Sheet1!$L:$M,2,0),0)*IFERROR(VLOOKUP($AC10,Sheet1!$N:$O,2,0),0)=0, "", IFERROR(VLOOKUP($Y10,Sheet1!$L:$M,2,0),0)*IFERROR(VLOOKUP($AC10,Sheet1!$N:$O,2,0),0))) | AK10: =IF(COUNTBLANK($AF10:$AJ10)>0,"",IF(IFERROR(VLOOKUP($AH10,Sheet1!$P:$Q,2,0),0)*IFERROR(VLOOKUP($AI10,Sheet1!$R:$S,2,0),0)=0,"",IFERROR(VLOOKUP($AH10,Sheet1!$P:$Q,2,0),0)*IFERROR(VLOOKUP($AI10,Sheet1!$R:$S,2,0),0))) | AQ10: =IF(COUNTBLANK($AL10:$AP10)>0,"",IF(IFERROR(VLOOKUP($AN10,Sheet1!$T:$U,2,0),0)*IFERROR(VLOOKUP($AO10,Sheet1!$V:$W,2,0),0)=0,"",IFERROR(VLOOKUP($AN10,Sheet1!$T:$U,2,0),0)*IFERROR(VLOOKUP($AO10,Sheet1!$V:$W,2,0),0))) | AV10: =IF($AR10="", "", IF(OR($AS10="", $AT10="", $AU10=""), "", IF(IFERROR(VLOOKUP($AR10,Sheet1!$X:$Y,2,0),0)=0, "", IFERROR(VLOOKUP($AR10,Sheet1!$X:$Y,2,0),0))))
A11: 3 | X11: =IF(COUNTBLANK($M11:$W11)>0, "", IF($N11="期刊论文", IF((IFERROR(VLOOKUP($U11,Sheet1!$H:$I,2,0),0)+IFERROR(VLOOKUP($V11,Sheet1!$J:$K,2,0),0))*IFERROR(VLOOKUP($P11,Sheet1!$D:$E,2,0),0)*IFERROR(VLOOKUP($S11,Sheet1!$B:$C,2,0),0)*IF(COUNTIF(Sheet2!$B:$B, $Q11)>0, 0, 1)=0, "", (IFERROR(VLOOKUP($U11,Sheet1!$H:$I,2,0),0)+IFERROR(VLOOKUP($V11,Sheet1!$J:$K,2,0),0))*IFERROR(VLOOKUP($P11,Sheet1!$D:$E,2,0),0)*IFERROR(VLOOKUP($S11,Sheet1!$B:$C,2,0),0)*IF(COUNTIF(Sheet2!$B:$B, $Q11)>0, 0, 1)), IF($N11="著作", IF(IFERROR(VLOOKUP($P11,Sheet1!$F:$G,2,0),0)=0, "", IFERROR(VLOOKUP($P11,Sheet1!$F:$G,2,0),0)), ""))) | AE11: =IF(COUNTBLANK($Y11:$AD11)>0, "", IF(IFERROR(VLOOKUP($Y11,Sheet1!$L:$M,2,0),0)*IFERROR(VLOOKUP($AC11,Sheet1!$N:$O,2,0),0)=0, "", IFERROR(VLOOKUP($Y11,Sheet1!$L:$M,2,0),0)*IFERROR(VLOOKUP($AC11,Sheet1!$N:$O,2,0),0))) | AK11: =IF(COUNTBLANK($AF11:$AJ11)>0,"",IF(IFERROR(VLOOKUP($AH11,Sheet1!$P:$Q,2,0),0)*IFERROR(VLOOKUP($AI11,Sheet1!$R:$S,2,0),0)=0,"",IFERROR(VLOOKUP($AH11,Sheet1!$P:$Q,2,0),0)*IFERROR(VLOOKUP($AI11,Sheet1!$R:$S,2,0),0))) | AQ11: =IF(COUNTBLANK($AL11:$AP11)>0,"",IF(IFERROR(VLOOKUP($AN11,Sheet1!$T:$U,2,0),0)*IFERROR(VLOOKUP($AO11,Sheet1!$V:$W,2,0),0)=0,"",IFERROR(VLOOKUP($AN11,Sheet1!$T:$U,2,0),0)*IFERROR(VLOOKUP($AO11,Sheet1!$V:$W,2,0),0))) | AV11: =IF($AR11="", "", IF(OR($AS11="", $AT11="", $AU11=""), "", IF(IFERROR(VLOOKUP($AR11,Sheet1!$X:$Y,2,0),0)=0, "", IFERROR(VLOOKUP($AR11,Sheet1!$X:$Y,2,0),0))))
A12: 4 | X12: =IF(COUNTBLANK($M12:$W12)>0, "", IF($N12="期刊论文", IF((IFERROR(VLOOKUP($U12,Sheet1!$H:$I,2,0),0)+IFERROR(VLOOKUP($V12,Sheet1!$J:$K,2,0),0))*IFERROR(VLOOKUP($P12,Sheet1!$D:$E,2,0),0)*IFERROR(VLOOKUP($S12,Sheet1!$B:$C,2,0),0)*IF(COUNTIF(Sheet2!$B:$B, $Q12)>0, 0, 1)=0, "", (IFERROR(VLOOKUP($U12,Sheet1!$H:$I,2,0),0)+IFERROR(VLOOKUP($V12,Sheet1!$J:$K,2,0),0))*IFERROR(VLOOKUP($P12,Sheet1!$D:$E,2,0),0)*IFERROR(VLOOKUP($S12,Sheet1!$B:$C,2,0),0)*IF(COUNTIF(Sheet2!$B:$B, $Q12)>0, 0, 1)), IF($N12="著作", IF(IFERROR(VLOOKUP($P12,Sheet1!$F:$G,2,0),0)=0, "", IFERROR(VLOOKUP($P12,Sheet1!$F:$G,2,0),0)), ""))) | AE12: =IF(COUNTBLANK($Y12:$AD12)>0, "", IF(IFERROR(VLOOKUP($Y12,Sheet1!$L:$M,2,0),0)*IFERROR(VLOOKUP($AC12,Sheet1!$N:$O,2,0),0)=0, "", IFERROR(VLOOKUP($Y12,Sheet1!$L:$M,2,0),0)*IFERROR(VLOOKUP($AC12,Sheet1!$N:$O,2,0),0))) | AK12: =IF(COUNTBLANK($AF12:$AJ12)>0,"",IF(IFERROR(VLOOKUP($AH12,Sheet1!$P:$Q,2,0),0)*IFERROR(VLOOKUP($AI12,Sheet1!$R:$S,2,0),0)=0,"",IFERROR(VLOOKUP($AH12,Sheet1!$P:$Q,2,0),0)*IFERROR(VLOOKUP($AI12,Sheet1!$R:$S,2,0),0))) | AQ12: =IF(COUNTBLANK($AL12:$AP12)>0,"",IF(IFERROR(VLOOKUP($AN12,Sheet1!$T:$U,2,0),0)*IFERROR(VLOOKUP($AO12,Sheet1!$V:$W,2,0),0)=0,"",IFERROR(VLOOKUP($AN12,Sheet1!$T:$U,2,0),0)*IFERROR(VLOOKUP($AO12,Sheet1!$V:$W,2,0),0))) | AV12: =IF($AR12="", "", IF(OR($AS12="", $AT12="", $AU12=""), "", IF(IFERROR(VLOOKUP($AR12,Sheet1!$X:$Y,2,0),0)=0, "", IFERROR(VLOOKUP($AR12,Sheet1!$X:$Y,2,0),0))))
A13: 5 | X13: =IF(COUNTBLANK($M13:$W13)>0, "", IF($N13="期刊论文", IF((IFERROR(VLOOKUP($U13,Sheet1!$H:$I,2,0),0)+IFERROR(VLOOKUP($V13,Sheet1!$J:$K,2,0),0))*IFERROR(VLOOKUP($P13,Sheet1!$D:$E,2,0),0)*IFERROR(VLOOKUP($S13,Sheet1!$B:$C,2,0),0)*IF(COUNTIF(Sheet2!$B:$B, $Q13)>0, 0, 1)=0, "", (IFERROR(VLOOKUP($U13,Sheet1!$H:$I,2,0),0)+IFERROR(VLOOKUP($V13,Sheet1!$J:$K,2,0),0))*IFERROR(VLOOKUP($P13,Sheet1!$D:$E,2,0),0)*IFERROR(VLOOKUP($S13,Sheet1!$B:$C,2,0),0)*IF(COUNTIF(Sheet2!$B:$B, $Q13)>0, 0, 1)), IF($N13="著作", IF(IFERROR(VLOOKUP($P13,Sheet1!$F:$G,2,0),0)=0, "", IFERROR(VLOOKUP($P13,Sheet1!$F:$G,2,0),0)), ""))) | AE13: =IF(COUNTBLANK($Y13:$AD13)>0, "", IF(IFERROR(VLOOKUP($Y13,Sheet1!$L:$M,2,0),0)*IFERROR(VLOOKUP($AC13,Sheet1!$N:$O,2,0),0)=0, "", IFERROR(VLOOKUP($Y13,Sheet1!$L:$M,2,0),0)*IFERROR(VLOOKUP($AC13,Sheet1!$N:$O,2,0),0))) | AK13: =IF(COUNTBLANK($AF13:$AJ13)>0,"",IF(IFERROR(VLOOKUP($AH13,Sheet1!$P:$Q,2,0),0)*IFERROR(VLOOKUP($AI13,Sheet1!$R:$S,2,0),0)=0,"",IFERROR(VLOOKUP($AH13,Sheet1!$P:$Q,2,0),0)*IFERROR(VLOOKUP($AI13,Sheet1!$R:$S,2,0),0))) | AQ13: =IF(COUNTBLANK($AL13:$AP13)>0,"",IF(IFERROR(VLOOKUP($AN13,Sheet1!$T:$U,2,0),0)*IFERROR(VLOOKUP($AO13,Sheet1!$V:$W,2,0),0)=0,"",IFERROR(VLOOKUP($AN13,Sheet1!$T:$U,2,0),0)*IFERROR(VLOOKUP($AO13,Sheet1!$V:$W,2,0),0))) | AV13: =IF($AR13="", "", IF(OR($AS13="", $AT13="", $AU13=""), "", IF(IFERROR(VLOOKUP($AR13,Sheet1!$X:$Y,2,0),0)=0, "", IFERROR(VLOOKUP($AR13,Sheet1!$X:$Y,2,0),0))))
A14: 6 | X14: =IF(COUNTBLANK($M14:$W14)>0, "", IF($N14="期刊论文", IF((IFERROR(VLOOKUP($U14,Sheet1!$H:$I,2,0),0)+IFERROR(VLOOKUP($V14,Sheet1!$J:$K,2,0),0))*IFERROR(VLOOKUP($P14,Sheet1!$D:$E,2,0),0)*IFERROR(VLOOKUP($S14,Sheet1!$B:$C,2,0),0)*IF(COUNTIF(Sheet2!$B:$B, $Q14)>0, 0, 1)=0, "", (IFERROR(VLOOKUP($U14,Sheet1!$H:$I,2,0),0)+IFERROR(VLOOKUP($V14,Sheet1!$J:$K,2,0),0))*IFERROR(VLOOKUP($P14,Sheet1!$D:$E,2,0),0)*IFERROR(VLOOKUP($S14,Sheet1!$B:$C,2,0),0)*IF(COUNTIF(Sheet2!$B:$B, $Q14)>0, 0, 1)), IF($N14="著作", IF(IFERROR(VLOOKUP($P14,Sheet1!$F:$G,2,0),0)=0, "", IFERROR(VLOOKUP($P14,Sheet1!$F:$G,2,0),0)), ""))) | AE14: =IF(COUNTBLANK($Y14:$AD14)>0, "", IF(IFERROR(VLOOKUP($Y14,Sheet1!$L:$M,2,0),0)*IFERROR(VLOOKUP($AC14,Sheet1!$N:$O,2,0),0)=0, "", IFERROR(VLOOKUP($Y14,Sheet1!$L:$M,2,0),0)*IFERROR(VLOOKUP($AC14,Sheet1!$N:$O,2,0),0))) | AK14: =IF(COUNTBLANK($AF14:$AJ14)>0,"",IF(IFERROR(VLOOKUP($AH14,Sheet1!$P:$Q,2,0),0)*IFERROR(VLOOKUP($AI14,Sheet1!$R:$S,2,0),0)=0,"",IFERROR(VLOOKUP($AH14,Sheet1!$P:$Q,2,0),0)*IFERROR(VLOOKUP($AI14,Sheet1!$R:$S,2,0),0))) | AQ14: =IF(COUNTBLANK($AL14:$AP14)>0,"",IF(IFERROR(VLOOKUP($AN14,Sheet1!$T:$U,2,0),0)*IFERROR(VLOOKUP($AO14,Sheet1!$V:$W,2,0),0)=0,"",IFERROR(VLOOKUP($AN14,Sheet1!$T:$U,2,0),0)*IFERROR(VLOOKUP($AO14,Sheet1!$V:$W,2,0),0))) | AV14: =IF($AR14="", "", IF(OR($AS14="", $AT14="", $AU14=""), "", IF(IFERROR(VLOOKUP($AR14,Sheet1!$X:$Y,2,0),0)=0, "", IFERROR(VLOOKUP($AR14,Sheet1!$X:$Y,2,0),0))))
A15: 7 | X15: =IF(COUNTBLANK($M15:$W15)>0, "", IF($N15="期刊论文", IF((IFERROR(VLOOKUP($U15,Sheet1!$H:$I,2,0),0)+IFERROR(VLOOKUP($V15,Sheet1!$J:$K,2,0),0))*IFERROR(VLOOKUP($P15,Sheet1!$D:$E,2,0),0)*IFERROR(VLOOKUP($S15,Sheet1!$B:$C,2,0),0)*IF(COUNTIF(Sheet2!$B:$B, $Q15)>0, 0, 1)=0, "", (IFERROR(VLOOKUP($U15,Sheet1!$H:$I,2,0),0)+IFERROR(VLOOKUP($V15,Sheet1!$J:$K,2,0),0))*IFERROR(VLOOKUP($P15,Sheet1!$D:$E,2,0),0)*IFERROR(VLOOKUP($S15,Sheet1!$B:$C,2,0),0)*IF(COUNTIF(Sheet2!$B:$B, $Q15)>0, 0, 1)), IF($N15="著作", IF(IFERROR(VLOOKUP($P15,Sheet1!$F:$G,2,0),0)=0, "", IFERROR(VLOOKUP($P15,Sheet1!$F:$G,2,0),0)), ""))) | AE15: =IF(COUNTBLANK($Y15:$AD15)>0, "", IF(IFERROR(VLOOKUP($Y15,Sheet1!$L:$M,2,0),0)*IFERROR(VLOOKUP($AC15,Sheet1!$N:$O,2,0),0)=0, "", IFERROR(VLOOKUP($Y15,Sheet1!$L:$M,2,0),0)*IFERROR(VLOOKUP($AC15,Sheet1!$N:$O,2,0),0))) | AK15: =IF(COUNTBLANK($AF15:$AJ15)>0,"",IF(IFERROR(VLOOKUP($AH15,Sheet1!$P:$Q,2,0),0)*IFERROR(VLOOKUP($AI15,Sheet1!$R:$S,2,0),0)=0,"",IFERROR(VLOOKUP($AH15,Sheet1!$P:$Q,2,0),0)*IFERROR(VLOOKUP($AI15,Sheet1!$R:$S,2,0),0))) | AQ15: =IF(COUNTBLANK($AL15:$AP15)>0,"",IF(IFERROR(VLOOKUP($AN15,Sheet1!$T:$U,2,0),0)*IFERROR(VLOOKUP($AO15,Sheet1!$V:$W,2,0),0)=0,"",IFERROR(VLOOKUP($AN15,Sheet1!$T:$U,2,0),0)*IFERROR(VLOOKUP($AO15,Sheet1!$V:$W,2,0),0))) | AV15: =IF($AR15="", "", IF(OR($AS15="", $AT15="", $AU15=""), "", IF(IFERROR(VLOOKUP($AR15,Sheet1!$X:$Y,2,0),0)=0, "", IFERROR(VLOOKUP($AR15,Sheet1!$X:$Y,2,0),0))))
A16: 8 | X16: =IF(COUNTBLANK($M16:$W16)>0, "", IF($N16="期刊论文", IF((IFERROR(VLOOKUP($U16,Sheet1!$H:$I,2,0),0)+IFERROR(VLOOKUP($V16,Sheet1!$J:$K,2,0),0))*IFERROR(VLOOKUP($P16,Sheet1!$D:$E,2,0),0)*IFERROR(VLOOKUP($S16,Sheet1!$B:$C,2,0),0)*IF(COUNTIF(Sheet2!$B:$B, $Q16)>0, 0, 1)=0, "", (IFERROR(VLOOKUP($U16,Sheet1!$H:$I,2,0),0)+IFERROR(VLOOKUP($V16,Sheet1!$J:$K,2,0),0))*IFERROR(VLOOKUP($P16,Sheet1!$D:$E,2,0),0)*IFERROR(VLOOKUP($S16,Sheet1!$B:$C,2,0),0)*IF(COUNTIF(Sheet2!$B:$B, $Q16)>0, 0, 1)), IF($N16="著作", IF(IFERROR(VLOOKUP($P16,Sheet1!$F:$G,2,0),0)=0, "", IFERROR(VLOOKUP($P16,Sheet1!$F:$G,2,0),0)), ""))) | AE16: =IF(COUNTBLANK($Y16:$AD16)>0, "", IF(IFERROR(VLOOKUP($Y16,Sheet1!$L:$M,2,0),0)*IFERROR(VLOOKUP($AC16,Sheet1!$N:$O,2,0),0)=0, "", IFERROR(VLOOKUP($Y16,Sheet1!$L:$M,2,0),0)*IFERROR(VLOOKUP($AC16,Sheet1!$N:$O,2,0),0))) | AK16: =IF(COUNTBLANK($AF16:$AJ16)>0,"",IF(IFERROR(VLOOKUP($AH16,Sheet1!$P:$Q,2,0),0)*IFERROR(VLOOKUP($AI16,Sheet1!$R:$S,2,0),0)=0,"",IFERROR(VLOOKUP($AH16,Sheet1!$P:$Q,2,0),0)*IFERROR(VLOOKUP($AI16,Sheet1!$R:$S,2,0),0))) | AQ16: =IF(COUNTBLANK($AL16:$AP16)>0,"",IF(IFERROR(VLOOKUP($AN16,Sheet1!$T:$U,2,0),0)*IFERROR(VLOOKUP($AO16,Sheet1!$V:$W,2,0),0)=0,"",IFERROR(VLOOKUP($AN16,Sheet1!$T:$U,2,0),0)*IFERROR(VLOOKUP($AO16,Sheet1!$V:$W,2,0),0))) | AV16: =IF($AR16="", "", IF(OR($AS16="", $AT16="", $AU16=""), "", IF(IFERROR(VLOOKUP($AR16,Sheet1!$X:$Y,2,0),0)=0, "", IFERROR(VLOOKUP($AR16,Sheet1!$X:$Y,2,0),0))))
A17: 9 | X17: =IF(COUNTBLANK($M17:$W17)>0, "", IF($N17="期刊论文", IF((IFERROR(VLOOKUP($U17,Sheet1!$H:$I,2,0),0)+IFERROR(VLOOKUP($V17,Sheet1!$J:$K,2,0),0))*IFERROR(VLOOKUP($P17,Sheet1!$D:$E,2,0),0)*IFERROR(VLOOKUP($S17,Sheet1!$B:$C,2,0),0)*IF(COUNTIF(Sheet2!$B:$B, $Q17)>0, 0, 1)=0, "", (IFERROR(VLOOKUP($U17,Sheet1!$H:$I,2,0),0)+IFERROR(VLOOKUP($V17,Sheet1!$J:$K,2,0),0))*IFERROR(VLOOKUP($P17,Sheet1!$D:$E,2,0),0)*IFERROR(VLOOKUP($S17,Sheet1!$B:$C,2,0),0)*IF(COUNTIF(Sheet2!$B:$B, $Q17)>0, 0, 1)), IF($N17="著作", IF(IFERROR(VLOOKUP($P17,Sheet1!$F:$G,2,0),0)=0, "", IFERROR(VLOOKUP($P17,Sheet1!$F:$G,2,0),0)), ""))) | AE17: =IF(COUNTBLANK($Y17:$AD17)>0, "", IF(IFERROR(VLOOKUP($Y17,Sheet1!$L:$M,2,0),0)*IFERROR(VLOOKUP($AC17,Sheet1!$N:$O,2,0),0)=0, "", IFERROR(VLOOKUP($Y17,Sheet1!$L:$M,2,0),0)*IFERROR(VLOOKUP($AC17,Sheet1!$N:$O,2,0),0))) | AK17: =IF(COUNTBLANK($AF17:$AJ17)>0,"",IF(IFERROR(VLOOKUP($AH17,Sheet1!$P:$Q,2,0),0)*IFERROR(VLOOKUP($AI17,Sheet1!$R:$S,2,0),0)=0,"",IFERROR(VLOOKUP($AH17,Sheet1!$P:$Q,2,0),0)*IFERROR(VLOOKUP($AI17,Sheet1!$R:$S,2,0),0))) | AQ17: =IF(COUNTBLANK($AL17:$AP17)>0,"",IF(IFERROR(VLOOKUP($AN17,Sheet1!$T:$U,2,0),0)*IFERROR(VLOOKUP($AO17,Sheet1!$V:$W,2,0),0)=0,"",IFERROR(VLOOKUP($AN17,Sheet1!$T:$U,2,0),0)*IFERROR(VLOOKUP($AO17,Sheet1!$V:$W,2,0),0))) | AV17: =IF($AR17="", "", IF(OR($AS17="", $AT17="", $AU17=""), "", IF(IFERROR(VLOOKUP($AR17,Sheet1!$X:$Y,2,0),0)=0, "", IFERROR(VLOOKUP($AR17,Sheet1!$X:$Y,2,0),0))))
A18: 10 | X18: =IF(COUNTBLANK($M18:$W18)>0, "", IF($N18="期刊论文", IF((IFERROR(VLOOKUP($U18,Sheet1!$H:$I,2,0),0)+IFERROR(VLOOKUP($V18,Sheet1!$J:$K,2,0),0))*IFERROR(VLOOKUP($P18,Sheet1!$D:$E,2,0),0)*IFERROR(VLOOKUP($S18,Sheet1!$B:$C,2,0),0)*IF(COUNTIF(Sheet2!$B:$B, $Q18)>0, 0, 1)=0, "", (IFERROR(VLOOKUP($U18,Sheet1!$H:$I,2,0),0)+IFERROR(VLOOKUP($V18,Sheet1!$J:$K,2,0),0))*IFERROR(VLOOKUP($P18,Sheet1!$D:$E,2,0),0)*IFERROR(VLOOKUP($S18,Sheet1!$B:$C,2,0),0)*IF(COUNTIF(Sheet2!$B:$B, $Q18)>0, 0, 1)), IF($N18="著作", IF(IFERROR(VLOOKUP($P18,Sheet1!$F:$G,2,0),0)=0, "", IFERROR(VLOOKUP($P18,Sheet1!$F:$G,2,0),0)), ""))) | AE18: =IF(COUNTBLANK($Y18:$AD18)>0, "", IF(IFERROR(VLOOKUP($Y18,Sheet1!$L:$M,2,0),0)*IFERROR(VLOOKUP($AC18,Sheet1!$N:$O,2,0),0)=0, "", IFERROR(VLOOKUP($Y18,Sheet1!$L:$M,2,0),0)*IFERROR(VLOOKUP($AC18,Sheet1!$N:$O,2,0),0))) | AK18: =IF(COUNTBLANK($AF18:$AJ18)>0,"",IF(IFERROR(VLOOKUP($AH18,Sheet1!$P:$Q,2,0),0)*IFERROR(VLOOKUP($AI18,Sheet1!$R:$S,2,0),0)=0,"",IFERROR(VLOOKUP($AH18,Sheet1!$P:$Q,2,0),0)*IFERROR(VLOOKUP($AI18,Sheet1!$R:$S,2,0),0))) | AQ18: =IF(COUNTBLANK($AL18:$AP18)>0,"",IF(IFERROR(VLOOKUP($AN18,Sheet1!$T:$U,2,0),0)*IFERROR(VLOOKUP($AO18,Sheet1!$V:$W,2,0),0)=0,"",IFERROR(VLOOKUP($AN18,Sheet1!$T:$U,2,0),0)*IFERROR(VLOOKUP($AO18,Sheet1!$V:$W,2,0),0))) | AV18: =IF($AR18="", "", IF(OR($AS18="", $AT18="", $AU18=""), "", IF(IFERROR(VLOOKUP($AR18,Sheet1!$X:$Y,2,0),0)=0, "", IFERROR(VLOOKUP($AR18,Sheet1!$X:$Y,2,0),0))))
A19: 11 | X19: =IF(COUNTBLANK($M19:$W19)>0, "", IF($N19="期刊论文", IF((IFERROR(VLOOKUP($U19,Sheet1!$H:$I,2,0),0)+IFERROR(VLOOKUP($V19,Sheet1!$J:$K,2,0),0))*IFERROR(VLOOKUP($P19,Sheet1!$D:$E,2,0),0)*IFERROR(VLOOKUP($S19,Sheet1!$B:$C,2,0),0)*IF(COUNTIF(Sheet2!$B:$B, $Q19)>0, 0, 1)=0, "", (IFERROR(VLOOKUP($U19,Sheet1!$H:$I,2,0),0)+IFERROR(VLOOKUP($V19,Sheet1!$J:$K,2,0),0))*IFERROR(VLOOKUP($P19,Sheet1!$D:$E,2,0),0)*IFERROR(VLOOKUP($S19,Sheet1!$B:$C,2,0),0)*IF(COUNTIF(Sheet2!$B:$B, $Q19)>0, 0, 1)), IF($N19="著作", IF(IFERROR(VLOOKUP($P19,Sheet1!$F:$G,2,0),0)=0, "", IFERROR(VLOOKUP($P19,Sheet1!$F:$G,2,0),0)), ""))) | AE19: =IF(COUNTBLANK($Y19:$AD19)>0, "", IF(IFERROR(VLOOKUP($Y19,Sheet1!$L:$M,2,0),0)*IFERROR(VLOOKUP($AC19,Sheet1!$N:$O,2,0),0)=0, "", IFERROR(VLOOKUP($Y19,Sheet1!$L:$M,2,0),0)*IFERROR(VLOOKUP($AC19,Sheet1!$N:$O,2,0),0))) | AK19: =IF(COUNTBLANK($AF19:$AJ19)>0,"",IF(IFERROR(VLOOKUP($AH19,Sheet1!$P:$Q,2,0),0)*IFERROR(VLOOKUP($AI19,Sheet1!$R:$S,2,0),0)=0,"",IFERROR(VLOOKUP($AH19,Sheet1!$P:$Q,2,0),0)*IFERROR(VLOOKUP($AI19,Sheet1!$R:$S,2,0),0))) | AQ19: =IF(COUNTBLANK($AL19:$AP19)>0,"",IF(IFERROR(VLOOKUP($AN19,Sheet1!$T:$U,2,0),0)*IFERROR(VLOOKUP($AO19,Sheet1!$V:$W,2,0),0)=0,"",IFERROR(VLOOKUP($AN19,Sheet1!$T:$U,2,0),0)*IFERROR(VLOOKUP($AO19,Sheet1!$V:$W,2,0),0))) | AV19: =IF($AR19="", "", IF(OR($AS19="", $AT19="", $AU19=""), "", IF(IFERROR(VLOOKUP($AR19,Sheet1!$X:$Y,2,0),0)=0, "", IFERROR(VLOOKUP($AR19,Sheet1!$X:$Y,2,0),0))))
A20: 12 | X20: =IF(COUNTBLANK($M20:$W20)>0, "", IF($N20="期刊论文", IF((IFERROR(VLOOKUP($U20,Sheet1!$H:$I,2,0),0)+IFERROR(VLOOKUP($V20,Sheet1!$J:$K,2,0),0))*IFERROR(VLOOKUP($P20,Sheet1!$D:$E,2,0),0)*IFERROR(VLOOKUP($S20,Sheet1!$B:$C,2,0),0)*IF(COUNTIF(Sheet2!$B:$B, $Q20)>0, 0, 1)=0, "", (IFERROR(VLOOKUP($U20,Sheet1!$H:$I,2,0),0)+IFERROR(VLOOKUP($V20,Sheet1!$J:$K,2,0),0))*IFERROR(VLOOKUP($P20,Sheet1!$D:$E,2,0),0)*IFERROR(VLOOKUP($S20,Sheet1!$B:$C,2,0),0)*IF(COUNTIF(Sheet2!$B:$B, $Q20)>0, 0, 1)), IF($N20="著作", IF(IFERROR(VLOOKUP($P20,Sheet1!$F:$G,2,0),0)=0, "", IFERROR(VLOOKUP($P20,Sheet1!$F:$G,2,0),0)), ""))) | AE20: =IF(COUNTBLANK($Y20:$AD20)>0, "", IF(IFERROR(VLOOKUP($Y20,Sheet1!$L:$M,2,0),0)*IFERROR(VLOOKUP($AC20,Sheet1!$N:$O,2,0),0)=0, "", IFERROR(VLOOKUP($Y20,Sheet1!$L:$M,2,0),0)*IFERROR(VLOOKUP($AC20,Sheet1!$N:$O,2,0),0))) | AK20: =IF(COUNTBLANK($AF20:$AJ20)>0,"",IF(IFERROR(VLOOKUP($AH20,Sheet1!$P:$Q,2,0),0)*IFERROR(VLOOKUP($AI20,Sheet1!$R:$S,2,0),0)=0,"",IFERROR(VLOOKUP($AH20,Sheet1!$P:$Q,2,0),0)*IFERROR(VLOOKUP($AI20,Sheet1!$R:$S,2,0),0))) | AQ20: =IF(COUNTBLANK($AL20:$AP20)>0,"",IF(IFERROR(VLOOKUP($AN20,Sheet1!$T:$U,2,0),0)*IFERROR(VLOOKUP($AO20,Sheet1!$V:$W,2,0),0)=0,"",IFERROR(VLOOKUP($AN20,Sheet1!$T:$U,2,0),0)*IFERROR(VLOOKUP($AO20,Sheet1!$V:$W,2,0),0))) | AV20: =IF($AR20="", "", IF(OR($AS20="", $AT20="", $AU20=""), "", IF(IFERROR(VLOOKUP($AR20,Sheet1!$X:$Y,2,0),0)=0, "", IFERROR(VLOOKUP($AR20,Sheet1!$X:$Y,2,0),0))))
A21: 13 | X21: =IF(COUNTBLANK($M21:$W21)>0, "", IF($N21="期刊论文", IF((IFERROR(VLOOKUP($U21,Sheet1!$H:$I,2,0),0)+IFERROR(VLOOKUP($V21,Sheet1!$J:$K,2,0),0))*IFERROR(VLOOKUP($P21,Sheet1!$D:$E,2,0),0)*IFERROR(VLOOKUP($S21,Sheet1!$B:$C,2,0),0)*IF(COUNTIF(Sheet2!$B:$B, $Q21)>0, 0, 1)=0, "", (IFERROR(VLOOKUP($U21,Sheet1!$H:$I,2,0),0)+IFERROR(VLOOKUP($V21,Sheet1!$J:$K,2,0),0))*IFERROR(VLOOKUP($P21,Sheet1!$D:$E,2,0),0)*IFERROR(VLOOKUP($S21,Sheet1!$B:$C,2,0),0)*IF(COUNTIF(Sheet2!$B:$B, $Q21)>0, 0, 1)), IF($N21="著作", IF(IFERROR(VLOOKUP($P21,Sheet1!$F:$G,2,0),0)=0, "", IFERROR(VLOOKUP($P21,Sheet1!$F:$G,2,0),0)), ""))) | AE21: =IF(COUNTBLANK($Y21:$AD21)>0, "", IF(IFERROR(VLOOKUP($Y21,Sheet1!$L:$M,2,0),0)*IFERROR(VLOOKUP($AC21,Sheet1!$N:$O,2,0),0)=0, "", IFERROR(VLOOKUP($Y21,Sheet1!$L:$M,2,0),0)*IFERROR(VLOOKUP($AC21,Sheet1!$N:$O,2,0),0))) | AK21: =IF(COUNTBLANK($AF21:$AJ21)>0,"",IF(IFERROR(VLOOKUP($AH21,Sheet1!$P:$Q,2,0),0)*IFERROR(VLOOKUP($AI21,Sheet1!$R:$S,2,0),0)=0,"",IFERROR(VLOOKUP($AH21,Sheet1!$P:$Q,2,0),0)*IFERROR(VLOOKUP($AI21,Sheet1!$R:$S,2,0),0))) | AQ21: =IF(COUNTBLANK($AL21:$AP21)>0,"",IF(IFERROR(VLOOKUP($AN21,Sheet1!$T:$U,2,0),0)*IFERROR(VLOOKUP($AO21,Sheet1!$V:$W,2,0),0)=0,"",IFERROR(VLOOKUP($AN21,Sheet1!$T:$U,2,0),0)*IFERROR(VLOOKUP($AO21,Sheet1!$V:$W,2,0),0))) | AV21: =IF($AR21="", "", IF(OR($AS21="", $AT21="", $AU21=""), "", IF(IFERROR(VLOOKUP($AR21,Sheet1!$X:$Y,2,0),0)=0, "", IFERROR(VLOOKUP($AR21,Sheet1!$X:$Y,2,0),0))))
A22: 14 | X22: =IF(COUNTBLANK($M22:$W22)>0, "", IF($N22="期刊论文", IF((IFERROR(VLOOKUP($U22,Sheet1!$H:$I,2,0),0)+IFERROR(VLOOKUP($V22,Sheet1!$J:$K,2,0),0))*IFERROR(VLOOKUP($P22,Sheet1!$D:$E,2,0),0)*IFERROR(VLOOKUP($S22,Sheet1!$B:$C,2,0),0)*IF(COUNTIF(Sheet2!$B:$B, $Q22)>0, 0, 1)=0, "", (IFERROR(VLOOKUP($U22,Sheet1!$H:$I,2,0),0)+IFERROR(VLOOKUP($V22,Sheet1!$J:$K,2,0),0))*IFERROR(VLOOKUP($P22,Sheet1!$D:$E,2,0),0)*IFERROR(VLOOKUP($S22,Sheet1!$B:$C,2,0),0)*IF(COUNTIF(Sheet2!$B:$B, $Q22)>0, 0, 1)), IF($N22="著作", IF(IFERROR(VLOOKUP($P22,Sheet1!$F:$G,2,0),0)=0, "", IFERROR(VLOOKUP($P22,Sheet1!$F:$G,2,0),0)), ""))) | AE22: =IF(COUNTBLANK($Y22:$AD22)>0, "", IF(IFERROR(VLOOKUP($Y22,Sheet1!$L:$M,2,0),0)*IFERROR(VLOOKUP($AC22,Sheet1!$N:$O,2,0),0)=0, "", IFERROR(VLOOKUP($Y22,Sheet1!$L:$M,2,0),0)*IFERROR(VLOOKUP($AC22,Sheet1!$N:$O,2,0),0))) | AK22: =IF(COUNTBLANK($AF22:$AJ22)>0,"",IF(IFERROR(VLOOKUP($AH22,Sheet1!$P:$Q,2,0),0)*IFERROR(VLOOKUP($AI22,Sheet1!$R:$S,2,0),0)=0,"",IFERROR(VLOOKUP($AH22,Sheet1!$P:$Q,2,0),0)*IFERROR(VLOOKUP($AI22,Sheet1!$R:$S,2,0),0))) | AQ22: =IF(COUNTBLANK($AL22:$AP22)>0,"",IF(IFERROR(VLOOKUP($AN22,Sheet1!$T:$U,2,0),0)*IFERROR(VLOOKUP($AO22,Sheet1!$V:$W,2,0),0)=0,"",IFERROR(VLOOKUP($AN22,Sheet1!$T:$U,2,0),0)*IFERROR(VLOOKUP($AO22,Sheet1!$V:$W,2,0),0))) | AV22: =IF($AR22="", "", IF(OR($AS22="", $AT22="", $AU22=""), "", IF(IFERROR(VLOOKUP($AR22,Sheet1!$X:$Y,2,0),0)=0, "", IFERROR(VLOOKUP($AR22,Sheet1!$X:$Y,2,0),0))))
... A28: 20 | X28: =IF(COUNTBLANK($M28:$W28)>0, "", IF($N28="期刊论文", IF((IFERROR(VLOOKUP($U28,Sheet1!$H:$I,2,0),0)+IFERROR(VLOOKUP($V28,Sheet1!$J:$K,2,0),0))*IFERROR(VLOOKUP($P28,Sheet1!$D:$E,2,0),0)*IFERROR(VLOOKUP($S28,Sheet1!$B:$C,2,0),0)*IF(COUNTIF(Sheet2!$B:$B, $Q28)>0, 0, 1)=0, "", (IFERROR(VLOOKUP($U28,Sheet1!$H:$I,2,0),0)+IFERROR(VLOOKUP($V28,Sheet1!$J:$K,2,0),0))*IFERROR(VLOOKUP($P28,Sheet1!$D:$E,2,0),0)*IFERROR(VLOOKUP($S28,Sheet1!$B:$C,2,0),0)*IF(COUNTIF(Sheet2!$B:$B, $Q28)>0, 0, 1)), IF($N28="著作", IF(IFERROR(VLOOKUP($P28,Sheet1!$F:$G,2,0),0)=0, "", IFERROR(VLOOKUP($P28,Sheet1!$F:$G,2,0),0)), ""))) | AE28: =IF(COUNTBLANK($Y28:$AD28)>0, "", IF(IFERROR(VLOOKUP($Y28,Sheet1!$L:$M,2,0),0)*IFERROR(VLOOKUP($AC28,Sheet1!$N:$O,2,0),0)=0, "", IFERROR(VLOOKUP($Y28,Sheet1!$L:$M,2,0),0)*IFERROR(VLOOKUP($AC28,Sheet1!$N:$O,2,0),0))) | AK28: =IF(COUNTBLANK($AF28:$AJ28)>0,"",IF(IFERROR(VLOOKUP($AH28,Sheet1!$P:$Q,2,0),0)*IFERROR(VLOOKUP($AI28,Sheet1!$R:$S,2,0),0)=0,"",IFERROR(VLOOKUP($AH28,Sheet1!$P:$Q,2,0),0)*IFERROR(VLOOKUP($AI28,Sheet1!$R:$S,2,0),0))) | AQ28: =IF(COUNTBLANK($AL28:$AP28)>0,"",IF(IFERROR(VLOOKUP($AN28,Sheet1!$T:$U,2,0),0)*IFERROR(VLOOKUP($AO28,Sheet1!$V:$W,2,0),0)=0,"",IFERROR(VLOOKUP($AN28,Sheet1!$T:$U,2,0),0)*IFERROR(VLOOKUP($AO28,Sheet1!$V:$W,2,0),0))) | AV28: =IF($AR28="", "", IF(OR($AS28="", $AT28="", $AU28=""), "", IF(IFERROR(VLOOKUP($AR28,Sheet1!$X:$Y,2,0),0)=0, "", IFERROR(VLOOKUP($AR28,Sheet1!$X:$Y,2,0),0))))

Sheet Sheet1
A1: 成果类别 | B1: 论文状态 | C1: 系数 | D1: 期刊论文 | E1: 系数 | F1: 著作排名 | G1: 著作分值 | H1: 论文级别 | I1: 分值 | J1: 高水平论文加分 | K1: 分值 | L1: 专利类别 | M1: 对应分值 | N1: 作者排名 | O1: 对应分值 | P1: 科技竞赛获奖类型 | Q1: 对应分值 | R1: 获奖级别 | S1: 对应分值 | T1: 科研荣誉类型 | U1: 对应分值 | V1: 获奖级别 | W1: 对应分值 | X1: 外语考试类型 | Y1: 对应分值 | Z1: 论文状态 | AA1: 对应分值 | AB1: 年级 | AC1: 对应课程分值
A2: 期刊论文 | B2: 正式发表(含online) | C2: 1 | D2: 第1作者 | E2: 1 | F2: 独著 | G2: 10 | H2: SCI | I2: 2 | J2: JCR一区 | K2: 2.5 | L2: 获授权的发明专利 | M2: 1 | N2: 导师第1作者、本人第2作者 | O2: 0.5 | P2: 团队 | Q2: 0.5 | R2: 国际竞赛一等奖 | S2: 4 | T2: 团队 | U2: 0.5 | V2: 全国类荣誉称号 | W2: 5 | X2: 雅思≥6.5 | Y2: 0.5 | Z2: 正式发表(含online) | AA2: 1 | AB2: 2021硕士
A3: 著作 | B3: 已录用 | C3: 1 | D3: 导师第1作者、本人第2作者 | E3: 0.5 | F3: 第1作者(合著) | G3: 6 | H3: EI | I3: 1.5 | J3: JCR二区 | K3: 1.5 | L3: 获授权的实用新型专利 | M3: 0.5 | N3: 第1作者 | O3: 1 | P3: 个人 | Q3: 1 | R3: 国际竞赛二等奖 | S3: 3 | T3: 个人 | U3: 1 | V3: 省部类荣誉称号 | W3: 2 | X3: 托福≥90 | Y3: 0.5 | Z3: 已录用 | AA3: 1 | AB3: 2020硕士
B4: 已出版 | C4: 1 | D4: 无 | E4: 0 | F4: 第2作者(合著) | G4: 3 | H4: 中文核心 | I4: 1 | J4: JCR三区 | K4: 0 | L4: 无 | M4: 0 | N4: 无 | O4: 0 | P4: 无 | Q4: 0 | R4: 国际竞赛三等奖 | S4: 2 | T4: 无 | U4: 0 | V4: 成都市或相当城市市级类荣誉称号 | W4: 1 | X4: 无 | Y4: 0 | Z4: 无 | AA4: 0 | AB4: 2021博士
B5: 无 | C5: 0 | F5: 第3作者(合著) | G5: 1 | H5: 无 | I5: 0 | J5: JCR四区 | K5: 0 | R5: 全国竞赛一等奖 | S5: 3 | V5: 参加境外国际会议并获得优秀论文称号 | W5: 2 | AB5: 2020博士 | AC5: 70
F6: 其他 | G6: 0 | J6: 高水平EI论文 | K6: 0.5 | R6: 全国竞赛二等奖 | S6: 2 | V6: 参加一级学会及以上会议或境内国际会议并获得优秀论文称号 | W6: 1 | AB6: 2019博士 | AC6: 70
J7: 无 | K7: 0 | R7: 全国竞赛三等奖 | S7: 1 | V7: 无 | W7: 0 | AB7: 2018博士 | AC7: 70
R8: 省部级竞赛一等奖 | S8: 2 | AB8: 2017博士 | AC8: 70
R9: 省部级竞赛二等奖 | S9: 1
R10: 无 | S10: 0

Sheet Sheet2
A1: 学科 | B1: 期刊 | C1: 预警 | D1: 备注
A2: 材料科学 | B2: Metals | C2: 低 | D2: 2020年
B3: Coatings | C3: 低 | D3: 2020年
B4: Materials | C4: 低 | D4: 2020年
B5: JOURNAL OF NANOSCIENCE AND NANOTECHNOLOGY | C5: 低 | D5: 2020年
A6: 地球科学 | B6: Minerals | C6: 低 | D6: 2020年
B7: Atmosphere | C7: 低 | D7: 2020年
A8: 工程技术 | B8: Artificial Cells Nanomedicine and Biotechnology | C8: 高 | D8: 2020年
B9: Advances in Civil Engineering | C9: 中 | D9: 2020年
B10: INTERNATIONAL JOURNAL OF ENERGY RESEARCH | C10: 中 | D10: 2020年
B11: MATHEMATICAL PROBLEMS IN ENGINEERING | C11: 中 | D11: 2020年
B12: SENSORS | C12: 低 | D12: 2020年
B13: Energies | C13: 低 | D13: 2020年
B14: Applied Sciences-Basel | C14: 低 | D14: 2020年
B15: Polymers | C15: 低 | D15: 2020年
B16: Electronics | C16: 低 | D16: 2020年
B17: Processes | C17: 低 | D17: 2020年
B18: COMPLEXITY | C18: 低 | D18: 2020年
B19: Desalination and Water Treatment | C19: 低 | D19: 2020年
A20: 化学 | B20: International Journal of Electrochemical Science | C20: 中 | D20: 2020年
B21: Catalysts | C21: 低 | D21: 2020年
B22: MOLECULES | C22: 低 | D22: 2020年
B23: NATURAL PRODUCT RESEARCH | C23: 低 | D23: 2020年
B24: ZEITSCHRIFT FUR KRISTALLOGRAPHIE-NEW CRYSTAL STRUCTURES | C24: 低 | D24: 2020年
A25: 环境科学与生态学 | B25: Sustainability | C25: 中 | D25: 2020年
B26: Water | C26: 低 | D26: 2020年
A27: 计算机科学 | B27: IEEE Access | C27: 中 | D27: 2020年
A28: 农林科学 | B28: Agronomy-Basel | C28: 低 | D28: 2020年
A29: 生物学 | B29: JOURNAL OF CELLULAR BIOCHEMISTRY | C29: 高 | D29: 2020年
B30: JOURNAL OF CELLULAR PHYSIOLOGY | C30: 中 | D30: 2020年
B31: BIOSCIENCE REPORTS | C31: 中 | D31: 2020年
B32: Biomed Research International | C32: 中 | D32: 2020年
B33: BIOFACTORS | C33: 低 | D33: 2020年
B34: Plants-Basel | C34: 低 | D34: 2020年
B35: Cells | C35: 低 | D35: 2020年
A36: 数学 | B36: Boundary Value Problems | C36: 高 | D36: 2020年
B37: Advances in Difference Equations | C37: 高 | D37: 2020年
B38: JOURNAL OF INEQUALITIES AND APPLICATIONS | C38: 中 | D38: 2020年
B39: Mathematics | C39: 低 | D39: 2020年
A40: 医学 | B40: European Review for Medical and Pharmacological Sciences | C40: 高 | D40: 2020年
B41: International Journal of Clinical and Experimental Pathology | C41: 高 | D41: 2020年
B42: MEDICINE | C42: 高 | D42: 2020年
B43: International Journal of Clinical and Experimental Medicine | C43: 高 | D43: 2020年
B44: BIOMEDICINE & PHARMACOTHERAPY | C44: 中 | D44: 2020年
B45: EXPERIMENTAL AND MOLECULAR PATHOLOGY | C45: 中 | D45: 2020年
B46: BRAZILIAN JOURNAL OF MEDICAL AND BIOLOGICAL RESEARCH | C46: 中 | D46: 2020年
B47: Cancer Biomarkers | C47: 中 | D47: 2020年
B48: INTERNATIONAL JOURNAL OF IMMUNOPATHOLOGY AND PHARMACOLOGY | C48: 中 | D48: 2020年
B49: ONCOLOGY RESEARCH | C49: 中 | D49: 2020年
B50: American Journal of Cancer Research | C50: 中 | D50: 2020年
B51: MEDICAL SCIENCE MONITOR | C51: 中 | D51: 2020年
B52: Oncology Letters | C52: 中 | D52: 2020年
... B65: Acta Medica Mediterranea | C65: 低 | D65: 2020年
A66: 综合性期刊 | B66: Symmetry-Basel | C66: 低 | D66: 2020年
A67: 工程技术 | B67: Complexity | C67: 中 | D67: 2021年
B68: Shock and Vibration | C68: 中 | D68: 2021年
B69: Advances in Civil Engineering | C69: 中 | D69: 2021年
B70: Biomedicines | C70: 低 | D70: 2021年
A71: 计算机科学 | B71: Microprocessors and Microsystems | C71: 高 | D71: 2021年
B72: Scientific Programming | C72: 低 | D72: 2021年
A73: 生物学 | B73: BioFactors | C73: 高 | D73: 2021年
B74: Mitochondrial DNA Part B-Resources | C74: 中 | D74: 2021年
B75: Frontiers in Molecular Biosciences | C75: 低 | D75: 2021年
B76: Frontiers in Cell and Developmental Biology | C76: 低 | D76: 2021年
B77: Life-Basel | C77: 低 | D77: 2021年
B78: Biology-Basel | C78: 低 | D78: 2021年
A79: 数学 | B79: Discrete Dynamics in Nature and Society | C79: 中 | D79: 2021年
B80: AIMS Mathematics | C80: 低 | D80: 2021年
B81: Journal of Mathematics | C81: 低 | D81: 2021年
A82: 医学 | B82: Pharmazie | C82: 高 | D82: 2021年
B83: Molecular Therapy-Nucleic Acids | C83: 高 | D83: 2021年
B84: Experimental and Molecular Pathology | C84: 高 | D84: 2021年
B85: Journal of Cellular and Molecular Medicine | C85: 中 | D85: 2021年
B86: Molecular Medicine Reports | C86: 中 | D86: 2021年
B87: Journal of International Medical Research | C87: 中 | D87: 2021年
B88: Journal of Cancer | C88: 中 | D88: 2021年
B89: Medical Science Monitor | C89: 中 | D89: 2021年
B90: Aging-US | C90: 中 | D90: 2021年
B91: OncoTargets and Therapy | C91: 中 | D91: 2021年
B92: Cancer Management and Research | C92: 中 | D92: 2021年
B93: Cancer Cell International | C93: 中 | D93: 2021年
B94: World Journal of Clinical Cases | C94: 中 | D94: 2021年
... B101: Vaccines | C101: 低 | D101: 2021年
A102: 材料科学 | B102: TEXTILE RESEARCH JOURNAL | C102: 中 | D102: 2023年
A103: 地球科学 | B103: GEOFLUIDS | C103: 中 | D103: 2023年
B104: FRONTIERS IN EARTH SCIENCE | C104: 低 | D104: 2023年
A105: 工程技术 | B105: JOURNAL OF INDUSTRIAL AND MANAGEMENT OPTIMIZATION | C105: 中 | D105: 2023年
B106: MATHEMATICAL PROBLEMS IN ENGINEERING | C106: 中 | D106: 2023年
B107: AEROSPACE | C107: 低 | D107: 2023年
B108: BUILDINGS | C108: 低 | D108: 2023年
B109: COMPUTATIONAL AND MATHEMATICAL METHODS IN MEDICINE | C109: 低 | D109: 2023年
B110: ENERGY REPORTS | C110: 低 | D110: 2023年
B111: MACHINES | C111: 低 | D111: 2023年
A112: 化学 | B112: INORGANIC AND NANO-METAL CHEMISTRY | C112: 高 | D112: 2023年
B113: JOURNAL OF STRUCTURAL CHEMISTRY | C113: 高 | D113: 2023年
B114: INTERNATIONAL JOURNAL OF ELECTROCHEMICAL SCIENCE | C114: 中 | D114: 2023年
A115: 环境科学与生态学 | B115: FRONTIERS IN ENVIRONMENTAL SCIENCE | C115: 低 | D115: 2023年
A116: 计算机科学 | B116: MICROPROCESSORS AND MICROSYSTEMS | C116: 高 | D116: 2023年
B117: INTERNATIONAL JOURNAL OF CONTROL AUTOMATION AND SYSTEMS | C117: 中 | D117: 2023年
B118: MOBILE INFORMATION SYSTEMS | C118: 低 | D118: 2023年
...
