Workbook

Sheet 26-01选拔
A1: 序号 | B1: 党支部名称 | C1: 姓名 | D1: 学号 | E1: 年级岗位 | F1: 学历 | G1: 职称/专业 | H1: 性别 | I1: 民族 | J1: 提出入党申请时间 | K1: 定为入党积极分子时间 | L1: 党课结业情况
A2: 1 | B2: 本科安全党支部 | C2: 王鑫垒 | D2: 2023114769 | E2: 本23 | F2: 高中 | G2: osu安全工程 | H2: 男 | I2: 汉族 | J2: 45170 | K2: 45366 | L2: =VLOOKUP(C2,[1]党课结业情况!B:C,2,FALSE) -> 2024-02期结业
A3: 2 | B3: 本科安全党支部 | C3: 代轩宇 | D3: 2023114775 | E3: 本23 | F3: 高中 | G3: osu安全工程 | H3: 男 | I3: 汉族 | J3: 45179 | K3: 45366 | L3: =VLOOKUP(C3,[1]党课结业情况!B:C,2,FALSE) -> 2024-02期结业
A4: 3 | B4: 本科安全党支部 | C4: 刘佳仪 | D4: 2023114805 | E4: 本23 | F4: 高中 | G4: osu安全工程 | H4: 女 | I4: 汉族 | J4: 45179 | K4: 45366 | L4: =VLOOKUP(C4,[1]党课结业情况!B:C,2,FALSE) -> 2024-02期结业
A5: 4 | B5: 本科安全党支部 | C5: 冷明洋 | D5: 2023114809 | E5: 本23 | F5: 高中 | G5: osu安全工程 | H5: 女 | I5: 汉族 | J5: 45182 | K5: 45550 | L5: =VLOOKUP(C5,[1]党课结业情况!B:C,2,FALSE) -> 2025-01期结业
A6: 5 | B6: 本科安全党支部 | C6: 曾建诚 | D6: 2024116652 | E6: 本24 | F6: 高中 | G6: osu安全工程 | H6: 男 | I6: 汉族 | J6: 45549 | K6: 45731 | L6: =VLOOKUP(C6,[1]党课结业情况!B:C,2,FALSE) -> 2025-02期结业
A7: 6 | B7: 本科安全党支部 | C7: 李尧 | D7: 2024116654 | E7: 本24 | F7: 高中 | G7: osu安全工程 | H7: 男 | I7: 汉族 | J7: 45550 | K7: 45731 | L7: =VLOOKUP(C7,[1]党课结业情况!B:C,2,FALSE) -> 2025-02期结业
A8: 7 | B8: 本科安全党支部 | C8: 向思远 | D8: 2024116658 | E8: 本24 | F8: 高中 | G8: osu安全工程 | H8: 男 | I8: 土家族 | J8: 45549 | K8: 45731 | L8: =VLOOKUP(C8,[1]党课结业情况!B:C,2,FALSE) -> 2025-02期结业
A9: 8 | B9: 本科安全党支部 | C9: 王少阳 | D9: 2024116676 | E9: 本24 | F9: 高中 | G9: osu安全工程 | H9: 男 | I9: 汉族 | J9: 45550 | K9: 45731 | L9: =VLOOKUP(C9,[1]党课结业情况!B:C,2,FALSE) -> 2025-02期结业
A10: 9 | B10: 本科安全党支部 | C10: 吴禹然 | D10: 2024116678 | E10: 本24 | F10: 高中 | G10: osu安全工程 | H10: 女 | I10: 苗族 | J10: 45550 | K10: 45731 | L10: =VLOOKUP(C10,[1]党课结业情况!B:C,2,FALSE) -> 2025-02期结业
A11: 10 | B11: 本科安全党支部 | C11: 曾沐 | D11: 2024116689 | E11: 本24 | F11: 高中 | G11: osu安全工程 | H11: 女 | I11: 汉族 | J11: 45550 | K11: 45731 | L11: =VLOOKUP(C11,[1]党课结业情况!B:C,2,FALSE) -> 2025-02期结业
A12: 11 | B12: 本科安全党支部 | C12: 胡天溢 | D12: 2024116705 | E12: 本24 | F12: 高中 | G12: osu安全工程 | H12: 男 | I12: 汉族 | J12: 45550 | K12: 45731 | L12: =VLOOKUP(C12,[1]党课结业情况!B:C,2,FALSE) -> 2025-02期结业
A13: 12 | B13: 本科测绘党支部 | C13: 张琬珺 | D13: 2023114316 | E13: 本23 | F13: 高中 | G13: 测绘工程(茅以升班) | H13: 女 | I13: 汉族 | J13: 45366 | K13: 45550 | L13: =VLOOKUP(C13,[1]党课结业情况!B:C,2,FALSE) -> 2025-01期结业
... A16: 15 | B16: 本科测绘党支部 | C16: 易梦婷 | D16: 2023114349 | E16: 本23 | F16: 高中 | G16: 测绘工程(茅以升班) | H16: 女 | I16: 汉族 | J16: 45366 | K16: 45550 | L16: =VLOOKUP(C16,[1]党课结业情况!B:C,2,FALSE) -> 2025-01期结业
A17: 16 | B17: 本科测绘党支部 | C17: 邓鸿宇 | D17: 2023114392 | E17: 本23 | F17: 高中 | G17: 遥感科学与技术 | H17: 男 | I17: 汉族 | J17: 45170 | K17: 45550 | L17: =VLOOKUP(C17,[1]党课结业情况!B:C,2,FALSE) -> 2025-01期结业
A18: 17 | B18: 本科测绘党支部 | C18: 高洁 | D18: 2023114407 | E18: 本23 | F18: 高中 | G18: 测绘工程 | H18: 女 | I18: 汉族 | J18: 45182 | K18: 45550 | L18: =VLOOKUP(C18,[1]党课结业情况!B:C,2,FALSE) -> 2025-02期结业
A19: 18 | B19: 本科测绘党支部 | C19: 孟祥鹏 | D19: 2023114449 | E19: 本23 | F19: 高中 | G19: 测绘（茅班） | H19: 男 | I19: 汉族 | J19: 45181 | K19: 45731 | L19: =VLOOKUP(C19,[1]党课结业情况!B:C,2,FALSE) -> 2025-02期结业
A20: 19 | B20: 本科测绘党支部 | C20: 凤乐雪 | D20: 2024114045 | E20: 本24 | F20: 高中 | G20: 测绘（茅班） | H20: 女 | I20: 汉族 | J20: 45550 | K20: 45731 | L20: =VLOOKUP(C20,[1]党课结业情况!B:C,2,FALSE) -> 2025-02期结业
A21: 20 | B21: 本科测绘党支部 | C21: 方兴未 | D21: 2024114120 | E21: 本24 | F21: 高中 | G21: 测绘（茅班） | H21: 男 | I21: 汉族 | J21: 45549 | K21: 45731 | L21: =VLOOKUP(C21,[1]党课结业情况!B:C,2,FALSE) -> 2025-02期结业
A22: 21 | B22: 本科测绘党支部 | C22: 戴毅辉 | D22: 2024114177 | E22: 本24 | F22: 高中 | G22: 测绘（茅班） | H22: 男 | I22: 汉族 | J22: 45549 | K22: 45731 | L22: =VLOOKUP(C22,[1]党课结业情况!B:C,2,FALSE) -> 2025-02期结业
A23: 22 | B23: 本科测绘党支部 | C23: 吴昀灿 | D23: 2024114184 | E23: 本24 | F23: 高中 | G23: 测绘类 | H23: 男 | I23: 汉族 | J23: 45550 | K23: 45731 | L23: =VLOOKUP(C23,[1]党课结业情况!B:C,2,FALSE) -> 2025-02期结业
A24: 23 | B24: 本科测绘党支部 | C24: 黄亮宇 | D24: 2024114229 | E24: 本24 | F24: 高中 | G24: 测绘（茅班） | H24: 男 | I24: 汉族 | J24: 45550 | K24: 45731 | L24: =VLOOKUP(C24,[1]党课结业情况!B:C,2,FALSE) -> 2025-02期结业
A25: 24 | B25: 本科地信党支部 | C25: 陈菲 | D25: 2023114275 | E25: 本23 | F25: 高中 | G25: 地理信息科学 | H25: 女 | I25: 汉族 | J25: 45184 | K25: 45731 | L25: =VLOOKUP(C25,[1]党课结业情况!B:C,2,FALSE) -> 2025-02期结业
A26: 25 | B26: 本科地信党支部 | C26: 白彬彬 | D26: 2023114292 | E26: 本23 | F26: 高中 | G26: 23级测绘类 | H26: 男 | I26: 汉族 | J26: 45183 | K26: 45366 | L26: =VLOOKUP(C26,[1]党课结业情况!B:C,2,FALSE) -> 2024-02期结业
A27: 26 | B27: 本科地信党支部 | C27: 吴南枚 | D27: 2023114305 | E27: 本23 | F27: 高中 | G27: 测绘工程(茅以升班) | H27: 女 | I27: 汉族 | J27: 45364 | K27: 45550 | L27: =VLOOKUP(C27,[1]党课结业情况!B:C,2,FALSE) -> 2025-01期结业
A28: 27 | B28: 本科地信党支部 | C28: 刘晓泽 | D28: 2023114314 | E28: 本23 | F28: 高中 | G28: 测绘（茅班） | H28: 男 | I28: 汉族 | J28: 45180 | K28: 45550 | L28: =VLOOKUP(C28,[1]党课结业情况!B:C,2,FALSE) -> 2025-01期结业
A29: 28 | B29: 本科地信党支部 | C29: 许硕洋 | D29: 2023114352 | E29: 本23 | F29: 高中 | G29: 23级测绘类 | H29: 男 | I29: 汉族 | J29: 45177 | K29: 45365 | L29: =VLOOKUP(C29,[1]党课结业情况!B:C,2,FALSE) -> 2024-02期结业
... A32: 31 | B32: 本科地信党支部 | C32: 肖斌 | D32: 2023114412 | E32: 本23 | F32: 高中 | G32: 地理信息科学 | H32: 男 | I32: 汉族 | J32: 45181 | K32: 45550 | L32: =VLOOKUP(C32,[1]党课结业情况!B:C,2,FALSE) -> 2025-01期结业
A33: 32 | B33: 本科地信党支部 | C33: 张弋歌 | D33: 2023114445 | E33: 本23 | F33: 高中 | G33: 地理信息科学 | H33: 男 | I33: 汉族 | J33: 45180 | K33: 45550 | L33: =VLOOKUP(C33,[1]党课结业情况!B:C,2,FALSE) -> 2025-01期结业
A34: 33 | B34: 本科地信党支部 | C34: 张琨琳 | D34: 2023114446 | E34: 本23 | F34: 高中 | G34: 23级测绘类 | H34: 女 | I34: 汉族 | J34: 45183 | K34: 45365 | L34: =VLOOKUP(C34,[1]党课结业情况!B:C,2,FALSE) -> 2024-02期结业
A35: 34 | B35: 本科地信党支部 | C35: 孟九环 | D35: 2023114733 | E35: 本23 | F35: 高中 | G35: 地理信息科学 | H35: 男 | I35: 汉族 | J35: 45176 | K35: 45366 | L35: 24年上半年环境结业
A36: 35 | B36: 本科地信党支部 | C36: 李柏亚 | D36: 2024114163 | E36: 本24 | F36: 高中 | G36: 测绘类 | H36: 女 | I36: 汉族 | J36: 45550 | K36: 45731 | L36: =VLOOKUP(C36,[1]党课结业情况!B:C,2,FALSE) -> 2025-02期结业
A37: 36 | B37: 本科地信党支部 | C37: 刘瑞焱 | D37: 2024114194 | E37: 本24 | F37: 高中 | G37: 测绘类 | H37: 女 | I37: 汉族 | J37: 45550 | K37: 45731 | L37: =VLOOKUP(C37,[1]党课结业情况!B:C,2,FALSE) -> 2025-02期结业
A38: 37 | B38: 本科地信党支部 | C38: 胡一承 | D38: 2024114207 | E38: 本24 | F38: 高中 | G38: 测绘类 | H38: 女 | I38: 汉族 | J38: 45550 | K38: 45731 | L38: =VLOOKUP(C38,[1]党课结业情况!B:C,2,FALSE) -> 2025-02期结业
A39: 38 | B39: 本科地信党支部 | C39: 周川皓 | D39: 2024114215 | E39: 本24 | F39: 高中 | G39: 测绘类 | H39: 男 | I39: 汉族 | J39: 45548 | K39: 45731 | L39: =VLOOKUP(C39,[1]党课结业情况!B:C,2,FALSE) -> 2025-02期结业
A40: 39 | B40: 本科地信党支部 | C40: 陈泽灿 | D40: 2024114330 | E40: 本24 | F40: 高中 | G40: 地质工程 | H40: 男 | I40: 汉族 | J40: 45548 | K40: 45731 | L40: =VLOOKUP(C40,[1]党课结业情况!B:C,2,FALSE) -> 2025-02期结业
A41: 40 | B41: 本科地质资勘党支部 | C41: 潘超 | D41: 2023114467 | E41: 本23 | F41: 高中 | G41: 地质工程 | H41: 男 | I41: 汉族 | J41: 45177 | K41: 45550 | L41: =VLOOKUP(C41,[1]党课结业情况!B:C,2,FALSE) -> 2025-01期结业
A42: 41 | B42: 本科地质资勘党支部 | C42: 顾恒 | D42: 2023114476 | E42: 本23 | F42: 高中 | G42: 地质工程 | H42: 男 | I42: 汉族 | J42: 45366 | K42: 45731 | L42: =VLOOKUP(C42,[1]党课结业情况!B:C,2,FALSE) -> 2025-02期结业
A43: 42 | B43: 本科地质资勘党支部 | C43: 刘旭 | D43: 2023114477 | E43: 本23 | F43: 高中 | G43: 地质工程 | H43: 男 | I43: 汉族 | J43: 45174 | K43: 45731 | L43: =VLOOKUP(C43,[1]党课结业情况!B:C,2,FALSE) -> 2025-02期结业
A44: 43 | B44: 本科地质资勘党支部 | C44: 陈梓涵 | D44: 2023114503 | E44: 本23 | F44: 高中 | G44: 地质工程 | H44: 男 | I44: 汉族 | J44: 45180 | K44: 45731 | L44: =VLOOKUP(C44,[1]党课结业情况!B:C,2,FALSE) -> 2025-02期结业
...
