Workbook

Sheet 26-01选拔
A1: 序号 | B1: 党支部名称 | C1: 姓名 | D1: 学号 | E1: 年级岗位 | F1: 学历 | G1: 职称/专业 | H1: 性别 | I1: 民族 | J1: 提出入党申请时间 | K1: 定为入党积极分子时间 | L1: 党课结业情况
A2: 1 | B2: 本科安全党支部 | C2: 王鑫垒 | D2: 2023114769 | E2: 本23 | F2: 高中 | G2: osu安全工程 | H2: 男 | I2: 汉族 | J2: 45170 | K2: 45366 | L2: =VLOOKUP(C2,[1]党课结业情况!B:C,2,FALSE) -> 2024-02期结业
A3: 2 | B3: 本科安全党支部 | C3: 代轩宇 | D3: 2023114775 | E3: 本23 | F3: 高中 | G3: osu安全工程 | H3: 男 | I3: 汉族 | J3: 45179 | K3: 45366 | L3: =VLOOKUP(C3,[1]党课结业情况!B:C,2,FALSE) -> 2024-02期结业
A4: 3 | B4: 本科安全党支部 | C4: 刘佳仪 | D4: 2023114805 | E4: 本23 | F4: 高中 | G4: osu安全工程 | H4: 女 | I4: 汉族 | J4: 45179 | K4: 45366 | L4: =VLOOKUP(C4,[1]党课结业情况!B:C,2,FALSE) -> 2024-02期结业
A5: 4 | B5: 本科安全党支部 | C5: 冷明洋 | D5: 2023114809 | E5: 本23 | F5: 高中 | G5: osu安全工程 | H5: 女 | I5: 汉族 | J5: 45182 | K5: 45550 | L5: =VLOOKUP(C5,[1]党课结业情况!B:C,2,FALSE) -> 2025-01期结业
A6: 5 | B6: 本科安全党支部 | C6: 曾建诚 | D6: 2024116652 | E6: 本24 | F6: 高中 | G6: osu安全工程 | H6: 男 | I6: 汉族 | J6: 45549 | K6: 45731 | L6: =VLOOKUP(C6,[1]党课结业情况!B:C,2,FALSE) -> 2025-02期结业
A7: 6 | B7: 本科安全党支部 | C7: 李尧 | D7: 2024116654 | E7: 本24 | F7: 高中 | G7: osu安全工程 | H7: 男 | I7: 汉族 | J7: 45550 | K7: 45731 | L7: =VLOOKUP(C7,[1]党课结业情况!B:C,2,FALSE) -> 2025-02期结业
A8: 7 | B8: 本科安全党支部 | C8: 向思远 | D8: 2024116658 | E8: 本24 | F8: 高中 | G8: osu安全工程 | H8: 男 | I8: 土家族 | J8: 45549 | K8: 45731 | L8: =VLOOKUP(C8,[1]党课结业情况!B:C,2,FALSE) -> 2025-02期结业
A9: 8 | B9: 本科安全党支部 | C9: 王少阳 | D9: 2024116676 | E9: 本24 | F9: 高中 | G9: osu安全工程 | H9: 男 | I9: 汉族 | J9: 45550 | K9: 45731 | L9: =VLOOKUP(C9,[1]党课结业情况!B:C,2,FALSE) -> 2025-02期结业
A10: 9 | B10: 本科安全党支部 | C10: 吴禹然 | D10: 2024116678 | E10: 本24 | F10: 高中 | G10: osu安全工程 | H10: 女 | I10: 苗族 | J10: 45550 | K10: 45731 | L10: =VLOOKUP(C10,[1]党课结业情况!B:C,2,FALSE) -> 2025-02期结业
A11: 10 | B11: 本科安全党支部 | C11: 曾沐 | D11: 2024116689 | E11: 本24 | F11: 高中 | G11: osu安全工程 | H11: 女 | I11: 汉族 | J11: 45550 | K11: 45731 | L11: =VLOOKUP(C11,[1]党课结业情况!B:C,2,FALSE) -> 2025-02期结业
A12: 11 | B12: 本科安全党支部 | C12: 胡天溢 | D12: 2024116705 | E12: 本24 | F12: 高中 | G12: osu安全工程 | H12: 男 | I12: 汉族 | J12: 45550 | K12: 45731 | L12: =VLOOKUP(C12,[1]党课结业情况!B:C,2,FALSE) -> 2025-02期结业
A13: 12 | B13: 本科测绘党支部 | C13: 张琬珺 | D13: 2023114316 | E13: 本23 | F13: 高中 | G13: 测绘工程(茅以升班) | H13: 女 | I13: 汉族 | J13: 45366 | K13: 45550 | L13: =VLOOKUP(C13,[1]党课结业情况!B:C,2,FALSE) -> 2025-01期结业
... A16: 15 | B16: 本科测绘党支部 | C16: 易梦婷 | D16: 2023114349 | E16: 本23 | F16: 高中 | G16: 测绘工程(茅以升班) | H16: 女 | I16: 汉族 | J16: 45366 | K16: 45550 | L16: =VLOOKUP(C16,[1]党课结业情况!B:C,2,FALSE) -> 2025-01期结业
A17: 16 | B17: 本科测绘党支部 | C17: 邓鸿宇 | D17: 2023114392 | E17: 本23 | F17: 高中 | G17: 遥感科学与技术 | H17: 男 | I17: 汉族 | J17: 45170 | K17: 45550 | L17: =VLOOKUP(C17,[1]党课结业情况!B:C,2,FALSE) -> 2025-01期结业
A18: 17 | B18: 本科测绘党支部 | C18: 高洁 | D18: 2023114407 | E18: 本23 | F18: 高中 | G18: 测绘工程 | H18: 女 | I18: 汉族 | J18: 45182 | K18: 45550 | L18: =VLOOKUP(C18,[1]党课结业情况!B:C,2,FALSE) -> 2025-02期结业
A19: 18 | B19: 本科测绘党支部 | C19: 孟祥鹏 | D19: 2023114449 | E19: 本23 | F19: 高中 | G19: 测绘（茅班） | H19: 男 | I19: 汉族 | J19: 45181 | K19: 45731 | L19: =VLOOKUP(C19,[1]党课结业情况!B:C,2,FALSE) -> 2025-02期结业
A20: 19 | B20: 本科测绘党支部 | C20: 凤乐雪 | D20: 2024114045 | E20: 本24 | F20: 高中 | G20: 测绘（茅班） | H20: 女 | I20: 汉族 | J20: 45550 | K20: 45731 | L20: =VLOOKUP(C20,[1]党课结业情况!B:C,2,FALSE) -> 2025-02期结业
A21: 20 | B21: 本科测绘党支部 | C21: 方兴未 | D21: 2024114120 | E21: 本24 | F21: 高中 | G21: 测绘（茅班） | H21: 男 | I21: 汉族 | J21: 45549 | K21: 45731 | L21: =VLOOKUP(C21,[1]党课结业情况!B:C,2,FALSE) -> 2025-02期结业
A22: 21 | B22: 本科测绘党支部 | C22: 戴毅辉 | D22: 2024114177 | E22: 本24 | F22: 高中 | G22: 测绘（茅班） | H22: 男 | I22: 汉族 | J22: 45549 | K22: 45731 | L22: =VLOOKUP(C22,[1]党课结业情况!B:C,2,FALSE) -> 2025-02期结业
A23: 22 | B23: 本科测绘党支部 | C23: 吴昀灿 | D23: 2024114184 | E23: 本24 | F23: 高中 | G23: 测绘类 | H23: 男 | I23: 汉族 | J23: 45550 | K23: 45731 | L23: =VLOOKUP(C23,[1]党课结业情况!B:C,2,FALSE) -> 2025-02期结业
A24: 23 | B24: 本科测绘党支部 | C24: 黄亮宇 | D24: 2024114229 | E24: 本24 | F24: 高中 | G24: 测绘（茅班） | H24: 男 | I24: 汉族 | J24: 45550 | K24: 45731 | L24: =VLOOKUP(C24,[1]党课结业情况!B:C,2,FALSE) -> 2025-02期结业
A25: 24 | B25: 本科地信党支部 | C25: 陈菲 | D25: 2023114275 | E25: 本23 | F25: 高中 | G25: 地理信息科学 | H25: 女 | I25: 汉族 | J25: 45184 | K25: 45731 | L25: =VLOOKUP(C25,[1]党课结业情况!B:C,2,FALSE) -> 2025-02期结业
A26: 25 | B26: 本科地信党支部 | C26: 白彬彬 | D26: 2023114292 | E26: 本23 | F26: 高中 | G26: 23级测绘类 | H26: 男 | I26: 汉族 | J26: 45183 | K26: 45366 | L26: =VLOOKUP(C26,[1]党课结业情况!B:C,2,FALSE) -> 2024-02期结业
A27: 26 | B27: 本科地信党支部 | C27: 吴南枚 | D27: 2023114305 | E27: 本23 | F27: 高中 | G27: 测绘工程(茅以升班) | H27: 女 | I27: 汉族 | J27: 45364 | K27: 45550 | L27: =VLOOKUP(C27,[1]党课结业情况!B:C,2,FALSE) -> 2025-01期结业
A28: 27 | B28: 本科地信党支部 | C28: 刘晓泽 | D28: 2023114314 | E28: 本23 | F28: 高中 | G28: 测绘（茅班） | H28: 男 | I28: 汉族 | J28: 45180 | K28: 45550 | L28: =VLOOKUP(C28,[1]党课结业情况!B:C,2,FALSE) -> 2025-01期结业
A29: 28 | B29: 本科地信党支部 | C29: 许硕洋 | D29: 2023114352 | E29: 本23 | F29: 高中 | G29: 23级测绘类 | H29: 男 | I29: 汉族 | J29: 45177 | K29: 45365 | L29: =VLOOKUP(C29,[1]党课结业情况!B:C,2,FALSE) -> 2024-02期结业
... A32: 31 | B32: 本科地信党支部 | C32: 肖斌 | D32: 2023114412 | E32: 本23 | F32: 高中 | G32: 地理信息科学 | H32: 男 | I32: 汉族 | J32: 45181 | K32: 45550 | L32: =VLOOKUP(C32,[1]党课结业情况!B:C,2,FALSE) -> 2025-01期结业
A33: 32 | B33: 本科地信党支部 | C33: 张弋歌 | D33: 2023114445 | E33: 本23 | F33: 高中 | G33: 地理信息科学 | H33: 男 | I33: 汉族 | J33: 45180 | K33: 45550 | L33: =VLOOKUP(C33,[1]党课结业情况!B:C,2,FALSE) -> 2025-01期结业
A34: 33 | B34: 本科地信党支部 | C34: 张琨琳 | D34: 2023114446 | E34: 本23 | F34: 高中 | G34: 23级测绘类 | H34: 女 | I34: 汉族 | J34: 45183 | K34: 45365 | L34: =VLOOKUP(C34,[1]党课结业情况!B:C,2,FALSE) -> 2024-02期结业
A35: 34 | B35: 本科地信党支部 | C35: 孟九环 | D35: 2023114733 | E35: 本23 | F35: 高中 | G35: 地理信息科学 | H35: 男 | I35: 汉族 | J35: 45176 | K35: 45366 | L35: 24年上半年环境结业
A36: 35 | B36: 本科地信党支部 | C36: 李柏亚 | D36: 2024114163 | E36: 本24 | F36: 高中 | G36: 测绘类 | H36: 女 | I36: 汉族 | J36: 45550 | K36: 45731 | L36: =VLOOKUP(C36,[1]党课结业情况!B:C,2,FALSE) -> 2025-02期结业
A37: 36 | B37: 本科地信党支部 | C37: 刘瑞焱 | D37: 2024114194 | E37: 本24 | F37: 高中 | G37: 测绘类 | H37: 女 | I37: 汉族 | J37: 45550 | K37: 45731 | L37: =VLOOKUP(C37,[1]党课结业情况!B:C,2,FALSE) -> 2025-02期结业
A38: 37 | B38: 本科地信党支部 | C38: 胡一承 | D38: 2024114207 | E38: 本24 | F38: 高中 | G38: 测绘类 | H38: 女 | I38: 汉族 | J38: 45550 | K38: 45731 | L38: =VLOOKUP(C38,[1]党课结业情况!B:C,2,FALSE) -> 2025-02期结业
A39: 38 | B39: 本科地信党支部 | C39: 周川皓 | D39: 2024114215 | E39: 本24 | F39: 高中 | G39: 测绘类 | H39: 男 | I39: 汉族 | J39: 45548 | K39: 45731 | L39: =VLOOKUP(C39,[1]党课结业情况!B:C,2,FALSE) -> 2025-02期结业
A40: 39 | B40: 本科地信党支部 | C40: 陈泽灿 | D40: 2024114330 | E40: 本24 | F40: 高中 | G40: 地质工程 | H40: 男 | I40: 汉族 | J40: 45548 | K40: 45731 | L40: =VLOOKUP(C40,[1]党课结业情况!B:C,2,FALSE) -> 2025-02期结业
A41: 40 | B41: 本科地质资勘党支部 | C41: 潘超 | D41: 2023114467 | E41: 本23 | F41: 高中 | G41: 地质工程 | H41: 男 | I41: 汉族 | J41: 45177 | K41: 45550 | L41: =VLOOKUP(C41,[1]党课结业情况!B:C,2,FALSE) -> 2025-01期结业
A42: 41 | B42: 本科地质资勘党支部 | C42: 顾恒 | D42: 2023114476 | E42: 本23 | F42: 高中 | G42: 地质工程 | H42: 男 | I42: 汉族 | J42: 45366 | K42: 45731 | L42: =VLOOKUP(C42,[1]党课结业情况!B:C,2,FALSE) -> 2025-02期结业
A43: 42 | B43: 本科地质资勘党支部 | C43: 刘旭 | D43: 2023114477 | E43: 本23 | F43: 高中 | G43: 地质工程 | H43: 男 | I43: 汉族 | J43: 45174 | K43: 45731 | L43: =VLOOKUP(C43,[1]党课结业情况!B:C,2,FALSE) -> 2025-02期结业
A44: 43 | B44: 本科地质资勘党支部 | C44: 陈梓涵 | D44: 2023114503 | E44: 本23 | F44: 高中 | G44: 地质工程 | H44: 男 | I44: 汉族 | J44: 45180 | K44: 45731 | L44: =VLOOKUP(C44,[1]党课结业情况!B:C,2,FALSE) -> 2025-02期结业
A45: 44 | B45: 本科地质资勘党支部 | C45: 刘雨晨 | D45: 2023114507 | E45: 本23 | F45: 高中 | G45: 地质工程 | H45: 男 | I45: 汉族 | J45: 45179 | K45: 45366 | L45: =VLOOKUP(C45,[1]党课结业情况!B:C,2,FALSE) -> 2024-02期结业
A46: 45 | B46: 本科地质资勘党支部 | C46: 代诗雯 | D46: 2023114514 | E46: 本23 | F46: 高中 | G46: 地质工程 | H46: 女 | I46: 汉族 | J46: 45174 | K46: 45550 | L46: =VLOOKUP(C46,[1]党课结业情况!B:C,2,FALSE) -> 2025-02期结业
A47: 46 | B47: 本科地质资勘党支部 | C47: 叶一玮 | D47: 2023114520 | E47: 本23 | F47: 高中 | G47: 地质工程 | H47: 男 | I47: 汉族 | J47: 45183 | K47: 45366 | L47: =VLOOKUP(C47,[1]党课结业情况!B:C,2,FALSE) -> 2025-01期结业
A48: 47 | B48: 本科地质资勘党支部 | C48: 韩佳伟 | D48: 2023114523 | E48: 本23 | F48: 高中 | G48: 地质工程 | H48: 男 | I48: 汉族 | J48: 45170 | K48: 45366 | L48: =VLOOKUP(C48,[1]党课结业情况!B:C,2,FALSE) -> 2025-02期结业
A49: 48 | B49: 本科地质资勘党支部 | C49: 李丛荻 | D49: 2023114534 | E49: 本23 | F49: 高中 | G49: 地质工程 | H49: 女 | I49: 汉族 | J49: 45183 | K49: 45366 | L49: =VLOOKUP(C49,[1]党课结业情况!B:C,2,FALSE) -> 2024-02期结业
A50: 49 | B50: 本科地质资勘党支部 | C50: 赵宇鹏 | D50: 2023114560 | E50: 本23 | F50: 高中 | G50: 地质工程 | H50: 男 | I50: 蒙古族 | J50: 45183 | K50: 45366 | L50: =VLOOKUP(C50,[1]党课结业情况!B:C,2,FALSE) -> 2025-01期结业
A51: 50 | B51: 本科地质资勘党支部 | C51: 陈靖林 | D51: 2023114563 | E51: 本23 | F51: 高中 | G51: 地质工程 | H51: 男 | I51: 汉族 | J51: 45181 | K51: 45550 | L51: =VLOOKUP(C51,[1]党课结业情况!B:C,2,FALSE) -> 2025-01期结业
A52: 51 | B52: 本科地质资勘党支部 | C52: 唐诚 | D52: 2023114567 | E52: 本23 | F52: 高中 | G52: 地质工程 | H52: 男 | I52: 汉族 | J52: 45179 | K52: 45366 | L52: =VLOOKUP(C52,[1]党课结业情况!B:C,2,FALSE) -> 2025-01期结业
A53: 52 | B53: 本科地质资勘党支部 | C53: 段琦森 | D53: 2023114569 | E53: 本23 | F53: 高中 | G53: 地质工程 | H53: 男 | I53: 汉族 | J53: 45181 | K53: 45366 | L53: =VLOOKUP(C53,[1]党课结业情况!B:C,2,FALSE) -> 2024-02期结业
A54: 53 | B54: 本科地质资勘党支部 | C54: 阿依希仁·图尔逊 | D54: 2023114574 | E54: 本23 | F54: 高中 | G54: 地质工程 | H54: 女 | I54: 柯尔克孜族 | J54: 45183 | K54: 45366 | L54: =VLOOKUP(C54,[1]党课结业情况!B:C,2,FALSE) -> 2024-02期结业
A55: 54 | B55: 本科地质资勘党支部 | C55: 袁晨 | D55: 2023114575 | E55: 本23 | F55: 高中 | G55: 地质工程 | H55: 男 | I55: 汉族 | J55: 45183 | K55: 45366 | L55: =VLOOKUP(C55,[1]党课结业情况!B:C,2,FALSE) -> 2025-01期结业
A56: 55 | B56: 本科地质资勘党支部 | C56: 杨浩天 | D56: 2023114580 | E56: 本23 | F56: 高中 | G56: 资源勘查工程 | H56: 男 | I56: 汉族 | J56: 45366 | K56: 45550 | L56: =VLOOKUP(C56,[1]党课结业情况!B:C,2,FALSE) -> 2025-01期结业
A57: 56 | B57: 本科地质资勘党支部 | C57: 岳士维 | D57: 2023114582 | E57: 本23 | F57: 高中 | G57: 资源勘查工程 | H57: 男 | I57: 汉族 | J57: 45179 | K57: 45366 | L57: =VLOOKUP(C57,[1]党课结业情况!B:C,2,FALSE) -> 2025-01期结业
A58: 57 | B58: 本科地质资勘党支部 | C58: 姬晓宇 | D58: 2023114594 | E58: 本23 | F58: 高中 | G58: 资源勘查工程 | H58: 男 | I58: 汉族 | J58: 45180 | K58: 45366 | L58: =VLOOKUP(C58,[1]党课结业情况!B:C,2,FALSE) -> 2024-02期结业
A59: 58 | B59: 本科地质资勘党支部 | C59: 徐林静 | D59: 2024114255 | E59: 本24 | F59: 高中 | G59: 地质工程 | H59: 女 | I59: 汉族 | J59: 45550 | K59: 45731 | L59: =VLOOKUP(C59,[1]党课结业情况!B:C,2,FALSE) -> 2025-02期结业
A60: 59 | B60: 本科地质资勘党支部 | C60: 寇佳淇 | D60: 2024114258 | E60: 本24 | F60: 高中 | G60: 地质工程 | H60: 女 | I60: 汉族 | J60: 45550 | K60: 45731 | L60: =VLOOKUP(C60,[1]党课结业情况!B:C,2,FALSE) -> 2025-02期结业
A61: 60 | B61: 本科地质资勘党支部 | C61: 张祥 | D61: 2024114264 | E61: 本24 | F61: 高中 | G61: 地质工程 | H61: 男 | I61: 汉族 | J61: 45550 | K61: 45731 | L61: =VLOOKUP(C61,[1]党课结业情况!B:C,2,FALSE) -> 2025-02期结业
A62: 61 | B62: 本科地质资勘党支部 | C62: 严博霖 | D62: 2024114283 | E62: 本24 | F62: 高中 | G62: 地质工程 | H62: 男 | I62: 汉族 | J62: 45549 | K62: 45731 | L62: =VLOOKUP(C62,[1]党课结业情况!B:C,2,FALSE) -> 2025-02期结业
A63: 62 | B63: 本科地质资勘党支部 | C63: 王浩旭 | D63: 2024114307 | E63: 本24 | F63: 高中 | G63: 地质工程 | H63: 男 | I63: 汉族 | J63: 45550 | K63: 45731 | L63: =VLOOKUP(C63,[1]党课结业情况!B:C,2,FALSE) -> 2025-02期结业
... A74: 73 | B74: 本科消防党支部 | C74: 李文科 | D74: 2023114677 | E74: 本23 | F74: 高中 | G74: 消防工程 | H74: 男 | I74: 汉族 | J74: 45182 | K74: 45366 | L74: =VLOOKUP(C74,[1]党课结业情况!B:C,2,FALSE) -> 2025-01期结业
A75: 74 | B75: 本科消防党支部 | C75: 石旭阳 | D75: 2023114682 | E75: 本23 | F75: 高中 | G75: 消防工程 | H75: 男 | I75: 汉族 | J75: 45363 | K75: 45550 | L75: =VLOOKUP(C75,[1]党课结业情况!B:C,2,FALSE) -> 2025-02期结业
A76: 75 | B76: 本科消防党支部 | C76: 文博世 | D76: 2023114697 | E76: 本23 | F76: 高中 | G76: 消防工程 | H76: 男 | I76: 汉族 | J76: 45548 | K76: 45731 | L76: =VLOOKUP(C76,[1]党课结业情况!B:C,2,FALSE) -> 2025-02期结业
A77: 76 | B77: 本科消防党支部 | C77: 马逸铭 | D77: 2023114705 | E77: 本23 | F77: 高中 | G77: 消防工程 | H77: 男 | I77: 汉族 | J77: 45175 | K77: 45366 | L77: =VLOOKUP(C77,[1]党课结业情况!B:C,2,FALSE) -> 2025-01期结业
A78: 77 | B78: 本科消防党支部 | C78: 战永钰 | D78: 2023114711 | E78: 本23 | F78: 高中 | G78: 消防工程 | H78: 男 | I78: 汉族 | J78: 45176 | K78: 45366 | L78: =VLOOKUP(C78,[1]党课结业情况!B:C,2,FALSE) -> 2025-01期结业
A79: 78 | B79: 本科消防党支部 | C79: 付浩林 | D79: 2023114722 | E79: 本23 | F79: 高中 | G79: 消防工程 | H79: 男 | I79: 汉族 | J79: 45180 | K79: 45366 | L79: =VLOOKUP(C79,[1]党课结业情况!B:C,2,FALSE) -> 2024-02期结业
A80: 79 | B80: 本科消防党支部 | C80: 张晏萍 | D80: 2024114386 | E80: 本24 | F80: 高中 | G80: 消防工程 | H80: 女 | I80: 汉族 | J80: 45548 | K80: 45731 | L80: =VLOOKUP(C80,[1]党课结业情况!B:C,2,FALSE) -> 2025-02期结业
A81: 80 | B81: 本科消防党支部 | C81: 张滢昕 | D81: 2024114391 | E81: 本24 | F81: 高中 | G81: 消防工程 | H81: 女 | I81: 汉族 | J81: 45548 | K81: 45731 | L81: =VLOOKUP(C81,[1]党课结业情况!B:C,2,FALSE) -> 2025-02期结业
A82: 81 | B82: 本科消防党支部 | C82: 廖铮 | D82: 2024114406 | E82: 本24 | F82: 高中 | G82: 消防工程 | H82: 男 | I82: 汉族 | J82: 45548 | K82: 45731 | L82: =VLOOKUP(C82,[1]党课结业情况!B:C,2,FALSE) -> 2025-02期结业
A83: 82 | B83: 本科消防党支部 | C83: 毛烁博 | D83: 2024114430 | E83: 本24 | F83: 高中 | G83: 消防工程 | H83: 男 | I83: 汉族 | J83: 45549 | K83: 45731 | L83: =VLOOKUP(C83,[1]党课结业情况!B:C,2,FALSE) -> 2025-02期结业
A84: 83 | B84: 本科消防党支部 | C84: 屈梦枭 | D84: 2024114433 | E84: 本24 | F84: 高中 | G84: 消防工程 | H84: 男 | I84: 汉族 | J84: 45550 | K84: 45731 | L84: =VLOOKUP(C84,[1]党课结业情况!B:C,2,FALSE) -> 2025-02期结业
A85: 84 | B85: 本科遥感党支部 | C85: 张紫宣 | D85: 2023114282 | E85: 本23 | F85: 高中 | G85: 23级测绘类 | H85: 男 | I85: 汉族 | J85: 45173 | K85: 45366 | L85: =VLOOKUP(C85,[1]党课结业情况!B:C,2,FALSE) -> 2025-01期结业
A86: 85 | B86: 本科遥感党支部 | C86: 于芳懿 | D86: 2023114283 | E86: 本23 | F86: 高中 | G86: 遥感科学与技术 | H86: 女 | I86: 汉族 | J86: 45184 | K86: 45731 | L86: =VLOOKUP(C86,[1]党课结业情况!B:C,2,FALSE) -> 2025-02期结业
A87: 86 | B87: 本科遥感党支部 | C87: 罗家伟 | D87: 2023114294 | E87: 本23 | F87: 高中 | G87: 遥感科学与技术 | H87: 男 | I87: 汉族 | J87: 45182 | K87: 45731 | L87: =VLOOKUP(C87,[1]党课结业情况!B:C,2,FALSE) -> 2025-02期结业
... A94: 93 | B94: 本科遥感党支部 | C94: 许嘉宇 | D94: 2023114434 | E94: 本23 | F94: 高中 | G94: 遥感科学与技术 | H94: 男 | I94: 汉族 | J94: 45549 | K94: 45731 | L94: =VLOOKUP(C94,[1]党课结业情况!B:C,2,FALSE) -> 2025-02期结业
A95: 94 | B95: 本科遥感党支部 | C95: 张义伟 | D95: 2023114452 | E95: 本23 | F95: 高中 | G95: 遥感科学与技术 | H95: 男 | I95: 汉族 | J95: 45356 | K95: 45550 | L95: =VLOOKUP(C95,[1]党课结业情况!B:C,2,FALSE) -> 2025-01期结业
A96: 95 | B96: 本科遥感党支部 | C96: 彭思琪 | D96: 2023114464 | E96: 本23 | F96: 高中 | G96: 遥感科学与技术 | H96: 女 | I96: 汉族 | J96: 45181 | K96: 45550 | L96: =VLOOKUP(C96,[1]党课结业情况!B:C,2,FALSE) -> 2025-02期结业
A97: 96 | B97: 本科遥感党支部 | C97: 姜成浩 | D97: 2023114559 | E97: 本23 | F97: 高中 | G97: 遥感科学与技术 | H97: 男 | I97: 汉族 | J97: 45363 | K97: 45731 | L97: =VLOOKUP(C97,[1]党课结业情况!B:C,2,FALSE) -> 2025-02期结业
A98: 97 | B98: 本科遥感党支部 | C98: 马绍箐 | D98: 2024114052 | E98: 本24 | F98: 高中 | G98: 测绘类 | H98: 男 | I98: 汉族 | J98: 45550 | K98: 45731 | L98: =VLOOKUP(C98,[1]党课结业情况!B:C,2,FALSE) -> 2025-02期结业
A99: 98 | B99: 本科遥感党支部 | C99: 孙悦涵 | D99: 2024114064 | E99: 本24 | F99: 高中 | G99: 测绘类 | H99: 女 | I99: 汉族 | J99: 45550 | K99: 45731 | L99: =VLOOKUP(C99,[1]党课结业情况!B:C,2,FALSE) -> 2025-02期结业
A100: 99 | B100: 本科遥感党支部 | C100: 张家佳 | D100: 2024114078 | E100: 本24 | F100: 高中 | G100: 测绘类 | H100: 女 | I100: 汉族 | J100: 45549 | K100: 45731 | L100: =VLOOKUP(C100,[1]党课结业情况!B:C,2,FALSE) -> 2025-02期结业
A101: 100 | B101: 本科遥感党支部 | C101: 曾金垒 | D101: 2024114086 | E101: 本24 | F101: 高中 | G101: 测绘类 | H101: 男 | I101: 汉族 | J101: 45549 | K101: 45731 | L101: =VLOOKUP(C101,[1]党课结业情况!B:C,2,FALSE) -> 2025-02期结业
A102: 101 | B102: 本科遥感党支部 | C102: 曹世忆 | D102: 2024114115 | E102: 本24 | F102: 高中 | G102: 测绘类 | H102: 男 | I102: 汉族 | J102: 45550 | K102: 45731 | L102: =VLOOKUP(C102,[1]党课结业情况!B:C,2,FALSE) -> 2025-02期结业
A103: 102 | B103: 本科遥感党支部 | C103: 李歆玥 | D103: 2024114119 | E103: 本24 | F103: 高中 | G103: 测绘（茅班） | H103: 女 | I103: 汉族 | J103: 45549 | K103: 45731 | L103: =VLOOKUP(C103,[1]党课结业情况!B:C,2,FALSE) -> 2025-02期结业
A104: 103 | B104: 本科遥感党支部 | C104: 李旭阳 | D104: 2024114159 | E104: 本24 | F104: 高中 | G104: 测绘类 | H104: 男 | I104: 汉族 | J104: 45550 | K104: 45731 | L104: =VLOOKUP(C104,[1]党课结业情况!B:C,2,FALSE) -> 2025-02期结业
A105: 104 | B105: 本科遥感党支部 | C105: 苗子轩 | D105: 2024114171 | E105: 本24 | F105: 高中 | G105: 测绘类 | H105: 男 | I105: 汉族 | J105: 45548 | K105: 45731 | L105: =VLOOKUP(C105,[1]党课结业情况!B:C,2,FALSE) -> 2025-02期结业
A106: 105 | B106: 本科遥感党支部 | C106: 田华 | D106: 2024114182 | E106: 本24 | F106: 高中 | G106: 测绘类 | H106: 男 | I106: 土家族 | J106: 45550 | K106: 45731 | L106: =VLOOKUP(C106,[1]党课结业情况!B:C,2,FALSE) -> 2025-02期结业
A107: 106 | B107: 本科遥感党支部 | C107: 刘盛同 | D107: 2024114202 | E107: 本24 | F107: 高中 | G107: 测绘类 | H107: 男 | I107: 汉族 | J107: 45550 | K107: 45731 | L107: =VLOOKUP(C107,[1]党课结业情况!B:C,2,FALSE) -> 2025-02期结业
... A130: 129 | B130: 研24级测绘第一党支部 | C130: 文蕾 | D130: 2024201247 | E130: 研24 | F130: 本科 | G130: 测绘科学与技术 | H130: 女 | I130: 汉族 | J130: 45545 | K130: 45731 | L130: =VLOOKUP(C130,[1]党课结业情况!B:C,2,FALSE) -> 2025-02期结业
A131: 130 | B131: 研24级测绘第一党支部 | C131: 孙延河 | D131: 2024201262 | E131: 研24 | F131: 本科 | G131: 测绘科学与技术 | H131: 男 | I131: 汉族 | J131: 44639 | K131: 45030 | L131: 45052
A132: 131 | B132: 研24级地质第二党支部 | C132: 肖江 | D132: 2024211812 | E132: 研24 | F132: 本科 | G132: 地质工程 | H132: 男 | I132: 汉族 | J132: 45548 | K132: 45731 | L132: =VLOOKUP(C132,[1]党课结业情况!B:C,2,FALSE) -> 2025-02期结业
A133: 132 | B133: 研24级地质第二党支部 | C133: 张璐铭 | D133: 2024211813 | E133: 研24 | F133: 本科 | G133: 地质工程 | H133: 男 | I133: 汉族 | J133: 45549 | K133: 45731 | L133: =VLOOKUP(C133,[1]党课结业情况!B:C,2,FALSE) -> 2025-02期结业
A134: 133 | B134: 研24级地质第二党支部 | C134: 王天昊 | D134: 2024211834 | E134: 研24 | F134: 本科 | G134: 地质工程 | H134: 男 | I134: 汉族 | J134: 45549 | K134: 45731 | L134: =VLOOKUP(C134,[1]党课结业情况!B:C,2,FALSE) -> 2025-02期结业
A135: 134 | B135: 研24级地质第二党支部 | C135: 张沥 | D135: 2024211836 | E135: 研24 | F135: 本科 | G135: 地质工程 | H135: 男 | I135: 汉族 | J135: 45549 | K135: 45731 | L135: =VLOOKUP(C135,[1]党课结业情况!B:C,2,FALSE) -> 2025-02期结业
A136: 135 | B136: 研24级地质第二党支部 | C136: 汪瑾奇 | D136: 2024211839 | E136: 研24 | F136: 本科 | G136: 地质工程 | H136: 男 | I136: 汉族 | J136: 44105 | K136: 44440 | L136: =VLOOKUP(C136,[1]党课结业情况!B:C,2,FALSE) -> 2025-02期结业
A137: 136 | B137: 研24级地质第二党支部 | C137: 闫彦君 | D137: 2024211843 | E137: 研24 | F137: 本科 | G137: 地质工程 | H137: 女 | I137: 汉族 | J137: 43709 | K137: 44136 | L137: =VLOOKUP(C137,[1]党课结业情况!B:C,2,FALSE) -> 2025-02期结业
A138: 137 | B138: 研24级地质第二党支部 | C138: 杨柳 | D138: 2024211845 | E138: 研24 | F138: 本科 | G138: 地质工程 | H138: 男 | I138: 汉族 | J138: 45550 | K138: 45731 | L138: =VLOOKUP(C138,[1]党课结业情况!B:C,2,FALSE) -> 2025-02期结业
A139: 138 | B139: 研24级地质第二党支部 | C139: 范华倩 | D139: 2024211849 | E139: 研24 | F139: 本科 | G139: 地质工程 | H139: 女 | I139: 汉族 | J139: 45550 | K139: 45731 | L139: =VLOOKUP(C139,[1]党课结业情况!B:C,2,FALSE) -> 2025-02期结业
A140: 139 | B140: 研25安全党支部 | C140: 张泽 | D140: 2025211775 | E140: 研25 | F140: 本科 | G140: 安全工程 | H140: 男 | I140: 白族 | J140: 44477 | K140: 44856 | L140: =VLOOKUP(C140,[1]党课结业情况!B:C,2,FALSE) -> 2025-02期结业
A141: 140 | B141: 研25安全党支部 | C141: 侯雨鑫 | D141: 2025211787 | E141: 研25 | F141: 本科 | G141: 班长/安全工程 | H141: 男 | I141: 汉族 | J141: 44088 | K141: 44851 | L141: =VLOOKUP(C141,[1]党课结业情况!B:C,2,FALSE) -> 2023-01期结业
A142: 141 | B142: 研25级测绘第二党支部 | C142: 尹亮 | D142: 2025201259 | E142: 研25 | F142: 本科 | G142: 测绘科学与技术 | H142: 男 | I142: 汉族 | J142: 44631 | K142: 45029 | L142: =VLOOKUP(C142,[1]党课结业情况!B:C,2,FALSE) -> 2024-01期结业
...
