Workbook

Sheet 毕业设计评分表
A1: 西南交通大学
A2: 本科毕业设计（论文）评分表
A3: 学院 | B3: 计算机与人工智能学院 | E3: 专业 | F3: 软件工程
A4: 学生学号 | B4: 201911xxxx | D4: 学生姓名 | E4: 李四 | F4: 指导教师姓名 | G4: 陶宏才
A5: 题目 | B5: XXX工业软件的设计与实现
A6: 评分项目 | B6: 评价指标 | C6: 评议要素 | F6: 参考标准分 | G6: 实际得分
A7: 质量评分(80) | B7: 选题目的 及意义 (10) | C7: 1.符合专业培养目标，面向专业领域理论或工程实际问题。 | F7: 5 | G7: 4.5
C8: 2.有一定的深度和难度，体现对知识综合运用能力的基本要求，具有一定的理论意义或实用价值。 | F8: 5 | G8: 4.4
B9: 写作和学术规范 (15) | C9: 3. 中外文表达语句通顺，用词严谨，文字流畅。 | F9: 5 | G9: 4
C10: 4. 书写排版规范，图表、图纸、公式符号、缩略词等符合通行科技文献要求。 | F10: 5 | G10: 4
C11: 5. 资料引证、参考文献等符合学术规范和知识产权相关规定。 | F11: 5 | G11: 4.4
B12: 逻辑构建 (15) | C12: 6. 技术路线合理、支撑体系完整，方案设计周密，工作流程清晰。 | F12: 5 | G12: 4
C13: 7. 层次分明，结构严谨，逻辑清晰，理论分析与计算正确，实验数据准确可靠。 | F13: 10 | G13: 9
B14: 专业能力 (40) | C14: 8. 综合国内外文献，追踪本领域研究现状或行业动态，能有效支撑选题。 | F14: 5 | G14: 4.8
C15: 9. 针对复杂工程问题或相关专业问题设计解决方案，体现一定创新意识，并考虑社会、健康、安全、法律、文化以及环境等因素的影响。 | F15: 10 | G15: 8.7
C16: 10. 应用相关领域的基础理论、专业知识和现代工具进行研究，得到合理有效的结论，体现综合应用知识能力。 | F16: 15 | G16: 13.3
C17: 11. 通过自主学习获取新知识和方法，体现适应发展的能力。 | F17: 5 | G17: 4.2
C18: 12. 在研究中阐明新观点或体现经典理论创新性应用。 | F18: 5 | G18: 4.1
A19: 答辩 评分 (10) | B19: 答辩陈述 (5) | C19: 13. 演示文档完备，熟练掌握设计（论文）内容，讲解流畅，准确表达自己的观点。 | F19: 5 | G19: 4.4
B20: 回答问题 (5) | C20: 14. 回答问题的观点和概念正确、清晰。 | F20: 5 | G20: 4.4
A21: 过程 评分 (10) | B21: 开题报告 (5) | C21: 15. 开题报告任务明确清晰、饱满。 | F21: 5 | G21: 5
B22: 中期检查 (5) | C22: 16. 工作进度和工作态度。 | F22: 5 | G22: 5
A23: 总计得分 | F23: =SUM(F7:F22) -> 100 | G23: =ROUNDUP(SUM(G7:G22), 0) -> 89
A24: 备注：各学院可根据实际情况适当调整参考标准分值。
A25: 答辩评审组组长签章：
A26: 年 月 日

Sheet 毕业要求评价表
A1: 西南交通大学
A2: 软件工程专业毕业设计支持的毕业要求评价表
A3: 学院 | B3: 计算机与人工智能学院 | F3: 专业 | G3: =毕业设计评分表!F3 -> 软件工程
A4: 学生学号 | B4: =毕业设计评分表!B4 -> 201911xxxx | D4: 学生姓名 | E4: =毕业设计评分表!E4 -> 李四 | F4: 指导教师姓名 | G4: =毕业设计评分表!G4 -> 陶宏才
A5: 毕业设计题目 | B5: =毕业设计评分表!B5 -> XXX工业软件的设计与实现
A6: 序号 | B6: 毕业设计支持的毕业要求指标点 | F6: 对应评分表各项占比构成 | G6: 各项满分值 | H6: 实得分
A7: =ROW()-6 -> 1 | B7: 2.3 能够通过查阅和分析文献，为软件系统及工程的问题求解寻找方案，并认识到所求解的问题具有多种可能的解决途径 | F7: 1(15%)+2(10%)+6(20%)+8+15(10%)+16(50%) | G7: =毕业设计评分表!F7*0.15+毕业设计评分表!F8*0.1+毕业设计评分表!F12*0.2+毕业设计评分表!F14+毕业设计评分表!F21*0.1+毕业设计评分表!F22*0.5 -> 10.25 | H7: =ROUNDUP(毕业设计评分表!G7*0.15+毕业设计评分表!G8*0.1+毕业设计评分表!G12*0.2+毕业设计评分表!G14+毕业设计评分表!G21*0.1+毕业设计评分表!G22*0.5, 1) -> 9.8
A8: =ROW()-6 -> 2 | B8: 3.2 能够针对特定需求确定目标，设计软件系统框架、组成模块，合理组织/存储数据，基于适当的模型进行软件系统设计与实现，并体现一定的创新意识 | F8: 1(15%)+2(20%)+6(20%)+9(25%)+12+15(40%)+16(50%) | G8: =毕业设计评分表!F7*0.15+毕业设计评分表!F8*0.2+毕业设计评分表!F12*0.2+毕业设计评分表!F15*0.25+毕业设计评分表!F18+毕业设计评分表!F21*0.4+毕业设计评分表!F22*0.5 -> 14.75 | H8: =ROUNDUP(毕业设计评分表!G7*0.15+毕业设计评分表!G8*0.2+毕业设计评分表!G12*0.2+毕业设计评分表!G15*0.25+毕业设计评分表!G18+毕业设计评分表!G21*0.4+毕业设计评分表!G22*0.5, 1) -> 13.2
A9: =ROW()-6 -> 3 | B9: 3.3 能够在解决方案中从技术、非技术（如经济、社会、健康、安全、法律、文化以及环境等）角度，对设计方案的可行性进行评价和分析 | F9: 1(15%)+2(10%)+6(20%)+9(25%)+10(25%) | G9: =毕业设计评分表!F7*0.15+毕业设计评分表!F8*0.1+毕业设计评分表!F12*0.2+毕业设计评分表!F15*0.25+毕业设计评分表!F16*0.25 -> 8.5 | H9: =ROUNDUP(毕业设计评分表!G7*0.15+毕业设计评分表!G8*0.1+毕业设计评分表!G12*0.2+毕业设计评分表!G15*0.25+毕业设计评分表!G16*0.25, 1) -> 7.5
A10: =ROW()-6 -> 4 | B10: 4.3 能够采用科学方法对软件系统及工程问题进行研究，通过实验对比、文献综合、归纳整理得到合理有效结论，并对其进行规范表述 | F10: 1(15%)+2(10%)+6(10%)+7(50%)+10(50%) | G10: =毕业设计评分表!F7*0.15+毕业设计评分表!F8*0.1+毕业设计评分表!F12*0.1+毕业设计评分表!F13*0.5+毕业设计评分表!F16*0.5 -> 14.25 | H10: =ROUNDUP(毕业设计评分表!G7*0.15+毕业设计评分表!G8*0.1+毕业设计评分表!G12*0.1+毕业设计评分表!G13*0.5+毕业设计评分表!G16*0.5, 1) -> 12.7
A11: =ROW()-6 -> 5 | B11: 5.3 能够利用开发环境和工具，对软件系统及工程问题进行模拟仿真和数据分析 | F11: 1(10%)+2(10%)+6(10%)+7(50%) | G11: =毕业设计评分表!F7*0.1+毕业设计评分表!F8*0.1+毕业设计评分表!F12*0.1+毕业设计评分表!F13*0.5 -> 6.5 | H11: =ROUNDUP(毕业设计评分表!G7*0.1+毕业设计评分表!G8*0.1+毕业设计评分表!G12*0.1+毕业设计评分表!G13*0.5, 1) -> 5.8
A12: =ROW()-6 -> 6 | B12: 6.2 能识别、分析、评价特定需求的软件系统在设计和实现中对社会、健康、安全、法律以及文化的影响，并明确自己应承担的责任 | F12: 1(10%)+2(20%)+6(10%)+9(25%) | G12: =毕业设计评分表!F7*0.1+毕业设计评分表!F8*0.2+毕业设计评分表!F12*0.1+毕业设计评分表!F15*0.25 -> 4.5 | H12: =ROUNDUP(毕业设计评分表!G7*0.1+毕业设计评分表!G8*0.2+毕业设计评分表!G12*0.1+毕业设计评分表!G15*0.25, 1) -> 4
A13: =ROW()-6 -> 7 | B13: 7.2 能够评价软件系统设计、开发、运行和维护对环境保护和社会持续发展的影响 | F13: 1(10%)+2(20%)+6(10%)+9(25%) | G13: =毕业设计评分表!F7*0.1+毕业设计评分表!F8*0.2+毕业设计评分表!F12*0.1+毕业设计评分表!F15*0.25 -> 4.5 | H13: =ROUNDUP(毕业设计评分表!G7*0.1+毕业设计评分表!G8*0.2+毕业设计评分表!G12*0.1+毕业设计评分表!G15*0.25, 1) -> 4
A14: =ROW()-6 -> 8 | B14: 10.1 能够通过口头、文稿、图表等方式、陈述和表达自己的观点，能够就软件系统及工程问题与同行和相关人员进行交流 | F14: 13 | G14: =毕业设计评分表!F19 -> 5 | H14: =ROUNDUP(毕业设计评分表!G19, 1) -> 4.4
A15: =ROW()-6 -> 9 | B15: 10.2 能够根据对工作内容和过程的记录与整理，撰写技术报告和设计文稿、陈述发言或回应质询 | F15: 3+4+5+14 | G15: =毕业设计评分表!F9+毕业设计评分表!F10+毕业设计评分表!F11+毕业设计评分表!F20 -> 20 | H15: =ROUNDUP(毕业设计评分表!G9+毕业设计评分表!G10+毕业设计评分表!G11+毕业设计评分表!G20, 1) -> 16.8
A16: =ROW()-6 -> 10 | B16: 11.1 了解软件系统工程管理原理与经济决策方法，理解软件系统项目的组织模式和实施过程，掌握项目管理原理和内容 | F16: 1(10%)+10(25%) | G16: =毕业设计评分表!F7*0.1+毕业设计评分表!F16*0.25 -> 4.25 | H16: =ROUNDUP(毕业设计评分表!G7*0.1+毕业设计评分表!G16*0.25, 1) -> 3.8
A17: =ROW()-6 -> 11 | B17: 12.1 正确认识自主学习的必要性和重要性，认识到本专业是一个发展迅速的学科，具有自主学习和终身学习的意识 | F17: 11(50%) | G17: =毕业设计评分表!F17*0.5 -> 2.5 | H17: =ROUNDUP(毕业设计评分表!G17*0.5, 1) -> 2.1
A18: =ROW()-6 -> 12 | B18: 12.2 具备自主学习新技术和新方法的能力，能够通过学习不断提高、适应信息技术和职业的发展 | F18: 11(50%)+15(50%) | G18: =毕业设计评分表!F17*0.5+毕业设计评分表!F21*0.5 -> 5 | H18: =ROUNDUP(毕业设计评分表!G17*0.5+毕业设计评分表!G21*0.5, 1) -> 4.6
A19: 总计得分 | G19: =SUM(G7:G18) -> 100 | H19: =毕业设计评分表!G23 -> 89
A20: 备注 | B20: 软件工程专业必填！
A21: 答辩评审组组长签章
A22: 年 月 日

Sheet 横向汇总
A1: 学生学号 | B1: 学生姓名 | C1: 2.3 | D1: 3.3 | E1: 3.4 | F1: 4.3 | G1: 5.3 | H1: 6.2 | I1: 7.2 | J1: 10.1 | K1: 10.2 | L1: 11.1 | M1: 12.1 | N1: 12.2 | O1: 总计得分
A2: =毕业设计评分表!B4 -> 201911xxxx | B2: =毕业设计评分表!E4 -> 李四 | C2: =毕业要求评价表!H7 -> 9.8 | D2: =毕业要求评价表!H8 -> 13.2 | E2: =毕业要求评价表!H9 -> 7.5 | F2: =毕业要求评价表!H10 -> 12.7 | G2: =毕业要求评价表!H11 -> 5.8 | H2: =毕业要求评价表!H12 -> 4 | I2: =毕业要求评价表!H13 -> 4 | J2: =毕业要求评价表!H14 -> 4.4 | K2: =毕业要求评价表!H15 -> 16.8 | L2: =毕业要求评价表!H16 -> 3.8 | M2: =毕业要求评价表!H17 -> 2.1 | N2: =毕业要求评价表!H18 -> 4.6 | O2: =毕业设计评分表!G23 -> 89
